BEGIN:VCALENDAR
VERSION:2.0
PRODID:-//Gods Gemeente Ezechiël Zoetermeer - ECPv6.12.0.1//NONSGML v1.0//EN
CALSCALE:GREGORIAN
METHOD:PUBLISH
X-WR-CALNAME:Gods Gemeente Ezechiël Zoetermeer
X-ORIGINAL-URL:https://www.ezechiel.org
X-WR-CALDESC:Evenementen voor Gods Gemeente Ezechiël Zoetermeer
REFRESH-INTERVAL;VALUE=DURATION:PT1H
X-Robots-Tag:noindex
X-PUBLISHED-TTL:PT1H
BEGIN:VTIMEZONE
TZID:Europe/Amsterdam
BEGIN:DAYLIGHT
TZOFFSETFROM:+0100
TZOFFSETTO:+0200
TZNAME:CEST
DTSTART:20230326T010000
END:DAYLIGHT
BEGIN:STANDARD
TZOFFSETFROM:+0200
TZOFFSETTO:+0100
TZNAME:CET
DTSTART:20231029T010000
END:STANDARD
BEGIN:DAYLIGHT
TZOFFSETFROM:+0100
TZOFFSETTO:+0200
TZNAME:CEST
DTSTART:20240331T010000
END:DAYLIGHT
BEGIN:STANDARD
TZOFFSETFROM:+0200
TZOFFSETTO:+0100
TZNAME:CET
DTSTART:20241027T010000
END:STANDARD
BEGIN:DAYLIGHT
TZOFFSETFROM:+0100
TZOFFSETTO:+0200
TZNAME:CEST
DTSTART:20250330T010000
END:DAYLIGHT
BEGIN:STANDARD
TZOFFSETFROM:+0200
TZOFFSETTO:+0100
TZNAME:CET
DTSTART:20251026T010000
END:STANDARD
BEGIN:DAYLIGHT
TZOFFSETFROM:+0100
TZOFFSETTO:+0200
TZNAME:CEST
DTSTART:20260329T010000
END:DAYLIGHT
BEGIN:STANDARD
TZOFFSETFROM:+0200
TZOFFSETTO:+0100
TZNAME:CET
DTSTART:20261025T010000
END:STANDARD
END:VTIMEZONE
BEGIN:VEVENT
DTSTART;TZID=Europe/Amsterdam:20260419T103000
DTEND;TZID=Europe/Amsterdam:20260419T123000
DTSTAMP:20260422T121439
CREATED:20260110T202336Z
LAST-MODIFIED:20260328T214001Z
UID:10001353-1776594600-1776601800@www.ezechiel.org
SUMMARY:Zondagse samenkomst: Pastor Theo van Heijdoorn en/of gastsprekers.
DESCRIPTION:Spreker: Pastor Theo van Heijdoorn\, voorganger & indien aangekondigd gastsprekers. \nWij willen u graag nader kennis laten maken met onze gemeente en de inspirerende boodschap\, die wij uitdragen. Wij nodigen u uit om een van onze samenkomsten te bezoeken. \nDie zijn er op elke zondag om 10.30 uur in het Wijkcentrum De Vlieger; Groenblauwlaan 133; 2718 GH; Zoetermeer (Rokkeveen-Oost). Na de samenkomsten gelegenheid voor een hapje en drankje en tijd voor persoonlijk gebed. \nHartelijke groeten en tot gauw. \nContact: Info@ezechiel.org. 
URL:https://www.ezechiel.org/agenda/zondagse-samenkomst-pastor-theo-heijdoorn-3/2026-04-19/
LOCATION:Wijkcentrum De Vlieger\, Groenblauwlaan 133\,\, Zoetermeer\, Zuid-Holland\, 2718 GH\, Nederland
CATEGORIES:Zondagse dienst
ORGANIZER;CN="Gods Gemeente Ezechi%C3%ABl Zoetermeer":MAILTO:info@ezechiel.org
END:VEVENT
BEGIN:VEVENT
DTSTART;TZID=Europe/Amsterdam:20260405T103000
DTEND;TZID=Europe/Amsterdam:20260405T123000
DTSTAMP:20260422T121439
CREATED:20260328T213151Z
LAST-MODIFIED:20260328T213151Z
UID:10001391-1775385000-1775392200@www.ezechiel.org
SUMMARY:Viering Paaszondag: 5 april 2026
DESCRIPTION:U bent van harte uitgenodigd voor de Paasviering op zondag 5 april 2026! 🥰✝ \nTijdens deze dienst staan we stil bij de hoop en betekenis van Pasen\, met inspirerende muziek en een bemoedigende boodschap. Wij zien ernaar uit u te mogen verwelkomen. \n📍Adres: Wijkcentrum De Vlieger\, Groen-Blauwlaan 133\, Zoetermeer⏱ 10:30 uur \n#samengeloven #Jezus #Ezechiel #GGE #godsgemeenteezechiel #SamenSterk #Zoetermeer #pasen2026 \nVragen? Stuur een berichtje naar info@ezechiel.org.
URL:https://www.ezechiel.org/agenda/viering-paaszondag-5-april-2026/
LOCATION:Wijkcentrum De Vlieger\, Groenblauwlaan 133\,\, Zoetermeer\, Zuid-Holland\, 2718 GH\, Nederland
CATEGORIES:Special Event,Zondagse dienst
ORGANIZER;CN="Gods Gemeente Ezechi%C3%ABl Zoetermeer":MAILTO:info@ezechiel.org
END:VEVENT
BEGIN:VEVENT
DTSTART;TZID=Europe/Amsterdam:20251019T103000
DTEND;TZID=Europe/Amsterdam:20251228T113000
DTSTAMP:20260422T121439
CREATED:20251017T200122Z
LAST-MODIFIED:20260110T202122Z
UID:10001329-1760869800-1766921400@www.ezechiel.org
SUMMARY:Zondagse samenkomst: Pastor Theo van Heijdoorn
DESCRIPTION:Spreker: Pastor Theo van Heijdoorn\, voorganger. \nWij willen u graag nader kennis laten maken met onze gemeente en de inspirerende boodschap\, die wij uitdragen. Wij nodigen u uit om een van onze samenkomsten te bezoeken. \nDie zijn er op elke zondag om 10.30 uur in het Wijkcentrum De Vlieger; Groenblauwlaan 133; 2718 GH; Zoetermeer (Rokkeveen-Oost). Na de samenkomsten gelegenheid voor een hapje en drankje en tijd voor persoonlijk gebed. \nHartelijke groeten en tot gauw. \nContact: Info@ezechiel.org. 
URL:https://www.ezechiel.org/agenda/zondagse-samenkomst-pastor-theo-heijdoorn-2/2025-10-19/
LOCATION:Wijkcentrum De Vlieger\, Groenblauwlaan 133\,\, Zoetermeer\, Zuid-Holland\, 2718 GH\, Nederland
CATEGORIES:Zondagse dienst
ORGANIZER;CN="Gods Gemeente Ezechi%C3%ABl Zoetermeer":MAILTO:info@ezechiel.org
END:VEVENT
BEGIN:VEVENT
DTSTART;TZID=Europe/Amsterdam:20241222T114500
DTEND;TZID=Europe/Amsterdam:20241222T160000
DTSTAMP:20260422T121439
CREATED:20241219T205607Z
LAST-MODIFIED:20241219T205711Z
UID:10001057-1734867900-1734883200@www.ezechiel.org
SUMMARY:22-12-24: Kerstviering bij Gods Gemeente Ezechiël
DESCRIPTION:Gods Gemeente Ezechiël viert kerst op zondag 22 december 2024.\nU bent van harte welkom! Neem gerust uw familie\, vrienden\, collega’s en buren mee!\nMeld je nu aan via info@ezechiel.org en je stoel staat klaar. Locatie: Wijkcentrum De Vlieger\, Groenblauwlaan 133\, 2718GH Zoetermeer.
URL:https://www.ezechiel.org/agenda/22-12-24-kerstviering-gods-gemeente-ezechiel/
LOCATION:Wijkcentrum De Vlieger\, Groenblauwlaan 133\,\, Zoetermeer\, Zuid-Holland\, 2718 GH\, Nederland
CATEGORIES:Kerstviering
ORGANIZER;CN="Gods Gemeente Ezechi%C3%ABl Zoetermeer":MAILTO:info@ezechiel.org
END:VEVENT
BEGIN:VEVENT
DTSTART;TZID=Europe/Amsterdam:20240623T103000
DTEND;TZID=Europe/Amsterdam:20240623T123000
DTSTAMP:20260422T121439
CREATED:20230628T201416Z
LAST-MODIFIED:20240612T162618Z
UID:10000992-1719138600-1719145800@www.ezechiel.org
SUMMARY:Zondagse samenkomst: Gastspreker Pastor Sieuw Goeldjar
DESCRIPTION:Zondag 23 juni is pastor Sieuw Goeldjar uit Suriname in Zoetermeer. Hij zal het Woord van God met ons delen. \nU bent van harte welkom. De samenkomst begint om 10:30 uur. In de samenkomst zal gebeden worden voor bekering\, genezing  of waar u dan ook gebed voor nodig heeft. Na afloop is er gelegenheid voor een hapje en/of drankje.Tot  zondag om 10.30 uur in het Wijkcentrum De Vlieger; Groenblauwlaan 133; 2718 GH; Zoetermeer (Rokkeveen-Oost). \nContact: Info@ezechiel.org. 
URL:https://www.ezechiel.org/agenda/zondagse-samenkomst-9-2024-06-23/
LOCATION:Wijkcentrum De Vlieger\, Groenblauwlaan 133\,\, Zoetermeer\, Zuid-Holland\, 2718 GH\, Nederland
CATEGORIES:Zondagse dienst
ORGANIZER;CN="Gods Gemeente Ezechi%C3%ABl Zoetermeer":MAILTO:info@ezechiel.org
END:VEVENT
BEGIN:VEVENT
DTSTART;TZID=Europe/Amsterdam:20240616T103000
DTEND;TZID=Europe/Amsterdam:20240616T123000
DTSTAMP:20260422T121439
CREATED:20230628T201416Z
LAST-MODIFIED:20240612T162302Z
UID:10001028-1718533800-1718541000@www.ezechiel.org
SUMMARY:Zondagse samenkomst: Vaderdag met Albert en Joanne den Dekker
DESCRIPTION:Vaderdag met gastsprekers Albert en Joanne den Dekker uit Spanje! \nZondag 16 juni is het Vaderdag.  \nOnze vrienden\, Albert en Joanne den Dekker uit Spanje zijn weer in Nederland en komen ons opnieuw met Gods Woord bemoedigen. U bent van harte welkom. De samenkomst begint om 10:30 uur. Tijdens de samenkomst zal er speciaal voor alle vaders gebeden worden en is er na afloop gelegenheid voor een hapje en/of drankje. Graag tot  zondag in het Wijkcentrum De Vlieger; Groenblauwlaan 133; 2718 GH; Zoetermeer (Rokkeveen-Oost). Na de samenkomsten gelegenheid voor een hapje en drankje en tijd voor persoonlijk gebed. \nContact: Info@ezechiel.org. 
URL:https://www.ezechiel.org/agenda/zondagse-samenkomst-9-2024-06-16/
LOCATION:Wijkcentrum De Vlieger\, Groenblauwlaan 133\,\, Zoetermeer\, Zuid-Holland\, 2718 GH\, Nederland
CATEGORIES:Zondagse dienst
ORGANIZER;CN="Gods Gemeente Ezechi%C3%ABl Zoetermeer":MAILTO:info@ezechiel.org
END:VEVENT
BEGIN:VEVENT
DTSTART;TZID=Europe/Amsterdam:20240519T103000
DTEND;TZID=Europe/Amsterdam:20240519T123000
DTSTAMP:20260422T121439
CREATED:20230628T201416Z
LAST-MODIFIED:20240518T211415Z
UID:10001056-1716114600-1716121800@www.ezechiel.org
SUMMARY:Zondagse samenkomst: Pinksterviering
DESCRIPTION:Wij willen u graag nader kennis laten maken met onze gemeente en de inspirerende boodschap\, die wij uitdragen. Wij nodigen u uit om een van onze samenkomsten te bezoeken. \nDie zijn er op elke zondag om 10.30 uur in het Wijkcentrum De Vlieger; Groenblauwlaan 133; 2718 GH; Zoetermeer (Rokkeveen-Oost). Na de samenkomsten gelegenheid voor een hapje en drankje en tijd voor persoonlijk gebed. \nHartelijke groeten en tot gauw. \nContact: Info@ezechiel.org. 
URL:https://www.ezechiel.org/agenda/zondagse-samenkomst-9-2024-05-19/
LOCATION:Wijkcentrum De Vlieger\, Groenblauwlaan 133\,\, Zoetermeer\, Zuid-Holland\, 2718 GH\, Nederland
CATEGORIES:Zondagse dienst
ORGANIZER;CN="Gods Gemeente Ezechi%C3%ABl Zoetermeer":MAILTO:info@ezechiel.org
END:VEVENT
BEGIN:VEVENT
DTSTART;TZID=Europe/Amsterdam:20240331T103000
DTEND;TZID=Europe/Amsterdam:20240331T123000
DTSTAMP:20260422T121439
CREATED:20230628T201416Z
LAST-MODIFIED:20240314T150545Z
UID:10001029-1711881000-1711888200@www.ezechiel.org
SUMMARY:Zondagse samenkomst: Paasviering
DESCRIPTION:Wij willen u graag nader kennis laten maken met onze gemeente en de inspirerende boodschap\, die wij uitdragen. Wij nodigen u uit om een van onze samenkomsten te bezoeken. \nDie zijn er op elke zondag om 10.30 uur in het Wijkcentrum De Vlieger; Groenblauwlaan 133; 2718 GH; Zoetermeer (Rokkeveen-Oost). Na de samenkomsten gelegenheid voor een hapje en drankje en tijd voor persoonlijk gebed. \nHartelijke groeten en tot gauw. \nContact: Info@ezechiel.org. 
URL:https://www.ezechiel.org/agenda/zondagse-samenkomst-9-2024-03-31/
LOCATION:Wijkcentrum De Vlieger\, Groenblauwlaan 133\,\, Zoetermeer\, Zuid-Holland\, 2718 GH\, Nederland
CATEGORIES:Zondagse dienst
ORGANIZER;CN="Gods Gemeente Ezechi%C3%ABl Zoetermeer":MAILTO:info@ezechiel.org
END:VEVENT
BEGIN:VEVENT
DTSTART;TZID=Europe/Amsterdam:20240324T103000
DTEND;TZID=Europe/Amsterdam:20240324T123000
DTSTAMP:20260422T121439
CREATED:20230628T201416Z
LAST-MODIFIED:20240317T163936Z
UID:10001030-1711276200-1711283400@www.ezechiel.org
SUMMARY:Zondagse samenkomst: Theo van Heijdoorn
DESCRIPTION:Spreker: Pastor Theo van Heijdoorn\, voorganger. \nWij willen u graag nader kennis laten maken met onze gemeente en de inspirerende boodschap\, die wij uitdragen. Wij nodigen u uit om een van onze samenkomsten te bezoeken. \nDie zijn er op elke zondag om 10.30 uur in het Wijkcentrum De Vlieger; Groenblauwlaan 133; 2718 GH; Zoetermeer (Rokkeveen-Oost). Na de samenkomsten gelegenheid voor een hapje en drankje en tijd voor persoonlijk gebed. \nHartelijke groeten en tot gauw. \nContact: Info@ezechiel.org. 
URL:https://www.ezechiel.org/agenda/zondagse-samenkomst-9-2024-03-24/
LOCATION:Wijkcentrum De Vlieger\, Groenblauwlaan 133\,\, Zoetermeer\, Zuid-Holland\, 2718 GH\, Nederland
CATEGORIES:Zondagse dienst
ORGANIZER;CN="Gods Gemeente Ezechi%C3%ABl Zoetermeer":MAILTO:info@ezechiel.org
END:VEVENT
BEGIN:VEVENT
DTSTART;TZID=Europe/Amsterdam:20240317T103000
DTEND;TZID=Europe/Amsterdam:20240317T123000
DTSTAMP:20260422T121439
CREATED:20230628T201416Z
LAST-MODIFIED:20240314T150659Z
UID:10001031-1710671400-1710678600@www.ezechiel.org
SUMMARY:Zondagse samenkomst: Gastsprekers Hugo en Diana Bakboord
DESCRIPTION:Goed nieuws! Op zondag 17 maart 2024 verwelkomen wij opnieuw evangelistenechtpaar Hugo en Diana Bakboord als gastsprekers. Na de inspirerende dienst afgelopen week komen zij weer langs om ons te bemoedigen met een krachtig Woord. Een mooie dag om uw geliefden\, vrienden\, familie en buren mee te nemen om kennis te maken met onze gemeente. Een ieder is van harte welkom! \nWij komen op elke zondagochtend bijeen in Zoetermeer. Wij willen u graag nader kennis laten maken met onze gemeente en de inspirerende boodschap\, die wij uitdragen. Wij nodigen u uit om een van onze samenkomsten te bezoeken. Die zijn er op elke zondag om 10.30 uur in het Wijkcentrum De Vlieger; Groenblauwlaan 133; 2718 GH; Zoetermeer (Rokkeveen-Oost). Na de samenkomsten gelegenheid voor een hapje en drankje en tijd voor persoonlijk gebed. \nContact: Info@ezechiel.org. 
URL:https://www.ezechiel.org/agenda/zondagse-samenkomst-9-2024-03-17/
LOCATION:Wijkcentrum De Vlieger\, Groenblauwlaan 133\,\, Zoetermeer\, Zuid-Holland\, 2718 GH\, Nederland
CATEGORIES:Zondagse dienst
ORGANIZER;CN="Gods Gemeente Ezechi%C3%ABl Zoetermeer":MAILTO:info@ezechiel.org
END:VEVENT
BEGIN:VEVENT
DTSTART;TZID=Europe/Amsterdam:20240310T103000
DTEND;TZID=Europe/Amsterdam:20240310T123000
DTSTAMP:20260422T121439
CREATED:20230628T201416Z
LAST-MODIFIED:20240309T180806Z
UID:10001032-1710066600-1710073800@www.ezechiel.org
SUMMARY:Zondagse samenkomst: Gastsprekers Hugo en Diana Bakboord
DESCRIPTION:Wij willen u graag nader kennis laten maken met onze gemeente en de inspirerende boodschap\, die wij uitdragen. Wij nodigen u uit om een van onze samenkomsten te bezoeken. \nDie zijn er op elke zondag om 10.30 uur in het Wijkcentrum De Vlieger; Groenblauwlaan 133; 2718 GH; Zoetermeer (Rokkeveen-Oost). Na de samenkomsten gelegenheid voor een hapje en drankje en tijd voor persoonlijk gebed. \nHartelijke groeten en tot gauw. \nContact: Info@ezechiel.org. 
URL:https://www.ezechiel.org/agenda/zondagse-samenkomst-9-2024-03-10/
LOCATION:Wijkcentrum De Vlieger\, Groenblauwlaan 133\,\, Zoetermeer\, Zuid-Holland\, 2718 GH\, Nederland
CATEGORIES:Zondagse dienst
ORGANIZER;CN="Gods Gemeente Ezechi%C3%ABl Zoetermeer":MAILTO:info@ezechiel.org
END:VEVENT
BEGIN:VEVENT
DTSTART;TZID=Europe/Amsterdam:20231224T120000
DTEND;TZID=Europe/Amsterdam:20231224T160000
DTSTAMP:20260422T121439
CREATED:20231125T162921Z
LAST-MODIFIED:20231125T162935Z
UID:10000887-1703419200-1703433600@www.ezechiel.org
SUMMARY:Kerstviering 2023 Gods Gemeente Ezechiël
DESCRIPTION:Op 24 december 2023 viert Gods Gemeente Ezechiël Kerst!\n\n\nWij nodigen je graag uit om de komst van onze Here Jezus te herdenken en te vieren. Er is een gezellig en uitgebreid programma met kerstboodschap\, kerstliedjes\, kinderactiviteiten en nog veel meer. Bent je erbij? Geef je dan op via: info@ezechiel.org. Iedereen is welkom en toegang is gratis.\nWij kijken ernaar uit om jullie te verwelkomen.
URL:https://www.ezechiel.org/agenda/kerstviering-2023-gods-gemeente-ezechiel/
LOCATION:Wijkcentrum De Vlieger\, Groenblauwlaan 133\,\, Zoetermeer\, Zuid-Holland\, 2718 GH\, Nederland
CATEGORIES:Kerstviering,Special Event
ORGANIZER;CN="Gods Gemeente Ezechi%C3%ABl Zoetermeer":MAILTO:info@ezechiel.org
END:VEVENT
BEGIN:VEVENT
DTSTART;TZID=Europe/Amsterdam:20230702T103000
DTEND;TZID=Europe/Amsterdam:20230702T123000
DTSTAMP:20260422T121439
CREATED:20230628T201416Z
LAST-MODIFIED:20241118T210730Z
UID:10001033-1688293800-1688301000@www.ezechiel.org
SUMMARY:Zondagse samenkomst
DESCRIPTION:Wij willen u graag nader kennis laten maken met onze gemeente en de inspirerende boodschap\, die wij uitdragen. Wij nodigen u uit om een van onze samenkomsten te bezoeken. \nDie zijn er op elke zondag om 10.30 uur in het Wijkcentrum De Vlieger; Groenblauwlaan 133; 2718 GH; Zoetermeer (Rokkeveen-Oost). Na de samenkomsten gelegenheid voor een hapje en drankje en tijd voor persoonlijk gebed. \nHartelijke groeten en tot gauw. \nContact: Info@ezechiel.org. 
URL:https://www.ezechiel.org/agenda/zondagse-samenkomst-9/
LOCATION:Wijkcentrum De Vlieger\, Groenblauwlaan 133\,\, Zoetermeer\, Zuid-Holland\, 2718 GH\, Nederland
CATEGORIES:Zondagse dienst
ORGANIZER;CN="Gods Gemeente Ezechi%C3%ABl Zoetermeer":MAILTO:info@ezechiel.org
END:VEVENT
BEGIN:VEVENT
DTSTART;TZID=Europe/Amsterdam:20230625T103000
DTEND;TZID=Europe/Amsterdam:20230625T123000
DTSTAMP:20260422T121439
CREATED:20220429T160926Z
LAST-MODIFIED:20230516T204852Z
UID:10000881-1687689000-1687696200@www.ezechiel.org
SUMMARY:Zondagse samenkomst
DESCRIPTION:Wij willen u graag nader kennis laten maken met onze gemeente en de inspirerende boodschap\, die wij uitdragen. Wij nodigen u uit om een van onze samenkomsten te bezoeken. \nDie zijn er op elke zondag om 10.30 uur in het Wijkcentrum De Vlieger; Groenblauwlaan 133; 2718 GH; Zoetermeer (Rokkeveen-Oost). Na de samenkomsten gelegenheid voor een hapje en drankje en tijd voor persoonlijk gebed. \nHartelijke groeten en tot gauw. \nContact: Info@ezechiel.org. 
URL:https://www.ezechiel.org/agenda/zondagse-samenkomst-8/2023-06-25/
LOCATION:Wijkcentrum De Vlieger\, Groenblauwlaan 133\,\, Zoetermeer\, Zuid-Holland\, 2718 GH\, Nederland
CATEGORIES:Zondagse dienst
ORGANIZER;CN="Gods Gemeente Ezechi%C3%ABl Zoetermeer":MAILTO:info@ezechiel.org
END:VEVENT
BEGIN:VEVENT
DTSTART;TZID=Europe/Amsterdam:20230616T193000
DTEND;TZID=Europe/Amsterdam:20230616T193000
DTSTAMP:20260422T121439
CREATED:20230509T151945Z
LAST-MODIFIED:20230509T152046Z
UID:10000884-1686943800-1686943800@www.ezechiel.org
SUMMARY:16 juni 2023: Genezingsdienst in samenwerking met Wings of Healing
DESCRIPTION:Op vrijdag 16 juni 2023 organiseert Gods Gemeente Ezechiël in samenwerking met Wings of Healing een genezingsdienst in Zoetermeer. We gaan dan speciaal bidden voor de zieken en verwachten dat God krachtig aanwezig zal zijn. Wij geloven dat God nog steeds dezelfde is en ook in deze tijd mensen geneest en heelt. Iedereen is welkom en de toegang is gratis. Je alvast opgeven mag ook op: info@ezechiel.org. We houden jou dan alvast in gebed.
URL:https://www.ezechiel.org/agenda/16-juni-2023-genezingsdienst-samenwerking-wings-healing/
LOCATION:Wijkcentrum De Vlieger\, Groenblauwlaan 133\,\, Zoetermeer\, Zuid-Holland\, 2718 GH\, Nederland
CATEGORIES:Special Event
ORGANIZER;CN="Gods Gemeente Ezechi%C3%ABl Zoetermeer":MAILTO:info@ezechiel.org
END:VEVENT
BEGIN:VEVENT
DTSTART;TZID=Europe/Amsterdam:20230528T103000
DTEND;TZID=Europe/Amsterdam:20230528T123000
DTSTAMP:20260422T121439
CREATED:20230521T130247Z
LAST-MODIFIED:20230521T130247Z
UID:10001034-1685269800-1685277000@www.ezechiel.org
SUMMARY:Pinksteren: zondag 28 mei 2023
DESCRIPTION:Thema: Pinksteren  Spreker: pastor Theo van Heijdoorn. \n\nWij willen u graag nader kennis laten maken met onze gemeente en de inspirerende boodschap\, die wij uitdragen. Wij nodigen u uit om een van onze samenkomsten te bezoeken. \nDie zijn er op elke zondag om 10.30 uur in het Wijkcentrum De Vlieger; Groenblauwlaan 133; 2718 GH; Zoetermeer (Rokkeveen-Oost). Na de samenkomsten gelegenheid voor een hapje en drankje en tijd voor persoonlijk gebed. \nHartelijke groeten en tot gauw. \nContact: Info@ezechiel.org. 
URL:https://www.ezechiel.org/agenda/pinksteren-zondag-28-mei-2023/
LOCATION:Wijkcentrum De Vlieger\, Groenblauwlaan 133\,\, Zoetermeer\, Zuid-Holland\, 2718 GH\, Nederland
CATEGORIES:Special Event,Zondagse dienst
ORGANIZER;CN="Gods Gemeente Ezechi%C3%ABl Zoetermeer":MAILTO:info@ezechiel.org
END:VEVENT
BEGIN:VEVENT
DTSTART;TZID=Europe/Amsterdam:20230521T103000
DTEND;TZID=Europe/Amsterdam:20230521T123000
DTSTAMP:20260422T121439
CREATED:20230516T204810Z
LAST-MODIFIED:20230516T204810Z
UID:10000885-1684665000-1684672200@www.ezechiel.org
SUMMARY:Zondag 21 mei 2023: Gastspreker pastora Hedy Goeldjar
DESCRIPTION:Op veler verzoek zal pastora Hedy Goeldjar ons aanstaande zondag opnieuw bedienen met het Woord van God! Mis het niet! U bent allen van harte uitgenodigd. \n \n 
URL:https://www.ezechiel.org/agenda/zondag-21-mei-2023-gastspreker-pastora-hedy-goeldjar/
LOCATION:Wijkcentrum De Vlieger\, Groenblauwlaan 133\,\, Zoetermeer\, Zuid-Holland\, 2718 GH\, Nederland
CATEGORIES:Special Event,Zondagse dienst
ORGANIZER;CN="Gods Gemeente Ezechi%C3%ABl Zoetermeer":MAILTO:info@ezechiel.org
END:VEVENT
BEGIN:VEVENT
DTSTART;TZID=Europe/Amsterdam:20230514T103000
DTEND;TZID=Europe/Amsterdam:20230514T123000
DTSTAMP:20260422T121439
CREATED:20230509T141502Z
LAST-MODIFIED:20230509T142606Z
UID:10000883-1684060200-1684067400@www.ezechiel.org
SUMMARY:Moederdag 14 mei: gastspreker pastora Hedy Goeldjar
DESCRIPTION:Aanstaande zondag is het Moederdag!\nDe preek zal door gastspreker pastora Hedy Goeldjar gegeven worden. Mis het niet!\nU bent van harte welkom op zondag 14 mei 2023 om 10.30 uur (inloop: 10.15 uur).\nAdres: “Wijkcentrum De Vlieger”\, Groen-Blauwlaan 133\, Zoetermeer (Rokkeveen-Oost).\n\nNa de samenkomst is er gelegenheid voor een hapje en drankje en tijd voor persoonlijk gebed. \nHartelijke groeten en tot gauw. Contact: Info@ezechiel.org. 
URL:https://www.ezechiel.org/agenda/moederdag-14-mei-gastspreker-pastora-hedy-goeldjar/
LOCATION:Wijkcentrum De Vlieger\, Groenblauwlaan 133\,\, Zoetermeer\, Zuid-Holland\, 2718 GH\, Nederland
CATEGORIES:Special Event,Zondagse dienst
ORGANIZER;CN="Gods Gemeente Ezechi%C3%ABl Zoetermeer":MAILTO:info@ezechiel.org
END:VEVENT
END:VCALENDAR