BEGIN:VCALENDAR
VERSION:2.0
PRODID:-//Gods Gemeente Ezechiël Zoetermeer - ECPv6.12.0.1//NONSGML v1.0//EN
CALSCALE:GREGORIAN
METHOD:PUBLISH
X-WR-CALNAME:Gods Gemeente Ezechiël Zoetermeer
X-ORIGINAL-URL:https://www.ezechiel.org
X-WR-CALDESC:Evenementen voor Gods Gemeente Ezechiël Zoetermeer
REFRESH-INTERVAL;VALUE=DURATION:PT1H
X-Robots-Tag:noindex
X-PUBLISHED-TTL:PT1H
BEGIN:VTIMEZONE
TZID:Europe/Amsterdam
BEGIN:DAYLIGHT
TZOFFSETFROM:+0100
TZOFFSETTO:+0200
TZNAME:CEST
DTSTART:20200329T010000
END:DAYLIGHT
BEGIN:STANDARD
TZOFFSETFROM:+0200
TZOFFSETTO:+0100
TZNAME:CET
DTSTART:20201025T010000
END:STANDARD
END:VTIMEZONE
BEGIN:VEVENT
DTSTART;TZID=Europe/Amsterdam:20200322T140000
DTEND;TZID=Europe/Amsterdam:20200322T160000
DTSTAMP:20260419T224044
CREATED:20200312T172841Z
LAST-MODIFIED:20200312T172841Z
UID:10000817-1584885600-1584892800@www.ezechiel.org
SUMMARY:Doopdienst
DESCRIPTION:
URL:https://www.ezechiel.org/agenda/doopdienst/
LOCATION:PGM\, Cesar Frankrode 58\, Zoetermeer\, Zuid-Holland\, 2717 BG\, Nederland
CATEGORIES:Special Event
ORGANIZER;CN="Gods Gemeente Ezechi%C3%ABl Zoetermeer":MAILTO:info@ezechiel.org
END:VEVENT
END:VCALENDAR