BEGIN:VCALENDAR
VERSION:2.0
PRODID:-//Gods Gemeente Ezechiël Zoetermeer - ECPv6.12.0.1//NONSGML v1.0//EN
CALSCALE:GREGORIAN
METHOD:PUBLISH
X-WR-CALNAME:Gods Gemeente Ezechiël Zoetermeer
X-ORIGINAL-URL:https://www.ezechiel.org
X-WR-CALDESC:Evenementen voor Gods Gemeente Ezechiël Zoetermeer
REFRESH-INTERVAL;VALUE=DURATION:PT1H
X-Robots-Tag:noindex
X-PUBLISHED-TTL:PT1H
BEGIN:VTIMEZONE
TZID:Europe/Amsterdam
BEGIN:DAYLIGHT
TZOFFSETFROM:+0100
TZOFFSETTO:+0200
TZNAME:CEST
DTSTART:20180325T010000
END:DAYLIGHT
BEGIN:STANDARD
TZOFFSETFROM:+0200
TZOFFSETTO:+0100
TZNAME:CET
DTSTART:20181028T010000
END:STANDARD
END:VTIMEZONE
BEGIN:VEVENT
DTSTART;TZID=Europe/Amsterdam:20180429T140000
DTEND;TZID=Europe/Amsterdam:20180429T170000
DTSTAMP:20260420T074236
CREATED:20180330T151759Z
LAST-MODIFIED:20180330T151912Z
UID:10000955-1525010400-1525021200@www.ezechiel.org
SUMMARY:Zondagse dienst (in de Pelgrimskerk)
DESCRIPTION:Vanwege verbouwing in de Regenboogkerk is de samenkomst op zondag 29 april verplaatst naar de Pelgrimskerk. \nLocatie: Pelgrimskerk\, 1e Stationsstraat 86\, 2712 HK\, Zoetermeer \nSpreker: pst. Theo van Heijdoorn
URL:https://www.ezechiel.org/agenda/zondagse-dienst-afwijkende-locatie/
LOCATION:Pelgrimskerk\, 1e Stationsstraat 86\, Zoetermeer\, Zuid-Holland\, 2712 HK\, Nederland
CATEGORIES:Zondagse dienst
ORGANIZER;CN="Gods Gemeente Ezechi%C3%ABl Zoetermeer":MAILTO:info@ezechiel.org
END:VEVENT
END:VCALENDAR