BEGIN:VCALENDAR
VERSION:2.0
PRODID:-//Gods Gemeente Ezechiël Zoetermeer - ECPv6.12.0.1//NONSGML v1.0//EN
CALSCALE:GREGORIAN
METHOD:PUBLISH
X-ORIGINAL-URL:https://www.ezechiel.org
X-WR-CALDESC:Evenementen voor Gods Gemeente Ezechiël Zoetermeer
REFRESH-INTERVAL;VALUE=DURATION:PT1H
X-Robots-Tag:noindex
X-PUBLISHED-TTL:PT1H
BEGIN:VTIMEZONE
TZID:Europe/Amsterdam
BEGIN:DAYLIGHT
TZOFFSETFROM:+0100
TZOFFSETTO:+0200
TZNAME:CEST
DTSTART:20210328T010000
END:DAYLIGHT
BEGIN:STANDARD
TZOFFSETFROM:+0200
TZOFFSETTO:+0100
TZNAME:CET
DTSTART:20211031T010000
END:STANDARD
END:VTIMEZONE
BEGIN:VEVENT
DTSTART;TZID=Europe/Amsterdam:20210110T110000
DTEND;TZID=Europe/Amsterdam:20210110T123000
DTSTAMP:20260419T211935
CREATED:20201205T224208Z
LAST-MODIFIED:20201205T224406Z
UID:10000823-1610276400-1610281800@www.ezechiel.org
SUMMARY:Zondagse samenkomst
DESCRIPTION:Tijdelijke locatie samenkomsten  \nRecente update: december 2020 \nZoals de meeste van jullie al weten vinden de samenkomsten van Gods Gemeente Ezechiël vanaf halverwege dit jaar plaats op zondagochtend op een tijdelijke locatie in Zoetermeer. \nUiteraard met in achtneming van de overheidsmaatregelen in verband met COVID-19. \nInformatie over de wekelijkse locatie en het aanmelden kunt u opvragen via info@ezechiel.org \nHartelijke groeten en tot gauw.
URL:https://www.ezechiel.org/agenda/zondagse-samenkomst-7/2021-01-10/
LOCATION:Op aanvraag\, Zoetermeer\, Zuid-Holland\, Nederland
CATEGORIES:Zondagse dienst
ORGANIZER;CN="Gods Gemeente Ezechi%C3%ABl Zoetermeer":MAILTO:info@ezechiel.org
END:VEVENT
END:VCALENDAR