BEGIN:VCALENDAR
VERSION:2.0
PRODID:-//Gods Gemeente Ezechiël Zoetermeer - ECPv6.12.0.1//NONSGML v1.0//EN
CALSCALE:GREGORIAN
METHOD:PUBLISH
X-WR-CALNAME:Gods Gemeente Ezechiël Zoetermeer
X-ORIGINAL-URL:https://www.ezechiel.org
X-WR-CALDESC:Evenementen voor Gods Gemeente Ezechiël Zoetermeer
REFRESH-INTERVAL;VALUE=DURATION:PT1H
X-Robots-Tag:noindex
X-PUBLISHED-TTL:PT1H
BEGIN:VTIMEZONE
TZID:Europe/Amsterdam
BEGIN:DAYLIGHT
TZOFFSETFROM:+0100
TZOFFSETTO:+0200
TZNAME:CEST
DTSTART:20170326T010000
END:DAYLIGHT
BEGIN:STANDARD
TZOFFSETFROM:+0200
TZOFFSETTO:+0100
TZNAME:CET
DTSTART:20171029T010000
END:STANDARD
BEGIN:DAYLIGHT
TZOFFSETFROM:+0100
TZOFFSETTO:+0200
TZNAME:CEST
DTSTART:20180325T010000
END:DAYLIGHT
BEGIN:STANDARD
TZOFFSETFROM:+0200
TZOFFSETTO:+0100
TZNAME:CET
DTSTART:20181028T010000
END:STANDARD
END:VTIMEZONE
BEGIN:VEVENT
DTSTART;TZID=Europe/Amsterdam:20180218T140000
DTEND;TZID=Europe/Amsterdam:20180218T170000
DTSTAMP:20260420T074559
CREATED:20180202T202243Z
LAST-MODIFIED:20180212T220549Z
UID:10000908-1518962400-1518973200@www.ezechiel.org
SUMMARY:Zondagse dienst "Als het om de liefde gaat"
DESCRIPTION:De zondagse diensten worden gehouden in kerkelijk centrum “De Regenboog”.  Het adres is: Nathaliegang 263\, 2719 CR Zoetermeer (wijk: Rokkeveen). \n\nSpreker: pastora  Diana van Heijdoorn\nThema: Als het om de liefde gaat
URL:https://www.ezechiel.org/agenda/zondagse-dienst-5/
LOCATION:Gebouw De Regenboog\, Nathaliegang 263\, Zoetermeer\, Zuid-Holland\, 2719 CR\, Nederland
CATEGORIES:Zondagse dienst
ORGANIZER;CN="Gods Gemeente Ezechi%C3%ABl Zoetermeer":MAILTO:info@ezechiel.org
GEO:52.0435067;4.4796195
X-APPLE-STRUCTURED-LOCATION;VALUE=URI;X-ADDRESS=Gebouw De Regenboog Nathaliegang 263 Zoetermeer Zuid-Holland 2719 CR Nederland;X-APPLE-RADIUS=500;X-TITLE=Nathaliegang 263:geo:4.4796195,52.0435067
END:VEVENT
BEGIN:VEVENT
DTSTART;TZID=Europe/Amsterdam:20180211T140000
DTEND;TZID=Europe/Amsterdam:20180211T170000
DTSTAMP:20260420T074559
CREATED:20180202T201923Z
LAST-MODIFIED:20180202T201923Z
UID:10000907-1518357600-1518368400@www.ezechiel.org
SUMMARY:Zondagse dienst
DESCRIPTION:De zondagse diensten worden gehouden in kerkelijk centrum “De Regenboog”.  Het adres is: Nathaliegang 263\, 2719 CR Zoetermeer (wijk: Rokkeveen). \n\nSpreker: pastor Theo van Heijdoorn
URL:https://www.ezechiel.org/agenda/zondagse-dienst-4/
LOCATION:Gebouw De Regenboog\, Nathaliegang 263\, Zoetermeer\, Zuid-Holland\, 2719 CR\, Nederland
CATEGORIES:Zondagse dienst
ORGANIZER;CN="Gods Gemeente Ezechi%C3%ABl Zoetermeer":MAILTO:info@ezechiel.org
GEO:52.0435067;4.4796195
X-APPLE-STRUCTURED-LOCATION;VALUE=URI;X-ADDRESS=Gebouw De Regenboog Nathaliegang 263 Zoetermeer Zuid-Holland 2719 CR Nederland;X-APPLE-RADIUS=500;X-TITLE=Nathaliegang 263:geo:4.4796195,52.0435067
END:VEVENT
BEGIN:VEVENT
DTSTART;TZID=Europe/Amsterdam:20180204T140000
DTEND;TZID=Europe/Amsterdam:20180204T170000
DTSTAMP:20260420T074559
CREATED:20180202T194456Z
LAST-MODIFIED:20180202T194805Z
UID:10000906-1517752800-1517763600@www.ezechiel.org
SUMMARY:Zondagse dienst
DESCRIPTION:De zondagse diensten worden gehouden in kerkelijk centrum “De Regenboog”.  Het adres is: Nathaliegang 263\, 2719 CR Zoetermeer (wijk: Rokkeveen). \n\nSpreker: pastor Theo van Heijdoorn\nThema: Avondmaal
URL:https://www.ezechiel.org/agenda/zondagse-dienst-3/
LOCATION:Gebouw De Regenboog\, Nathaliegang 263\, Zoetermeer\, Zuid-Holland\, 2719 CR\, Nederland
CATEGORIES:Zondagse dienst
ORGANIZER;CN="Gods Gemeente Ezechi%C3%ABl Zoetermeer":MAILTO:info@ezechiel.org
GEO:52.0435067;4.4796195
X-APPLE-STRUCTURED-LOCATION;VALUE=URI;X-ADDRESS=Gebouw De Regenboog Nathaliegang 263 Zoetermeer Zuid-Holland 2719 CR Nederland;X-APPLE-RADIUS=500;X-TITLE=Nathaliegang 263:geo:4.4796195,52.0435067
END:VEVENT
BEGIN:VEVENT
DTSTART;TZID=Europe/Amsterdam:20171231T140000
DTEND;TZID=Europe/Amsterdam:20171231T170000
DTSTAMP:20260420T074559
CREATED:20171206T015237Z
LAST-MODIFIED:20180115T174342Z
UID:10000905-1514728800-1514739600@www.ezechiel.org
SUMMARY:Zondagse dienst: Eindjaarsbijeenkomst
DESCRIPTION:Locatie: Gebouw De Regenboog \n31 december 2017 14:00 uur \nDe zondagse diensten worden gehouden in het kerkelijk centrum “De Regenboog” \nAdres: Nathaliegang 263\, 2719 CR Zoetermeer (wijk: Rokkeveen). \nAanvang dienst: 14:00 uur \nSpreker: Pastor Theo van Heijdoorn \nKorte eindjaarsbijeenkomst
URL:https://www.ezechiel.org/agenda/zondagse-dienst-eindjaarsbijeenkomst/
LOCATION:Gebouw De Regenboog\, Nathaliegang 263\, Zoetermeer\, Zuid-Holland\, 2719 CR\, Nederland
CATEGORIES:Zondagse dienst
ORGANIZER;CN="Gods Gemeente Ezechi%C3%ABl Zoetermeer":MAILTO:info@ezechiel.org
GEO:52.0435067;4.4796195
X-APPLE-STRUCTURED-LOCATION;VALUE=URI;X-ADDRESS=Gebouw De Regenboog Nathaliegang 263 Zoetermeer Zuid-Holland 2719 CR Nederland;X-APPLE-RADIUS=500;X-TITLE=Nathaliegang 263:geo:4.4796195,52.0435067
END:VEVENT
BEGIN:VEVENT
DTSTART;TZID=Europe/Amsterdam:20171217T140000
DTEND;TZID=Europe/Amsterdam:20171217T170000
DTSTAMP:20260420T074559
CREATED:20171206T014851Z
LAST-MODIFIED:20171206T014851Z
UID:10000889-1513519200-1513530000@www.ezechiel.org
SUMMARY:Zondagse dienst
DESCRIPTION:Locatie: Gebouw De Regenboog \n17 december 2017 14:00 uur \nDe zondagse diensten worden gehouden in het kerkelijk centrum “De Regenboog” \nAdres: Nathaliegang 263\, 2719 CR Zoetermeer (wijk: Rokkeveen). \nAanvang dienst: 14:00 uur \nSpreker: br. Bennett Vasconcellos
URL:https://www.ezechiel.org/agenda/zondagse-dienst-2/
LOCATION:Gebouw De Regenboog\, Nathaliegang 263\, Zoetermeer\, Zuid-Holland\, 2719 CR\, Nederland
CATEGORIES:Zondagse dienst
ORGANIZER;CN="Gods Gemeente Ezechi%C3%ABl Zoetermeer":MAILTO:info@ezechiel.org
GEO:52.0435067;4.4796195
X-APPLE-STRUCTURED-LOCATION;VALUE=URI;X-ADDRESS=Gebouw De Regenboog Nathaliegang 263 Zoetermeer Zuid-Holland 2719 CR Nederland;X-APPLE-RADIUS=500;X-TITLE=Nathaliegang 263:geo:4.4796195,52.0435067
END:VEVENT
BEGIN:VEVENT
DTSTART;TZID=Europe/Amsterdam:20171210T140000
DTEND;TZID=Europe/Amsterdam:20171210T170000
DTSTAMP:20260420T074559
CREATED:20171206T014526Z
LAST-MODIFIED:20171206T014526Z
UID:10000893-1512914400-1512925200@www.ezechiel.org
SUMMARY:Zondagse dienst
DESCRIPTION:Locatie: Gebouw De Regenboog \n10 december 2017 14:00 uur \nDe zondagse diensten worden gehouden in het kerkelijk centrum “De Regenboog” \nAdres: Nathaliegang 263\, 2719 CR Zoetermeer (wijk: Rokkeveen). \nAanvang dienst: 14:00 uur \nSpreker: br. Noes Lokollo
URL:https://www.ezechiel.org/agenda/zondagse-dienst/
LOCATION:Gebouw De Regenboog\, Nathaliegang 263\, Zoetermeer\, Zuid-Holland\, 2719 CR\, Nederland
CATEGORIES:Zondagse dienst
ORGANIZER;CN="Gods Gemeente Ezechi%C3%ABl Zoetermeer":MAILTO:info@ezechiel.org
GEO:52.0435067;4.4796195
X-APPLE-STRUCTURED-LOCATION;VALUE=URI;X-ADDRESS=Gebouw De Regenboog Nathaliegang 263 Zoetermeer Zuid-Holland 2719 CR Nederland;X-APPLE-RADIUS=500;X-TITLE=Nathaliegang 263:geo:4.4796195,52.0435067
END:VEVENT
END:VCALENDAR