BEGIN:VCALENDAR
VERSION:2.0
PRODID:-//Gods Gemeente Ezechiël Zoetermeer - ECPv6.12.0.1//NONSGML v1.0//EN
CALSCALE:GREGORIAN
METHOD:PUBLISH
X-ORIGINAL-URL:https://www.ezechiel.org
X-WR-CALDESC:Evenementen voor Gods Gemeente Ezechiël Zoetermeer
REFRESH-INTERVAL;VALUE=DURATION:PT1H
X-Robots-Tag:noindex
X-PUBLISHED-TTL:PT1H
BEGIN:VTIMEZONE
TZID:Europe/Amsterdam
BEGIN:DAYLIGHT
TZOFFSETFROM:+0100
TZOFFSETTO:+0200
TZNAME:CEST
DTSTART:20170326T010000
END:DAYLIGHT
BEGIN:STANDARD
TZOFFSETFROM:+0200
TZOFFSETTO:+0100
TZNAME:CET
DTSTART:20171029T010000
END:STANDARD
BEGIN:DAYLIGHT
TZOFFSETFROM:+0100
TZOFFSETTO:+0200
TZNAME:CEST
DTSTART:20180325T010000
END:DAYLIGHT
BEGIN:STANDARD
TZOFFSETFROM:+0200
TZOFFSETTO:+0100
TZNAME:CET
DTSTART:20181028T010000
END:STANDARD
END:VTIMEZONE
BEGIN:VEVENT
DTSTART;TZID=Europe/Amsterdam:20181220T200000
DTEND;TZID=Europe/Amsterdam:20181220T213000
DTSTAMP:20260420T042659
CREATED:20180304T215425Z
LAST-MODIFIED:20181204T201353Z
UID:10000948-1545336000-1545341400@www.ezechiel.org
SUMMARY:Bijbelstudie en gebedsavond
DESCRIPTION:Deze avonden zullen voor een deel bestaan uit studies\, met verschillende thema’s en onderwerpen. Wij hopen broeders en zusters op deze manier bijbels toe te mogen rusten zodat zij kracht en wijsheid zullen hebben om te kunnen blijven doorgaan in deze vaak lastige en moeilijke tijden. \nHierna zal dan iedere keer genoeg tijd beschikbaar zijn om met elkaar te bidden en te danken voor alle noden die men zal aangegeven en ook voor onze broeders en zusters en alle anderen in de rest van de wereld. \nDe bijbelstudies vinden met ingang van december 2018 ook op locatie De Regenboogkerk\, Nathaliegang 263\, 2719 CR Zoetermeer plaats.
URL:https://www.ezechiel.org/agenda/bijbelstudie-en-gebedsavond-9/2018-12-20/
LOCATION:Gebouw De Regenboog\, Nathaliegang 263\, Zoetermeer\, Zuid-Holland\, 2719 CR\, Nederland
CATEGORIES:Bijbelstudie en gebedsavond
ORGANIZER;CN="Gods Gemeente Ezechi%C3%ABl Zoetermeer":MAILTO:info@ezechiel.org
GEO:52.0435067;4.4796195
X-APPLE-STRUCTURED-LOCATION;VALUE=URI;X-ADDRESS=Gebouw De Regenboog Nathaliegang 263 Zoetermeer Zuid-Holland 2719 CR Nederland;X-APPLE-RADIUS=500;X-TITLE=Nathaliegang 263:geo:4.4796195,52.0435067
END:VEVENT
BEGIN:VEVENT
DTSTART;TZID=Europe/Amsterdam:20180826T140000
DTEND;TZID=Europe/Amsterdam:20180826T170000
DTSTAMP:20260420T042659
CREATED:20180702T175118Z
LAST-MODIFIED:20180829T142049Z
UID:10000768-1535292000-1535302800@www.ezechiel.org
SUMMARY:Zondagse dienst
DESCRIPTION:De zondagse samenkomsten worden gehouden in het kerkelijk centrum “De Regenboog”.\nAdres: Nathaliegang 263\, 2719 CR Zoetermeer (wijk: Rokkeveen). \nSpreker: zie mededelingen
URL:https://www.ezechiel.org/agenda/zondagse-dienst-13/2018-08-26/
LOCATION:Gebouw De Regenboog\, Nathaliegang 263\, Zoetermeer\, Zuid-Holland\, 2719 CR\, Nederland
CATEGORIES:Zondagse dienst
ORGANIZER;CN="Gods Gemeente Ezechi%C3%ABl Zoetermeer":MAILTO:info@ezechiel.org
GEO:52.0435067;4.4796195
X-APPLE-STRUCTURED-LOCATION;VALUE=URI;X-ADDRESS=Gebouw De Regenboog Nathaliegang 263 Zoetermeer Zuid-Holland 2719 CR Nederland;X-APPLE-RADIUS=500;X-TITLE=Nathaliegang 263:geo:4.4796195,52.0435067
END:VEVENT
BEGIN:VEVENT
DTSTART;TZID=Europe/Amsterdam:20180812T140000
DTEND;TZID=Europe/Amsterdam:20180812T170000
DTSTAMP:20260420T042659
CREATED:20180801T223942Z
LAST-MODIFIED:20180801T223942Z
UID:10000770-1534082400-1534093200@www.ezechiel.org
SUMMARY:Zondagse dienst
DESCRIPTION:De zondagse samenkomsten worden gehouden in het kerkelijk centrum “De Regenboog”.\nAdres: Nathaliegang 263\, 2719 CR Zoetermeer (wijk: Rokkeveen). \nGastspreker: Ab Agtereek
URL:https://www.ezechiel.org/agenda/zondagse-dienst-14/
LOCATION:Gebouw De Regenboog\, Nathaliegang 263\, Zoetermeer\, Zuid-Holland\, 2719 CR\, Nederland
CATEGORIES:Zondagse dienst
ORGANIZER;CN="Gods Gemeente Ezechi%C3%ABl Zoetermeer":MAILTO:info@ezechiel.org
GEO:52.0435067;4.4796195
X-APPLE-STRUCTURED-LOCATION;VALUE=URI;X-ADDRESS=Gebouw De Regenboog Nathaliegang 263 Zoetermeer Zuid-Holland 2719 CR Nederland;X-APPLE-RADIUS=500;X-TITLE=Nathaliegang 263:geo:4.4796195,52.0435067
END:VEVENT
BEGIN:VEVENT
DTSTART;TZID=Europe/Amsterdam:20180722T140000
DTEND;TZID=Europe/Amsterdam:20180722T170000
DTSTAMP:20260420T042659
CREATED:20180702T174528Z
LAST-MODIFIED:20180702T174528Z
UID:10000765-1532268000-1532278800@www.ezechiel.org
SUMMARY:Zondagse dienst
DESCRIPTION:De zondagse samenkomsten worden gehouden in het kerkelijk centrum “De Regenboog”.\nAdres: Nathaliegang 263\, 2719 CR Zoetermeer (wijk: Rokkeveen). \nGastspreker: br. Hugo Bakboord\, evangelist
URL:https://www.ezechiel.org/agenda/zondagse-dienst-12/
LOCATION:Gebouw De Regenboog\, Nathaliegang 263\, Zoetermeer\, Zuid-Holland\, 2719 CR\, Nederland
CATEGORIES:Zondagse dienst
ORGANIZER;CN="Gods Gemeente Ezechi%C3%ABl Zoetermeer":MAILTO:info@ezechiel.org
GEO:52.0435067;4.4796195
X-APPLE-STRUCTURED-LOCATION;VALUE=URI;X-ADDRESS=Gebouw De Regenboog Nathaliegang 263 Zoetermeer Zuid-Holland 2719 CR Nederland;X-APPLE-RADIUS=500;X-TITLE=Nathaliegang 263:geo:4.4796195,52.0435067
END:VEVENT
BEGIN:VEVENT
DTSTART;TZID=Europe/Amsterdam:20180715T140000
DTEND;TZID=Europe/Amsterdam:20180715T170000
DTSTAMP:20260420T042659
CREATED:20180702T174040Z
LAST-MODIFIED:20180702T174230Z
UID:10000968-1531663200-1531674000@www.ezechiel.org
SUMMARY:Zondagse dienst
DESCRIPTION:
URL:https://www.ezechiel.org/agenda/zondagse-dienst-10/
LOCATION:Gebouw De Regenboog\, Nathaliegang 263\, Zoetermeer\, Zuid-Holland\, 2719 CR\, Nederland
CATEGORIES:Zondagse dienst
ORGANIZER;CN="Gods Gemeente Ezechi%C3%ABl Zoetermeer":MAILTO:info@ezechiel.org
GEO:52.0435067;4.4796195
X-APPLE-STRUCTURED-LOCATION;VALUE=URI;X-ADDRESS=Gebouw De Regenboog Nathaliegang 263 Zoetermeer Zuid-Holland 2719 CR Nederland;X-APPLE-RADIUS=500;X-TITLE=Nathaliegang 263:geo:4.4796195,52.0435067
END:VEVENT
BEGIN:VEVENT
DTSTART;TZID=Europe/Amsterdam:20180708T140000
DTEND;TZID=Europe/Amsterdam:20180708T170000
DTSTAMP:20260420T042659
CREATED:20180702T173817Z
LAST-MODIFIED:20180702T173907Z
UID:10000967-1531058400-1531069200@www.ezechiel.org
SUMMARY:Zondagse dienst
DESCRIPTION:De zondagse samenkomsten worden gehouden in het kerkelijk centrum “De Regenboog”. \nAdres: Nathaliegang 263\, 2719 CR Zoetermeer (wijk: Rokkeveen). \nGastspreker: br. Ray de Lima\, evangelist.
URL:https://www.ezechiel.org/agenda/zondagse-dienst-9/
LOCATION:Gebouw De Regenboog\, Nathaliegang 263\, Zoetermeer\, Zuid-Holland\, 2719 CR\, Nederland
CATEGORIES:Zondagse dienst
ORGANIZER;CN="Gods Gemeente Ezechi%C3%ABl Zoetermeer":MAILTO:info@ezechiel.org
GEO:52.0435067;4.4796195
X-APPLE-STRUCTURED-LOCATION;VALUE=URI;X-ADDRESS=Gebouw De Regenboog Nathaliegang 263 Zoetermeer Zuid-Holland 2719 CR Nederland;X-APPLE-RADIUS=500;X-TITLE=Nathaliegang 263:geo:4.4796195,52.0435067
END:VEVENT
BEGIN:VEVENT
DTSTART;TZID=Europe/Amsterdam:20180701T140000
DTEND;TZID=Europe/Amsterdam:20180701T170000
DTSTAMP:20260420T042659
CREATED:20180702T174346Z
LAST-MODIFIED:20180702T174346Z
UID:10000969-1530453600-1530464400@www.ezechiel.org
SUMMARY:Zondagse dienst
DESCRIPTION:De zondagse samenkomsten worden gehouden in het kerkelijk centrum “De Regenboog”.\nAdres: Nathaliegang 263\, 2719 CR Zoetermeer (wijk: Rokkeveen). \nSpreker: pastor Theo van Heijdoorn
URL:https://www.ezechiel.org/agenda/zondagse-dienst-11/
LOCATION:Gebouw De Regenboog\, Nathaliegang 263\, Zoetermeer\, Zuid-Holland\, 2719 CR\, Nederland
CATEGORIES:Zondagse dienst
ORGANIZER;CN="Gods Gemeente Ezechi%C3%ABl Zoetermeer":MAILTO:info@ezechiel.org
GEO:52.0435067;4.4796195
X-APPLE-STRUCTURED-LOCATION;VALUE=URI;X-ADDRESS=Gebouw De Regenboog Nathaliegang 263 Zoetermeer Zuid-Holland 2719 CR Nederland;X-APPLE-RADIUS=500;X-TITLE=Nathaliegang 263:geo:4.4796195,52.0435067
END:VEVENT
BEGIN:VEVENT
DTSTART;TZID=Europe/Amsterdam:20180624T140000
DTEND;TZID=Europe/Amsterdam:20180624T170000
DTSTAMP:20260420T042659
CREATED:20180602T211009Z
LAST-MODIFIED:20180602T211009Z
UID:10000966-1529848800-1529859600@www.ezechiel.org
SUMMARY:Zondagse samenkomst
DESCRIPTION:De zondagse samenkomsten worden gehouden in het kerkelijk centrum “De Regenboog” \nAdres: Nathaliegang 263\, 2719 CR Zoetermeer (wijk: Rokkeveen). \nAanvang: 14:00 uur \nSpreker: pastor Theo van Heijdoorn
URL:https://www.ezechiel.org/agenda/zondagse-samenkomst-3/
LOCATION:Gebouw De Regenboog\, Nathaliegang 263\, Zoetermeer\, Zuid-Holland\, 2719 CR\, Nederland
CATEGORIES:Zondagse dienst
ORGANIZER;CN="Gods Gemeente Ezechi%C3%ABl Zoetermeer":MAILTO:info@ezechiel.org
GEO:52.0435067;4.4796195
X-APPLE-STRUCTURED-LOCATION;VALUE=URI;X-ADDRESS=Gebouw De Regenboog Nathaliegang 263 Zoetermeer Zuid-Holland 2719 CR Nederland;X-APPLE-RADIUS=500;X-TITLE=Nathaliegang 263:geo:4.4796195,52.0435067
END:VEVENT
BEGIN:VEVENT
DTSTART;TZID=Europe/Amsterdam:20180617T140000
DTEND;TZID=Europe/Amsterdam:20180617T190000
DTSTAMP:20260420T042659
CREATED:20180602T210043Z
LAST-MODIFIED:20180602T210043Z
UID:10000963-1529244000-1529262000@www.ezechiel.org
SUMMARY:Zondagse samenkomst: Vaderdag
DESCRIPTION:De zondagse samenkomsten worden gehouden in het kerkelijk centrum “De Regenboog” \nAdres: Nathaliegang 263\, 2719 CR Zoetermeer (wijk: Rokkeveen). \nOp 17 juni een zondagse samenkomst met als thema: “Mijn Vader is de BESTE” onder leiding van pastora Diana van Heijdoorn. \nAanvang: 14:00 uur \n 
URL:https://www.ezechiel.org/agenda/zondagse-samenkomst-vaderdag/
LOCATION:Gebouw De Regenboog\, Nathaliegang 263\, Zoetermeer\, Zuid-Holland\, 2719 CR\, Nederland
CATEGORIES:Special Event,Zondagse dienst
ORGANIZER;CN="Gods Gemeente Ezechi%C3%ABl Zoetermeer":MAILTO:info@ezechiel.org
GEO:52.0435067;4.4796195
X-APPLE-STRUCTURED-LOCATION;VALUE=URI;X-ADDRESS=Gebouw De Regenboog Nathaliegang 263 Zoetermeer Zuid-Holland 2719 CR Nederland;X-APPLE-RADIUS=500;X-TITLE=Nathaliegang 263:geo:4.4796195,52.0435067
END:VEVENT
BEGIN:VEVENT
DTSTART;TZID=Europe/Amsterdam:20180610T140000
DTEND;TZID=Europe/Amsterdam:20180610T170000
DTSTAMP:20260420T042659
CREATED:20180602T210700Z
LAST-MODIFIED:20180602T210836Z
UID:10000965-1528639200-1528650000@www.ezechiel.org
SUMMARY:Zondagse samenkomst
DESCRIPTION:De zondagse samenkomsten worden gehouden in het kerkelijk centrum “De Regenboog” \nAdres: Nathaliegang 263\, 2719 CR Zoetermeer (wijk: Rokkeveen). \nAanvang: 14:00 uur \nGastspreker: Clyde Scheuer (evangelist) \n 
URL:https://www.ezechiel.org/agenda/zondagse-samenkomst-2/
LOCATION:Gebouw De Regenboog\, Nathaliegang 263\, Zoetermeer\, Zuid-Holland\, 2719 CR\, Nederland
CATEGORIES:Zondagse dienst
ORGANIZER;CN="Gods Gemeente Ezechi%C3%ABl Zoetermeer":MAILTO:info@ezechiel.org
GEO:52.0435067;4.4796195
X-APPLE-STRUCTURED-LOCATION;VALUE=URI;X-ADDRESS=Gebouw De Regenboog Nathaliegang 263 Zoetermeer Zuid-Holland 2719 CR Nederland;X-APPLE-RADIUS=500;X-TITLE=Nathaliegang 263:geo:4.4796195,52.0435067
END:VEVENT
BEGIN:VEVENT
DTSTART;TZID=Europe/Amsterdam:20180603T140000
DTEND;TZID=Europe/Amsterdam:20180603T170000
DTSTAMP:20260420T042659
CREATED:20180602T210222Z
LAST-MODIFIED:20180602T210222Z
UID:10000964-1528034400-1528045200@www.ezechiel.org
SUMMARY:Zondagse samenkomst
DESCRIPTION:De zondagse samenkomsten worden gehouden in het kerkelijk centrum “De Regenboog” \nAdres: Nathaliegang 263\, 2719 CR Zoetermeer (wijk: Rokkeveen). \nThema: Avondmaal \nSpreker: pastor Theo van Heijdoorn \nAanvang: 14:00 uur
URL:https://www.ezechiel.org/agenda/zondagse-samenkomst/
LOCATION:Gebouw De Regenboog\, Nathaliegang 263\, Zoetermeer\, Zuid-Holland\, 2719 CR\, Nederland
CATEGORIES:Zondagse dienst
ORGANIZER;CN="Gods Gemeente Ezechi%C3%ABl Zoetermeer":MAILTO:info@ezechiel.org
GEO:52.0435067;4.4796195
X-APPLE-STRUCTURED-LOCATION;VALUE=URI;X-ADDRESS=Gebouw De Regenboog Nathaliegang 263 Zoetermeer Zuid-Holland 2719 CR Nederland;X-APPLE-RADIUS=500;X-TITLE=Nathaliegang 263:geo:4.4796195,52.0435067
END:VEVENT
BEGIN:VEVENT
DTSTART;TZID=Europe/Amsterdam:20180520T140000
DTEND;TZID=Europe/Amsterdam:20180520T170000
DTSTAMP:20260420T042659
CREATED:20180504T190904Z
LAST-MODIFIED:20180504T191038Z
UID:10000959-1526824800-1526835600@www.ezechiel.org
SUMMARY:Pinksteren/Zalvingsdienst
DESCRIPTION:Onze zondagse samenkomsten worden gehouden in het kerkelijk centrum “De Regenboog”. \nAdres: Nathaliegang 263\, 2719 CR Zoetermeer (wijk: Rokkeveen). \nThema: Pinksteren/Zalvingsdienst \nSpreker: pastor Theo van Heijdoorn.
URL:https://www.ezechiel.org/agenda/pinksteren-zalvingsdienst/
LOCATION:Gebouw De Regenboog\, Nathaliegang 263\, Zoetermeer\, Zuid-Holland\, 2719 CR\, Nederland
CATEGORIES:Special Event,Zondagse dienst
ORGANIZER;CN="Gods Gemeente Ezechi%C3%ABl Zoetermeer":MAILTO:info@ezechiel.org
GEO:52.0435067;4.4796195
X-APPLE-STRUCTURED-LOCATION;VALUE=URI;X-ADDRESS=Gebouw De Regenboog Nathaliegang 263 Zoetermeer Zuid-Holland 2719 CR Nederland;X-APPLE-RADIUS=500;X-TITLE=Nathaliegang 263:geo:4.4796195,52.0435067
END:VEVENT
BEGIN:VEVENT
DTSTART;TZID=Europe/Amsterdam:20180513T140000
DTEND;TZID=Europe/Amsterdam:20180513T170000
DTSTAMP:20260420T042659
CREATED:20180504T190632Z
LAST-MODIFIED:20180504T190632Z
UID:10000958-1526220000-1526230800@www.ezechiel.org
SUMMARY:Zondagse dienst: Moederdag
DESCRIPTION:De zondagse samenkomsten worden gehouden in het kerkelijk centrum “De Regenboog”. \nAdres: Nathaliegang 263\, 2719 CR Zoetermeer (wijk: Rokkeveen). \nThema: Moederdag \nSprekers: pastors Theo en Diana van Heijdoorn.
URL:https://www.ezechiel.org/agenda/zondagse-dienst-moederdag/
LOCATION:Gebouw De Regenboog\, Nathaliegang 263\, Zoetermeer\, Zuid-Holland\, 2719 CR\, Nederland
CATEGORIES:Special Event,Zondagse dienst
ORGANIZER;CN="Gods Gemeente Ezechi%C3%ABl Zoetermeer":MAILTO:info@ezechiel.org
GEO:52.0435067;4.4796195
X-APPLE-STRUCTURED-LOCATION;VALUE=URI;X-ADDRESS=Gebouw De Regenboog Nathaliegang 263 Zoetermeer Zuid-Holland 2719 CR Nederland;X-APPLE-RADIUS=500;X-TITLE=Nathaliegang 263:geo:4.4796195,52.0435067
END:VEVENT
BEGIN:VEVENT
DTSTART;TZID=Europe/Amsterdam:20180506T140000
DTEND;TZID=Europe/Amsterdam:20180506T170000
DTSTAMP:20260420T042659
CREATED:20180504T190348Z
LAST-MODIFIED:20180504T190348Z
UID:10000957-1525615200-1525626000@www.ezechiel.org
SUMMARY:Zondagse dienst: Avondmaal
DESCRIPTION:De zondagse bijeenkomsten worden gehouden in het kerkelijk centrum “De Regenboog”. \nAdres: Nathaliegang 263\, 2719 CR Zoetermeer (wijk: Rokkeveen). \nSpreker: pst. Theo van Heijdoorn \nThema: Avondmaal \n 
URL:https://www.ezechiel.org/agenda/zondagse-dienst-avondmaal-2/
LOCATION:Gebouw De Regenboog\, Nathaliegang 263\, Zoetermeer\, Zuid-Holland\, 2719 CR\, Nederland
CATEGORIES:Zondagse dienst
ORGANIZER;CN="Gods Gemeente Ezechi%C3%ABl Zoetermeer":MAILTO:info@ezechiel.org
GEO:52.0435067;4.4796195
X-APPLE-STRUCTURED-LOCATION;VALUE=URI;X-ADDRESS=Gebouw De Regenboog Nathaliegang 263 Zoetermeer Zuid-Holland 2719 CR Nederland;X-APPLE-RADIUS=500;X-TITLE=Nathaliegang 263:geo:4.4796195,52.0435067
END:VEVENT
BEGIN:VEVENT
DTSTART;TZID=Europe/Amsterdam:20180422T140000
DTEND;TZID=Europe/Amsterdam:20180422T170000
DTSTAMP:20260420T042659
CREATED:20180330T150238Z
LAST-MODIFIED:20180330T171651Z
UID:10000954-1524405600-1524416400@www.ezechiel.org
SUMMARY:Zondagse dienst
DESCRIPTION:De zondagse samenkomsten worden gehouden in het kerkelijk centrum “De Regenboog”. \nAdres: Nathaliegang 263\, 2719 CR Zoetermeer (wijk: Rokkeveen). \nSpreker: pst. Theo van Heijdoorn
URL:https://www.ezechiel.org/agenda/zondagse-dienst-8/2018-04-22/
LOCATION:Gebouw De Regenboog\, Nathaliegang 263\, Zoetermeer\, Zuid-Holland\, 2719 CR\, Nederland
CATEGORIES:Zondagse dienst
ORGANIZER;CN="Gods Gemeente Ezechi%C3%ABl Zoetermeer":MAILTO:info@ezechiel.org
GEO:52.0435067;4.4796195
X-APPLE-STRUCTURED-LOCATION;VALUE=URI;X-ADDRESS=Gebouw De Regenboog Nathaliegang 263 Zoetermeer Zuid-Holland 2719 CR Nederland;X-APPLE-RADIUS=500;X-TITLE=Nathaliegang 263:geo:4.4796195,52.0435067
END:VEVENT
BEGIN:VEVENT
DTSTART;TZID=Europe/Amsterdam:20180401T140000
DTEND;TZID=Europe/Amsterdam:20180401T170000
DTSTAMP:20260420T042659
CREATED:20180330T145849Z
LAST-MODIFIED:20180330T145946Z
UID:10000951-1522591200-1522602000@www.ezechiel.org
SUMMARY:Paasviering met Avondmaal
DESCRIPTION:De zondagse samenkomsten worden gehouden in het kerkelijk centrum “De Regenboog”. \nAdres: Nathaliegang 263\, 2719 CR Zoetermeer (wijk: Rokkeveen). \n\nGastspreker: Br. Sieuw Goeldjar\nThema: Paasviering met Avondmaal.
URL:https://www.ezechiel.org/agenda/paasviering-met-avondmaal/
LOCATION:Gebouw De Regenboog\, Nathaliegang 263\, Zoetermeer\, Zuid-Holland\, 2719 CR\, Nederland
CATEGORIES:Special Event,Zondagse dienst
ORGANIZER;CN="Gods Gemeente Ezechi%C3%ABl Zoetermeer":MAILTO:info@ezechiel.org
GEO:52.0435067;4.4796195
X-APPLE-STRUCTURED-LOCATION;VALUE=URI;X-ADDRESS=Gebouw De Regenboog Nathaliegang 263 Zoetermeer Zuid-Holland 2719 CR Nederland;X-APPLE-RADIUS=500;X-TITLE=Nathaliegang 263:geo:4.4796195,52.0435067
END:VEVENT
BEGIN:VEVENT
DTSTART;TZID=Europe/Amsterdam:20180325T140000
DTEND;TZID=Europe/Amsterdam:20180325T170000
DTSTAMP:20260420T042659
CREATED:20180304T212838Z
LAST-MODIFIED:20180304T213624Z
UID:10000917-1521986400-1521997200@www.ezechiel.org
SUMMARY:Zondagse dienst: Palmzondag
DESCRIPTION:De zondagse diensten worden gehouden in kerkelijk centrum “De Regenboog”.  Het adres is: Nathaliegang 263\, 2719 CR Zoetermeer (wijk: Rokkeveen). \n\nSpreker: pastor Theo van Heijdoorn\nThema: Palmzondag
URL:https://www.ezechiel.org/agenda/zondagse-dienst-palmzondag/
LOCATION:Gebouw De Regenboog\, Nathaliegang 263\, Zoetermeer\, Zuid-Holland\, 2719 CR\, Nederland
CATEGORIES:Zondagse dienst
ORGANIZER;CN="Gods Gemeente Ezechi%C3%ABl Zoetermeer":MAILTO:info@ezechiel.org
GEO:52.0435067;4.4796195
X-APPLE-STRUCTURED-LOCATION;VALUE=URI;X-ADDRESS=Gebouw De Regenboog Nathaliegang 263 Zoetermeer Zuid-Holland 2719 CR Nederland;X-APPLE-RADIUS=500;X-TITLE=Nathaliegang 263:geo:4.4796195,52.0435067
END:VEVENT
BEGIN:VEVENT
DTSTART;TZID=Europe/Amsterdam:20180318T140000
DTEND;TZID=Europe/Amsterdam:20180318T170000
DTSTAMP:20260420T042659
CREATED:20180304T211711Z
LAST-MODIFIED:20180304T213820Z
UID:10000916-1521381600-1521392400@www.ezechiel.org
SUMMARY:Zondagse dienst: Ferry Kotadiny
DESCRIPTION:De zondagse diensten worden gehouden in kerkelijk centrum “De Regenboog”.  Het adres is: Nathaliegang 263\, 2719 CR Zoetermeer (wijk: Rokkeveen). \n\nGastspreker: br. Ferry Kotadiny
URL:https://www.ezechiel.org/agenda/zondagse-dienst-ferry-kotadiny/
LOCATION:Gebouw De Regenboog\, Nathaliegang 263\, Zoetermeer\, Zuid-Holland\, 2719 CR\, Nederland
CATEGORIES:Zondagse dienst
ORGANIZER;CN="Gods Gemeente Ezechi%C3%ABl Zoetermeer":MAILTO:info@ezechiel.org
GEO:52.0435067;4.4796195
X-APPLE-STRUCTURED-LOCATION;VALUE=URI;X-ADDRESS=Gebouw De Regenboog Nathaliegang 263 Zoetermeer Zuid-Holland 2719 CR Nederland;X-APPLE-RADIUS=500;X-TITLE=Nathaliegang 263:geo:4.4796195,52.0435067
END:VEVENT
BEGIN:VEVENT
DTSTART;TZID=Europe/Amsterdam:20180311T140000
DTEND;TZID=Europe/Amsterdam:20180311T170000
DTSTAMP:20260420T042659
CREATED:20180304T211443Z
LAST-MODIFIED:20180304T214139Z
UID:10000915-1520776800-1520787600@www.ezechiel.org
SUMMARY:Zondagse dienst
DESCRIPTION:De zondagse diensten worden gehouden in kerkelijk centrum “De Regenboog”.  Het adres is: Nathaliegang 263\, 2719 CR Zoetermeer (wijk: Rokkeveen). \n\nSpreker: pastor Theo van Heijdoorn
URL:https://www.ezechiel.org/agenda/zondagse-dienst-7/
LOCATION:Gebouw De Regenboog\, Nathaliegang 263\, Zoetermeer\, Zuid-Holland\, 2719 CR\, Nederland
CATEGORIES:Zondagse dienst
ORGANIZER;CN="Gods Gemeente Ezechi%C3%ABl Zoetermeer":MAILTO:info@ezechiel.org
GEO:52.0435067;4.4796195
X-APPLE-STRUCTURED-LOCATION;VALUE=URI;X-ADDRESS=Gebouw De Regenboog Nathaliegang 263 Zoetermeer Zuid-Holland 2719 CR Nederland;X-APPLE-RADIUS=500;X-TITLE=Nathaliegang 263:geo:4.4796195,52.0435067
END:VEVENT
BEGIN:VEVENT
DTSTART;TZID=Europe/Amsterdam:20180225T140000
DTEND;TZID=Europe/Amsterdam:20180225T170000
DTSTAMP:20260420T042659
CREATED:20180202T202633Z
LAST-MODIFIED:20180213T195023Z
UID:10000909-1519567200-1519578000@www.ezechiel.org
SUMMARY:Zondagse dienst
DESCRIPTION:De zondagse diensten worden gehouden in kerkelijk centrum “De Regenboog”.  Het adres is: Nathaliegang 263\, 2719 CR Zoetermeer (wijk: Rokkeveen). \n\nGastspreker: br. Ray de Lima
URL:https://www.ezechiel.org/agenda/zondagse-dienst-6/
LOCATION:Gebouw De Regenboog\, Nathaliegang 263\, Zoetermeer\, Zuid-Holland\, 2719 CR\, Nederland
CATEGORIES:Zondagse dienst
ORGANIZER;CN="Gods Gemeente Ezechi%C3%ABl Zoetermeer":MAILTO:info@ezechiel.org
GEO:52.0435067;4.4796195
X-APPLE-STRUCTURED-LOCATION;VALUE=URI;X-ADDRESS=Gebouw De Regenboog Nathaliegang 263 Zoetermeer Zuid-Holland 2719 CR Nederland;X-APPLE-RADIUS=500;X-TITLE=Nathaliegang 263:geo:4.4796195,52.0435067
END:VEVENT
BEGIN:VEVENT
DTSTART;TZID=Europe/Amsterdam:20180218T140000
DTEND;TZID=Europe/Amsterdam:20180218T170000
DTSTAMP:20260420T042659
CREATED:20180202T202243Z
LAST-MODIFIED:20180212T220549Z
UID:10000908-1518962400-1518973200@www.ezechiel.org
SUMMARY:Zondagse dienst "Als het om de liefde gaat"
DESCRIPTION:De zondagse diensten worden gehouden in kerkelijk centrum “De Regenboog”.  Het adres is: Nathaliegang 263\, 2719 CR Zoetermeer (wijk: Rokkeveen). \n\nSpreker: pastora  Diana van Heijdoorn\nThema: Als het om de liefde gaat
URL:https://www.ezechiel.org/agenda/zondagse-dienst-5/
LOCATION:Gebouw De Regenboog\, Nathaliegang 263\, Zoetermeer\, Zuid-Holland\, 2719 CR\, Nederland
CATEGORIES:Zondagse dienst
ORGANIZER;CN="Gods Gemeente Ezechi%C3%ABl Zoetermeer":MAILTO:info@ezechiel.org
GEO:52.0435067;4.4796195
X-APPLE-STRUCTURED-LOCATION;VALUE=URI;X-ADDRESS=Gebouw De Regenboog Nathaliegang 263 Zoetermeer Zuid-Holland 2719 CR Nederland;X-APPLE-RADIUS=500;X-TITLE=Nathaliegang 263:geo:4.4796195,52.0435067
END:VEVENT
BEGIN:VEVENT
DTSTART;TZID=Europe/Amsterdam:20180211T140000
DTEND;TZID=Europe/Amsterdam:20180211T170000
DTSTAMP:20260420T042659
CREATED:20180202T201923Z
LAST-MODIFIED:20180202T201923Z
UID:10000907-1518357600-1518368400@www.ezechiel.org
SUMMARY:Zondagse dienst
DESCRIPTION:De zondagse diensten worden gehouden in kerkelijk centrum “De Regenboog”.  Het adres is: Nathaliegang 263\, 2719 CR Zoetermeer (wijk: Rokkeveen). \n\nSpreker: pastor Theo van Heijdoorn
URL:https://www.ezechiel.org/agenda/zondagse-dienst-4/
LOCATION:Gebouw De Regenboog\, Nathaliegang 263\, Zoetermeer\, Zuid-Holland\, 2719 CR\, Nederland
CATEGORIES:Zondagse dienst
ORGANIZER;CN="Gods Gemeente Ezechi%C3%ABl Zoetermeer":MAILTO:info@ezechiel.org
GEO:52.0435067;4.4796195
X-APPLE-STRUCTURED-LOCATION;VALUE=URI;X-ADDRESS=Gebouw De Regenboog Nathaliegang 263 Zoetermeer Zuid-Holland 2719 CR Nederland;X-APPLE-RADIUS=500;X-TITLE=Nathaliegang 263:geo:4.4796195,52.0435067
END:VEVENT
BEGIN:VEVENT
DTSTART;TZID=Europe/Amsterdam:20180204T140000
DTEND;TZID=Europe/Amsterdam:20180204T170000
DTSTAMP:20260420T042659
CREATED:20180202T194456Z
LAST-MODIFIED:20180202T194805Z
UID:10000906-1517752800-1517763600@www.ezechiel.org
SUMMARY:Zondagse dienst
DESCRIPTION:De zondagse diensten worden gehouden in kerkelijk centrum “De Regenboog”.  Het adres is: Nathaliegang 263\, 2719 CR Zoetermeer (wijk: Rokkeveen). \n\nSpreker: pastor Theo van Heijdoorn\nThema: Avondmaal
URL:https://www.ezechiel.org/agenda/zondagse-dienst-3/
LOCATION:Gebouw De Regenboog\, Nathaliegang 263\, Zoetermeer\, Zuid-Holland\, 2719 CR\, Nederland
CATEGORIES:Zondagse dienst
ORGANIZER;CN="Gods Gemeente Ezechi%C3%ABl Zoetermeer":MAILTO:info@ezechiel.org
GEO:52.0435067;4.4796195
X-APPLE-STRUCTURED-LOCATION;VALUE=URI;X-ADDRESS=Gebouw De Regenboog Nathaliegang 263 Zoetermeer Zuid-Holland 2719 CR Nederland;X-APPLE-RADIUS=500;X-TITLE=Nathaliegang 263:geo:4.4796195,52.0435067
END:VEVENT
BEGIN:VEVENT
DTSTART;TZID=Europe/Amsterdam:20171231T140000
DTEND;TZID=Europe/Amsterdam:20171231T170000
DTSTAMP:20260420T042659
CREATED:20171206T015237Z
LAST-MODIFIED:20180115T174342Z
UID:10000905-1514728800-1514739600@www.ezechiel.org
SUMMARY:Zondagse dienst: Eindjaarsbijeenkomst
DESCRIPTION:Locatie: Gebouw De Regenboog \n31 december 2017 14:00 uur \nDe zondagse diensten worden gehouden in het kerkelijk centrum “De Regenboog” \nAdres: Nathaliegang 263\, 2719 CR Zoetermeer (wijk: Rokkeveen). \nAanvang dienst: 14:00 uur \nSpreker: Pastor Theo van Heijdoorn \nKorte eindjaarsbijeenkomst
URL:https://www.ezechiel.org/agenda/zondagse-dienst-eindjaarsbijeenkomst/
LOCATION:Gebouw De Regenboog\, Nathaliegang 263\, Zoetermeer\, Zuid-Holland\, 2719 CR\, Nederland
CATEGORIES:Zondagse dienst
ORGANIZER;CN="Gods Gemeente Ezechi%C3%ABl Zoetermeer":MAILTO:info@ezechiel.org
GEO:52.0435067;4.4796195
X-APPLE-STRUCTURED-LOCATION;VALUE=URI;X-ADDRESS=Gebouw De Regenboog Nathaliegang 263 Zoetermeer Zuid-Holland 2719 CR Nederland;X-APPLE-RADIUS=500;X-TITLE=Nathaliegang 263:geo:4.4796195,52.0435067
END:VEVENT
BEGIN:VEVENT
DTSTART;TZID=Europe/Amsterdam:20171217T140000
DTEND;TZID=Europe/Amsterdam:20171217T170000
DTSTAMP:20260420T042659
CREATED:20171206T014851Z
LAST-MODIFIED:20171206T014851Z
UID:10000889-1513519200-1513530000@www.ezechiel.org
SUMMARY:Zondagse dienst
DESCRIPTION:Locatie: Gebouw De Regenboog \n17 december 2017 14:00 uur \nDe zondagse diensten worden gehouden in het kerkelijk centrum “De Regenboog” \nAdres: Nathaliegang 263\, 2719 CR Zoetermeer (wijk: Rokkeveen). \nAanvang dienst: 14:00 uur \nSpreker: br. Bennett Vasconcellos
URL:https://www.ezechiel.org/agenda/zondagse-dienst-2/
LOCATION:Gebouw De Regenboog\, Nathaliegang 263\, Zoetermeer\, Zuid-Holland\, 2719 CR\, Nederland
CATEGORIES:Zondagse dienst
ORGANIZER;CN="Gods Gemeente Ezechi%C3%ABl Zoetermeer":MAILTO:info@ezechiel.org
GEO:52.0435067;4.4796195
X-APPLE-STRUCTURED-LOCATION;VALUE=URI;X-ADDRESS=Gebouw De Regenboog Nathaliegang 263 Zoetermeer Zuid-Holland 2719 CR Nederland;X-APPLE-RADIUS=500;X-TITLE=Nathaliegang 263:geo:4.4796195,52.0435067
END:VEVENT
BEGIN:VEVENT
DTSTART;TZID=Europe/Amsterdam:20171210T140000
DTEND;TZID=Europe/Amsterdam:20171210T170000
DTSTAMP:20260420T042659
CREATED:20171206T014526Z
LAST-MODIFIED:20171206T014526Z
UID:10000893-1512914400-1512925200@www.ezechiel.org
SUMMARY:Zondagse dienst
DESCRIPTION:Locatie: Gebouw De Regenboog \n10 december 2017 14:00 uur \nDe zondagse diensten worden gehouden in het kerkelijk centrum “De Regenboog” \nAdres: Nathaliegang 263\, 2719 CR Zoetermeer (wijk: Rokkeveen). \nAanvang dienst: 14:00 uur \nSpreker: br. Noes Lokollo
URL:https://www.ezechiel.org/agenda/zondagse-dienst/
LOCATION:Gebouw De Regenboog\, Nathaliegang 263\, Zoetermeer\, Zuid-Holland\, 2719 CR\, Nederland
CATEGORIES:Zondagse dienst
ORGANIZER;CN="Gods Gemeente Ezechi%C3%ABl Zoetermeer":MAILTO:info@ezechiel.org
GEO:52.0435067;4.4796195
X-APPLE-STRUCTURED-LOCATION;VALUE=URI;X-ADDRESS=Gebouw De Regenboog Nathaliegang 263 Zoetermeer Zuid-Holland 2719 CR Nederland;X-APPLE-RADIUS=500;X-TITLE=Nathaliegang 263:geo:4.4796195,52.0435067
END:VEVENT
END:VCALENDAR