BEGIN:VCALENDAR
VERSION:2.0
PRODID:-//Gods Gemeente Ezechiël Zoetermeer - ECPv6.12.0.1//NONSGML v1.0//EN
CALSCALE:GREGORIAN
METHOD:PUBLISH
X-ORIGINAL-URL:https://www.ezechiel.org
X-WR-CALDESC:Evenementen voor Gods Gemeente Ezechiël Zoetermeer
REFRESH-INTERVAL;VALUE=DURATION:PT1H
X-Robots-Tag:noindex
X-PUBLISHED-TTL:PT1H
BEGIN:VTIMEZONE
TZID:Europe/Amsterdam
BEGIN:DAYLIGHT
TZOFFSETFROM:+0100
TZOFFSETTO:+0200
TZNAME:CEST
DTSTART:20190331T010000
END:DAYLIGHT
BEGIN:STANDARD
TZOFFSETFROM:+0200
TZOFFSETTO:+0100
TZNAME:CET
DTSTART:20191027T010000
END:STANDARD
END:VTIMEZONE
BEGIN:VEVENT
DTSTART;TZID=Europe/Amsterdam:20190621T220000
DTEND;TZID=Europe/Amsterdam:20190622T060000
DTSTAMP:20260420T003718
CREATED:20190603T194242Z
LAST-MODIFIED:20190603T194850Z
UID:10000352-1561154400-1561183200@www.ezechiel.org
SUMMARY:Nacht van Gebed
DESCRIPTION:Samen bidden voor onze verdrukte broeders en zusters in de hele wereld.Iedereen is welkom om mee te bidden. U kunt uw eigen tijd bepalen en binnenkomen en weer vertrekken wanneer het u uitkomt. \n Wij komen samen in de “Uitkijk” – Wattstraat 64 – Zoetermeer. (Gebouw van de Parousiagemeente). Hoop u daar te zullen ontmoeten!! \n 
URL:https://www.ezechiel.org/agenda/nacht-van-gebed/
LOCATION:De Uitkijk (Parousia gemeente)\, Wattstraat 64\, Zoetermeer\, Zuid-Holland\, 2718 KZ\, Nederland
CATEGORIES:Special Event
ORGANIZER;CN="Gods Gemeente Ezechi%C3%ABl Zoetermeer":MAILTO:info@ezechiel.org
END:VEVENT
BEGIN:VEVENT
DTSTART;TZID=Europe/Amsterdam:20190530T103000
DTEND;TZID=Europe/Amsterdam:20190530T120000
DTSTAMP:20260420T003718
CREATED:20190510T200435Z
LAST-MODIFIED:20190510T200458Z
UID:10000350-1559212200-1559217600@www.ezechiel.org
SUMMARY:Hemelvaartsviering (BEGZ)
DESCRIPTION:Gezamenlijke viering van de Evangelie Gemeenten Zoetermeer BEGZ. \nGastspreker Christian Tan \nDatum: donderdag 30 mei om 10:30-12:00 uur\nLocatie: De Uitkijk (Parousia gemeente)\nWattstraat 64\, 2718 KZ\, Zoetermeer \nLet op!: De Studie en Gebedsavond om 20:00 u komt hierdoor te vervallen!!
URL:https://www.ezechiel.org/agenda/hemelvaartsviering-begz/
LOCATION:De Uitkijk (Parousia gemeente)\, Wattstraat 64\, Zoetermeer\, Zuid-Holland\, 2718 KZ\, Nederland
CATEGORIES:Special Event
ORGANIZER;CN="Gods Gemeente Ezechi%C3%ABl Zoetermeer":MAILTO:info@ezechiel.org
END:VEVENT
END:VCALENDAR