BEGIN:VCALENDAR
VERSION:2.0
PRODID:-//Gods Gemeente Ezechiël Zoetermeer - ECPv6.12.0.1//NONSGML v1.0//EN
CALSCALE:GREGORIAN
METHOD:PUBLISH
X-WR-CALNAME:Gods Gemeente Ezechiël Zoetermeer
X-ORIGINAL-URL:https://www.ezechiel.org
X-WR-CALDESC:Evenementen voor Gods Gemeente Ezechiël Zoetermeer
REFRESH-INTERVAL;VALUE=DURATION:PT1H
X-Robots-Tag:noindex
X-PUBLISHED-TTL:PT1H
BEGIN:VTIMEZONE
TZID:Europe/Amsterdam
BEGIN:DAYLIGHT
TZOFFSETFROM:+0100
TZOFFSETTO:+0200
TZNAME:CEST
DTSTART:20230326T010000
END:DAYLIGHT
BEGIN:STANDARD
TZOFFSETFROM:+0200
TZOFFSETTO:+0100
TZNAME:CET
DTSTART:20231029T010000
END:STANDARD
END:VTIMEZONE
BEGIN:VEVENT
DTSTART;TZID=Europe/Amsterdam:20230212T103000
DTEND;TZID=Europe/Amsterdam:20230212T123000
DTSTAMP:20260423T020608
CREATED:20220429T160926Z
LAST-MODIFIED:20230516T204852Z
UID:10000864-1676197800-1676205000@www.ezechiel.org
SUMMARY:Zondagse samenkomst
DESCRIPTION:Wij willen u graag nader kennis laten maken met onze gemeente en de inspirerende boodschap\, die wij uitdragen. Wij nodigen u uit om een van onze samenkomsten te bezoeken. \nDie zijn er op elke zondag om 10.30 uur in het Wijkcentrum De Vlieger; Groenblauwlaan 133; 2718 GH; Zoetermeer (Rokkeveen-Oost). Na de samenkomsten gelegenheid voor een hapje en drankje en tijd voor persoonlijk gebed. \nHartelijke groeten en tot gauw. \nContact: Info@ezechiel.org. 
URL:https://www.ezechiel.org/agenda/zondagse-samenkomst-8/2023-02-12/
LOCATION:Wijkcentrum De Vlieger\, Groenblauwlaan 133\,\, Zoetermeer\, Zuid-Holland\, 2718 GH\, Nederland
CATEGORIES:Zondagse dienst
ORGANIZER;CN="Gods Gemeente Ezechi%C3%ABl Zoetermeer":MAILTO:info@ezechiel.org
END:VEVENT
BEGIN:VEVENT
DTSTART;TZID=Europe/Amsterdam:20230219T103000
DTEND;TZID=Europe/Amsterdam:20230219T123000
DTSTAMP:20260423T020608
CREATED:20220429T160926Z
LAST-MODIFIED:20230516T204852Z
UID:10000865-1676802600-1676809800@www.ezechiel.org
SUMMARY:Zondagse samenkomst
DESCRIPTION:Wij willen u graag nader kennis laten maken met onze gemeente en de inspirerende boodschap\, die wij uitdragen. Wij nodigen u uit om een van onze samenkomsten te bezoeken. \nDie zijn er op elke zondag om 10.30 uur in het Wijkcentrum De Vlieger; Groenblauwlaan 133; 2718 GH; Zoetermeer (Rokkeveen-Oost). Na de samenkomsten gelegenheid voor een hapje en drankje en tijd voor persoonlijk gebed. \nHartelijke groeten en tot gauw. \nContact: Info@ezechiel.org. 
URL:https://www.ezechiel.org/agenda/zondagse-samenkomst-8/2023-02-19/
LOCATION:Wijkcentrum De Vlieger\, Groenblauwlaan 133\,\, Zoetermeer\, Zuid-Holland\, 2718 GH\, Nederland
CATEGORIES:Zondagse dienst
ORGANIZER;CN="Gods Gemeente Ezechi%C3%ABl Zoetermeer":MAILTO:info@ezechiel.org
END:VEVENT
BEGIN:VEVENT
DTSTART;TZID=Europe/Amsterdam:20230226T103000
DTEND;TZID=Europe/Amsterdam:20230226T123000
DTSTAMP:20260423T020608
CREATED:20220429T160926Z
LAST-MODIFIED:20230516T204852Z
UID:10000866-1677407400-1677414600@www.ezechiel.org
SUMMARY:Zondagse samenkomst
DESCRIPTION:Wij willen u graag nader kennis laten maken met onze gemeente en de inspirerende boodschap\, die wij uitdragen. Wij nodigen u uit om een van onze samenkomsten te bezoeken. \nDie zijn er op elke zondag om 10.30 uur in het Wijkcentrum De Vlieger; Groenblauwlaan 133; 2718 GH; Zoetermeer (Rokkeveen-Oost). Na de samenkomsten gelegenheid voor een hapje en drankje en tijd voor persoonlijk gebed. \nHartelijke groeten en tot gauw. \nContact: Info@ezechiel.org. 
URL:https://www.ezechiel.org/agenda/zondagse-samenkomst-8/2023-02-26/
LOCATION:Wijkcentrum De Vlieger\, Groenblauwlaan 133\,\, Zoetermeer\, Zuid-Holland\, 2718 GH\, Nederland
CATEGORIES:Zondagse dienst
ORGANIZER;CN="Gods Gemeente Ezechi%C3%ABl Zoetermeer":MAILTO:info@ezechiel.org
END:VEVENT
END:VCALENDAR