BEGIN:VCALENDAR
VERSION:2.0
PRODID:-//Gods Gemeente Ezechiël Zoetermeer - ECPv6.12.0.1//NONSGML v1.0//EN
CALSCALE:GREGORIAN
METHOD:PUBLISH
X-ORIGINAL-URL:https://www.ezechiel.org
X-WR-CALDESC:Evenementen voor Gods Gemeente Ezechiël Zoetermeer
REFRESH-INTERVAL;VALUE=DURATION:PT1H
X-Robots-Tag:noindex
X-PUBLISHED-TTL:PT1H
BEGIN:VTIMEZONE
TZID:Europe/Amsterdam
BEGIN:DAYLIGHT
TZOFFSETFROM:+0100
TZOFFSETTO:+0200
TZNAME:CEST
DTSTART:20220327T010000
END:DAYLIGHT
BEGIN:STANDARD
TZOFFSETFROM:+0200
TZOFFSETTO:+0100
TZNAME:CET
DTSTART:20221030T010000
END:STANDARD
END:VTIMEZONE
BEGIN:VEVENT
DTSTART;TZID=Europe/Amsterdam:20220703T103000
DTEND;TZID=Europe/Amsterdam:20220703T123000
DTSTAMP:20260422T173730
CREATED:20220429T160926Z
LAST-MODIFIED:20230516T204852Z
UID:10000833-1656844200-1656851400@www.ezechiel.org
SUMMARY:Zondagse samenkomst
DESCRIPTION:Wij willen u graag nader kennis laten maken met onze gemeente en de inspirerende boodschap\, die wij uitdragen. Wij nodigen u uit om een van onze samenkomsten te bezoeken. \nDie zijn er op elke zondag om 10.30 uur in het Wijkcentrum De Vlieger; Groenblauwlaan 133; 2718 GH; Zoetermeer (Rokkeveen-Oost). Na de samenkomsten gelegenheid voor een hapje en drankje en tijd voor persoonlijk gebed. \nHartelijke groeten en tot gauw. \nContact: Info@ezechiel.org. 
URL:https://www.ezechiel.org/agenda/zondagse-samenkomst-8/2022-07-03/
LOCATION:Wijkcentrum De Vlieger\, Groenblauwlaan 133\,\, Zoetermeer\, Zuid-Holland\, 2718 GH\, Nederland
CATEGORIES:Zondagse dienst
ORGANIZER;CN="Gods Gemeente Ezechi%C3%ABl Zoetermeer":MAILTO:info@ezechiel.org
END:VEVENT
BEGIN:VEVENT
DTSTART;TZID=Europe/Amsterdam:20220710T103000
DTEND;TZID=Europe/Amsterdam:20220710T123000
DTSTAMP:20260422T173730
CREATED:20220429T160926Z
LAST-MODIFIED:20230516T204852Z
UID:10000834-1657449000-1657456200@www.ezechiel.org
SUMMARY:Zondagse samenkomst
DESCRIPTION:Wij willen u graag nader kennis laten maken met onze gemeente en de inspirerende boodschap\, die wij uitdragen. Wij nodigen u uit om een van onze samenkomsten te bezoeken. \nDie zijn er op elke zondag om 10.30 uur in het Wijkcentrum De Vlieger; Groenblauwlaan 133; 2718 GH; Zoetermeer (Rokkeveen-Oost). Na de samenkomsten gelegenheid voor een hapje en drankje en tijd voor persoonlijk gebed. \nHartelijke groeten en tot gauw. \nContact: Info@ezechiel.org. 
URL:https://www.ezechiel.org/agenda/zondagse-samenkomst-8/2022-07-10/
LOCATION:Wijkcentrum De Vlieger\, Groenblauwlaan 133\,\, Zoetermeer\, Zuid-Holland\, 2718 GH\, Nederland
CATEGORIES:Zondagse dienst
ORGANIZER;CN="Gods Gemeente Ezechi%C3%ABl Zoetermeer":MAILTO:info@ezechiel.org
END:VEVENT
BEGIN:VEVENT
DTSTART;TZID=Europe/Amsterdam:20220717T103000
DTEND;TZID=Europe/Amsterdam:20220717T123000
DTSTAMP:20260422T173730
CREATED:20220429T160926Z
LAST-MODIFIED:20230516T204852Z
UID:10000835-1658053800-1658061000@www.ezechiel.org
SUMMARY:Zondagse samenkomst
DESCRIPTION:Wij willen u graag nader kennis laten maken met onze gemeente en de inspirerende boodschap\, die wij uitdragen. Wij nodigen u uit om een van onze samenkomsten te bezoeken. \nDie zijn er op elke zondag om 10.30 uur in het Wijkcentrum De Vlieger; Groenblauwlaan 133; 2718 GH; Zoetermeer (Rokkeveen-Oost). Na de samenkomsten gelegenheid voor een hapje en drankje en tijd voor persoonlijk gebed. \nHartelijke groeten en tot gauw. \nContact: Info@ezechiel.org. 
URL:https://www.ezechiel.org/agenda/zondagse-samenkomst-8/2022-07-17/
LOCATION:Wijkcentrum De Vlieger\, Groenblauwlaan 133\,\, Zoetermeer\, Zuid-Holland\, 2718 GH\, Nederland
CATEGORIES:Zondagse dienst
ORGANIZER;CN="Gods Gemeente Ezechi%C3%ABl Zoetermeer":MAILTO:info@ezechiel.org
END:VEVENT
BEGIN:VEVENT
DTSTART;TZID=Europe/Amsterdam:20220724T103000
DTEND;TZID=Europe/Amsterdam:20220724T123000
DTSTAMP:20260422T173730
CREATED:20220429T160926Z
LAST-MODIFIED:20230516T204852Z
UID:10000836-1658658600-1658665800@www.ezechiel.org
SUMMARY:Zondagse samenkomst
DESCRIPTION:Wij willen u graag nader kennis laten maken met onze gemeente en de inspirerende boodschap\, die wij uitdragen. Wij nodigen u uit om een van onze samenkomsten te bezoeken. \nDie zijn er op elke zondag om 10.30 uur in het Wijkcentrum De Vlieger; Groenblauwlaan 133; 2718 GH; Zoetermeer (Rokkeveen-Oost). Na de samenkomsten gelegenheid voor een hapje en drankje en tijd voor persoonlijk gebed. \nHartelijke groeten en tot gauw. \nContact: Info@ezechiel.org. 
URL:https://www.ezechiel.org/agenda/zondagse-samenkomst-8/2022-07-24/
LOCATION:Wijkcentrum De Vlieger\, Groenblauwlaan 133\,\, Zoetermeer\, Zuid-Holland\, 2718 GH\, Nederland
CATEGORIES:Zondagse dienst
ORGANIZER;CN="Gods Gemeente Ezechi%C3%ABl Zoetermeer":MAILTO:info@ezechiel.org
END:VEVENT
BEGIN:VEVENT
DTSTART;TZID=Europe/Amsterdam:20220731T103000
DTEND;TZID=Europe/Amsterdam:20220731T123000
DTSTAMP:20260422T173730
CREATED:20220429T160926Z
LAST-MODIFIED:20230516T204852Z
UID:10000837-1659263400-1659270600@www.ezechiel.org
SUMMARY:Zondagse samenkomst
DESCRIPTION:Wij willen u graag nader kennis laten maken met onze gemeente en de inspirerende boodschap\, die wij uitdragen. Wij nodigen u uit om een van onze samenkomsten te bezoeken. \nDie zijn er op elke zondag om 10.30 uur in het Wijkcentrum De Vlieger; Groenblauwlaan 133; 2718 GH; Zoetermeer (Rokkeveen-Oost). Na de samenkomsten gelegenheid voor een hapje en drankje en tijd voor persoonlijk gebed. \nHartelijke groeten en tot gauw. \nContact: Info@ezechiel.org. 
URL:https://www.ezechiel.org/agenda/zondagse-samenkomst-8/2022-07-31/
LOCATION:Wijkcentrum De Vlieger\, Groenblauwlaan 133\,\, Zoetermeer\, Zuid-Holland\, 2718 GH\, Nederland
CATEGORIES:Zondagse dienst
ORGANIZER;CN="Gods Gemeente Ezechi%C3%ABl Zoetermeer":MAILTO:info@ezechiel.org
END:VEVENT
END:VCALENDAR