BEGIN:VCALENDAR
VERSION:2.0
PRODID:-//Gods Gemeente Ezechiël Zoetermeer - ECPv6.12.0.1//NONSGML v1.0//EN
CALSCALE:GREGORIAN
METHOD:PUBLISH
X-WR-CALNAME:Gods Gemeente Ezechiël Zoetermeer
X-ORIGINAL-URL:https://www.ezechiel.org
X-WR-CALDESC:Evenementen voor Gods Gemeente Ezechiël Zoetermeer
REFRESH-INTERVAL;VALUE=DURATION:PT1H
X-Robots-Tag:noindex
X-PUBLISHED-TTL:PT1H
BEGIN:VTIMEZONE
TZID:Europe/Amsterdam
BEGIN:DAYLIGHT
TZOFFSETFROM:+0100
TZOFFSETTO:+0200
TZNAME:CEST
DTSTART:20220327T010000
END:DAYLIGHT
BEGIN:STANDARD
TZOFFSETFROM:+0200
TZOFFSETTO:+0100
TZNAME:CET
DTSTART:20221030T010000
END:STANDARD
END:VTIMEZONE
BEGIN:VEVENT
DTSTART;TZID=Europe/Amsterdam:20220501T103000
DTEND;TZID=Europe/Amsterdam:20220501T123000
DTSTAMP:20260423T000015
CREATED:20220429T160926Z
LAST-MODIFIED:20230516T204852Z
UID:10000824-1651401000-1651408200@www.ezechiel.org
SUMMARY:Zondagse samenkomst
DESCRIPTION:Wij willen u graag nader kennis laten maken met onze gemeente en de inspirerende boodschap\, die wij uitdragen. Wij nodigen u uit om een van onze samenkomsten te bezoeken. \nDie zijn er op elke zondag om 10.30 uur in het Wijkcentrum De Vlieger; Groenblauwlaan 133; 2718 GH; Zoetermeer (Rokkeveen-Oost). Na de samenkomsten gelegenheid voor een hapje en drankje en tijd voor persoonlijk gebed. \nHartelijke groeten en tot gauw. \nContact: Info@ezechiel.org. 
URL:https://www.ezechiel.org/agenda/zondagse-samenkomst-8/2022-05-01/
LOCATION:Wijkcentrum De Vlieger\, Groenblauwlaan 133\,\, Zoetermeer\, Zuid-Holland\, 2718 GH\, Nederland
CATEGORIES:Zondagse dienst
ORGANIZER;CN="Gods Gemeente Ezechi%C3%ABl Zoetermeer":MAILTO:info@ezechiel.org
END:VEVENT
BEGIN:VEVENT
DTSTART;TZID=Europe/Amsterdam:20220508T103000
DTEND;TZID=Europe/Amsterdam:20220508T123000
DTSTAMP:20260423T000015
CREATED:20220429T160926Z
LAST-MODIFIED:20230516T204852Z
UID:10000825-1652005800-1652013000@www.ezechiel.org
SUMMARY:Zondagse samenkomst
DESCRIPTION:Wij willen u graag nader kennis laten maken met onze gemeente en de inspirerende boodschap\, die wij uitdragen. Wij nodigen u uit om een van onze samenkomsten te bezoeken. \nDie zijn er op elke zondag om 10.30 uur in het Wijkcentrum De Vlieger; Groenblauwlaan 133; 2718 GH; Zoetermeer (Rokkeveen-Oost). Na de samenkomsten gelegenheid voor een hapje en drankje en tijd voor persoonlijk gebed. \nHartelijke groeten en tot gauw. \nContact: Info@ezechiel.org. 
URL:https://www.ezechiel.org/agenda/zondagse-samenkomst-8/2022-05-08/
LOCATION:Wijkcentrum De Vlieger\, Groenblauwlaan 133\,\, Zoetermeer\, Zuid-Holland\, 2718 GH\, Nederland
CATEGORIES:Zondagse dienst
ORGANIZER;CN="Gods Gemeente Ezechi%C3%ABl Zoetermeer":MAILTO:info@ezechiel.org
END:VEVENT
BEGIN:VEVENT
DTSTART;TZID=Europe/Amsterdam:20220515T103000
DTEND;TZID=Europe/Amsterdam:20220515T123000
DTSTAMP:20260423T000015
CREATED:20220429T160926Z
LAST-MODIFIED:20230516T204852Z
UID:10000826-1652610600-1652617800@www.ezechiel.org
SUMMARY:Zondagse samenkomst
DESCRIPTION:Wij willen u graag nader kennis laten maken met onze gemeente en de inspirerende boodschap\, die wij uitdragen. Wij nodigen u uit om een van onze samenkomsten te bezoeken. \nDie zijn er op elke zondag om 10.30 uur in het Wijkcentrum De Vlieger; Groenblauwlaan 133; 2718 GH; Zoetermeer (Rokkeveen-Oost). Na de samenkomsten gelegenheid voor een hapje en drankje en tijd voor persoonlijk gebed. \nHartelijke groeten en tot gauw. \nContact: Info@ezechiel.org. 
URL:https://www.ezechiel.org/agenda/zondagse-samenkomst-8/2022-05-15/
LOCATION:Wijkcentrum De Vlieger\, Groenblauwlaan 133\,\, Zoetermeer\, Zuid-Holland\, 2718 GH\, Nederland
CATEGORIES:Zondagse dienst
ORGANIZER;CN="Gods Gemeente Ezechi%C3%ABl Zoetermeer":MAILTO:info@ezechiel.org
END:VEVENT
BEGIN:VEVENT
DTSTART;TZID=Europe/Amsterdam:20220522T103000
DTEND;TZID=Europe/Amsterdam:20220522T123000
DTSTAMP:20260423T000015
CREATED:20220429T160926Z
LAST-MODIFIED:20230516T204852Z
UID:10000827-1653215400-1653222600@www.ezechiel.org
SUMMARY:Zondagse samenkomst
DESCRIPTION:Wij willen u graag nader kennis laten maken met onze gemeente en de inspirerende boodschap\, die wij uitdragen. Wij nodigen u uit om een van onze samenkomsten te bezoeken. \nDie zijn er op elke zondag om 10.30 uur in het Wijkcentrum De Vlieger; Groenblauwlaan 133; 2718 GH; Zoetermeer (Rokkeveen-Oost). Na de samenkomsten gelegenheid voor een hapje en drankje en tijd voor persoonlijk gebed. \nHartelijke groeten en tot gauw. \nContact: Info@ezechiel.org. 
URL:https://www.ezechiel.org/agenda/zondagse-samenkomst-8/2022-05-22/
LOCATION:Wijkcentrum De Vlieger\, Groenblauwlaan 133\,\, Zoetermeer\, Zuid-Holland\, 2718 GH\, Nederland
CATEGORIES:Zondagse dienst
ORGANIZER;CN="Gods Gemeente Ezechi%C3%ABl Zoetermeer":MAILTO:info@ezechiel.org
END:VEVENT
BEGIN:VEVENT
DTSTART;TZID=Europe/Amsterdam:20220526T130000
DTEND;TZID=Europe/Amsterdam:20220526T140000
DTSTAMP:20260423T000015
CREATED:20220523T204558Z
LAST-MODIFIED:20220523T204828Z
UID:10000882-1653570000-1653573600@www.ezechiel.org
SUMMARY:BEGZ Gezamenlijke Hemelvaartsviering
DESCRIPTION:Geliefde broeders en zusters\, \nAanstaande donderdag is het Hemelvaartsdag en het BEGZ organiseert tijdens deze dag een Hemelvaartsviering samen met verschillende kerken in Zoetermeer. \nDeze bijeenkomst is open voor iedereen en vindt plaats op donderdag 26 mei 2022 van 13:00 tot 14:00 uur op het Marktplein Stadshart in Zoetermeer. \nMeer informatie vindt u in de volgende bijlage: \nHemelvaart 2022 Uitnodiging (klik op deze link) \nMeer informatie vindt u in de volgende bijlage: of op https://www.begz.org. \nHeeft u nog verdere vragen? Stuur een e-mail naar info@ezechiel.org \nGraag tot dan! \n 
URL:https://www.ezechiel.org/agenda/begz-gezamenlijke-hemelvaartsviering/
LOCATION:Marktplein\, Stadshart\, Zoetermeer\, Marseillepad\, 2711 CH Zoetermeer\, Zoetermeer\, Zuid-Holland\, Nederland
CATEGORIES:Special Event
ORGANIZER;CN="Gods Gemeente Ezechi%C3%ABl Zoetermeer":MAILTO:info@ezechiel.org
GEO:52.058848160204;4.4964604394801
X-APPLE-STRUCTURED-LOCATION;VALUE=URI;X-ADDRESS=Marktplein Stadshart Zoetermeer Marseillepad 2711 CH Zoetermeer Zoetermeer Zuid-Holland Nederland;X-APPLE-RADIUS=500;X-TITLE=Marseillepad\, 2711 CH Zoetermeer:geo:4.4964604394801,52.058848160204
END:VEVENT
BEGIN:VEVENT
DTSTART;TZID=Europe/Amsterdam:20220529T103000
DTEND;TZID=Europe/Amsterdam:20220529T123000
DTSTAMP:20260423T000016
CREATED:20220429T160926Z
LAST-MODIFIED:20230516T204852Z
UID:10000828-1653820200-1653827400@www.ezechiel.org
SUMMARY:Zondagse samenkomst
DESCRIPTION:Wij willen u graag nader kennis laten maken met onze gemeente en de inspirerende boodschap\, die wij uitdragen. Wij nodigen u uit om een van onze samenkomsten te bezoeken. \nDie zijn er op elke zondag om 10.30 uur in het Wijkcentrum De Vlieger; Groenblauwlaan 133; 2718 GH; Zoetermeer (Rokkeveen-Oost). Na de samenkomsten gelegenheid voor een hapje en drankje en tijd voor persoonlijk gebed. \nHartelijke groeten en tot gauw. \nContact: Info@ezechiel.org. 
URL:https://www.ezechiel.org/agenda/zondagse-samenkomst-8/2022-05-29/
LOCATION:Wijkcentrum De Vlieger\, Groenblauwlaan 133\,\, Zoetermeer\, Zuid-Holland\, 2718 GH\, Nederland
CATEGORIES:Zondagse dienst
ORGANIZER;CN="Gods Gemeente Ezechi%C3%ABl Zoetermeer":MAILTO:info@ezechiel.org
END:VEVENT
END:VCALENDAR