BEGIN:VCALENDAR
VERSION:2.0
PRODID:-//Gods Gemeente Ezechiël Zoetermeer - ECPv6.12.0.1//NONSGML v1.0//EN
CALSCALE:GREGORIAN
METHOD:PUBLISH
X-ORIGINAL-URL:https://www.ezechiel.org
X-WR-CALDESC:Evenementen voor Gods Gemeente Ezechiël Zoetermeer
REFRESH-INTERVAL;VALUE=DURATION:PT1H
X-Robots-Tag:noindex
X-PUBLISHED-TTL:PT1H
BEGIN:VTIMEZONE
TZID:Europe/Amsterdam
BEGIN:DAYLIGHT
TZOFFSETFROM:+0100
TZOFFSETTO:+0200
TZNAME:CEST
DTSTART:20190331T010000
END:DAYLIGHT
BEGIN:STANDARD
TZOFFSETFROM:+0200
TZOFFSETTO:+0100
TZNAME:CET
DTSTART:20191027T010000
END:STANDARD
END:VTIMEZONE
BEGIN:VEVENT
DTSTART;TZID=Europe/Amsterdam:20191003T200000
DTEND;TZID=Europe/Amsterdam:20191003T213000
DTSTAMP:20260425T134433
CREATED:20190806T145453Z
LAST-MODIFIED:20190806T155702Z
UID:10000367-1570132800-1570138200@www.ezechiel.org
SUMMARY:Bijbelstudies en gebedsavond
DESCRIPTION:Deze avonden zullen voor een deel bestaan uit studies\, met verschillende thema’s en onderwerpen. Wij hopen broeders en zusters op deze manier bijbels toe te mogen rusten zodat zij kracht en wijsheid zullen hebben om te kunnen blijven doorgaan in deze vaak lastige en moeilijke tijden. \nHierna zal dan iedere keer genoeg tijd beschikbaar zijn om met elkaar te bidden en te danken voor alle noden die men zal aangegeven en ook voor onze broeders en zusters en alle anderen in de rest van de wereld. \nDe Bijbelstudies en gebedavonden vinden ook op locatie De Regenboogkerk\, Nathaliegang 263\, 2719 CR Zoetermeer plaats.
URL:https://www.ezechiel.org/agenda/bijbelstudie-en-gebedsavond-16/2019-10-03/
LOCATION:Gebouw De Regenboog\, Nathaliegang 263\, Zoetermeer\, Zuid-Holland\, 2719 CR\, Nederland
CATEGORIES:Bijbelstudie en gebedsavond
ORGANIZER;CN="Gods Gemeente Ezechi%C3%ABl Zoetermeer":MAILTO:info@ezechiel.org
GEO:52.0435067;4.4796195
X-APPLE-STRUCTURED-LOCATION;VALUE=URI;X-ADDRESS=Gebouw De Regenboog Nathaliegang 263 Zoetermeer Zuid-Holland 2719 CR Nederland;X-APPLE-RADIUS=500;X-TITLE=Nathaliegang 263:geo:4.4796195,52.0435067
END:VEVENT
BEGIN:VEVENT
DTSTART;TZID=Europe/Amsterdam:20191006T140000
DTEND;TZID=Europe/Amsterdam:20191006T160000
DTSTAMP:20260425T134433
CREATED:20191001T135435Z
LAST-MODIFIED:20191001T135435Z
UID:10000993-1570370400-1570377600@www.ezechiel.org
SUMMARY:Zondagse samenkomst
DESCRIPTION:Samenkomsten op zondag om 14:00 uur in Gebouw De Regenboog. \nData en sprekers maand oktober 2019:  \n\n6  oktober     br. Theo van Heijdoorn + Avondmaal \n13 oktober   br. Theo van Heijdoorn\n20 oktober  br. Theo van Heijdoorn \n27 oktober  br. Hugo Bakboord \n\nVoor meer informatie zie ook het programma en de mededelingen. 
URL:https://www.ezechiel.org/agenda/zondagse-samenkomst-6/2019-10-06/
LOCATION:Gebouw De Regenboog\, Nathaliegang 263\, Zoetermeer\, Zuid-Holland\, 2719 CR\, Nederland
CATEGORIES:Zondagse dienst
ORGANIZER;CN="Gods Gemeente Ezechi%C3%ABl Zoetermeer":MAILTO:info@ezechiel.org
GEO:52.0435067;4.4796195
X-APPLE-STRUCTURED-LOCATION;VALUE=URI;X-ADDRESS=Gebouw De Regenboog Nathaliegang 263 Zoetermeer Zuid-Holland 2719 CR Nederland;X-APPLE-RADIUS=500;X-TITLE=Nathaliegang 263:geo:4.4796195,52.0435067
END:VEVENT
BEGIN:VEVENT
DTSTART;TZID=Europe/Amsterdam:20191013T140000
DTEND;TZID=Europe/Amsterdam:20191013T160000
DTSTAMP:20260425T134433
CREATED:20191001T135435Z
LAST-MODIFIED:20191001T135435Z
UID:10000994-1570975200-1570982400@www.ezechiel.org
SUMMARY:Zondagse samenkomst
DESCRIPTION:Samenkomsten op zondag om 14:00 uur in Gebouw De Regenboog. \nData en sprekers maand oktober 2019:  \n\n6  oktober     br. Theo van Heijdoorn + Avondmaal \n13 oktober   br. Theo van Heijdoorn\n20 oktober  br. Theo van Heijdoorn \n27 oktober  br. Hugo Bakboord \n\nVoor meer informatie zie ook het programma en de mededelingen. 
URL:https://www.ezechiel.org/agenda/zondagse-samenkomst-6/2019-10-13/
LOCATION:Gebouw De Regenboog\, Nathaliegang 263\, Zoetermeer\, Zuid-Holland\, 2719 CR\, Nederland
CATEGORIES:Zondagse dienst
ORGANIZER;CN="Gods Gemeente Ezechi%C3%ABl Zoetermeer":MAILTO:info@ezechiel.org
GEO:52.0435067;4.4796195
X-APPLE-STRUCTURED-LOCATION;VALUE=URI;X-ADDRESS=Gebouw De Regenboog Nathaliegang 263 Zoetermeer Zuid-Holland 2719 CR Nederland;X-APPLE-RADIUS=500;X-TITLE=Nathaliegang 263:geo:4.4796195,52.0435067
END:VEVENT
BEGIN:VEVENT
DTSTART;TZID=Europe/Amsterdam:20191020T140000
DTEND;TZID=Europe/Amsterdam:20191020T160000
DTSTAMP:20260425T134433
CREATED:20191001T135435Z
LAST-MODIFIED:20191001T135435Z
UID:10000995-1571580000-1571587200@www.ezechiel.org
SUMMARY:Zondagse samenkomst
DESCRIPTION:Samenkomsten op zondag om 14:00 uur in Gebouw De Regenboog. \nData en sprekers maand oktober 2019:  \n\n6  oktober     br. Theo van Heijdoorn + Avondmaal \n13 oktober   br. Theo van Heijdoorn\n20 oktober  br. Theo van Heijdoorn \n27 oktober  br. Hugo Bakboord \n\nVoor meer informatie zie ook het programma en de mededelingen. 
URL:https://www.ezechiel.org/agenda/zondagse-samenkomst-6/2019-10-20/
LOCATION:Gebouw De Regenboog\, Nathaliegang 263\, Zoetermeer\, Zuid-Holland\, 2719 CR\, Nederland
CATEGORIES:Zondagse dienst
ORGANIZER;CN="Gods Gemeente Ezechi%C3%ABl Zoetermeer":MAILTO:info@ezechiel.org
GEO:52.0435067;4.4796195
X-APPLE-STRUCTURED-LOCATION;VALUE=URI;X-ADDRESS=Gebouw De Regenboog Nathaliegang 263 Zoetermeer Zuid-Holland 2719 CR Nederland;X-APPLE-RADIUS=500;X-TITLE=Nathaliegang 263:geo:4.4796195,52.0435067
END:VEVENT
BEGIN:VEVENT
DTSTART;TZID=Europe/Amsterdam:20191027T140000
DTEND;TZID=Europe/Amsterdam:20191027T160000
DTSTAMP:20260425T134433
CREATED:20191001T135435Z
LAST-MODIFIED:20191001T135435Z
UID:10000996-1572184800-1572192000@www.ezechiel.org
SUMMARY:Zondagse samenkomst
DESCRIPTION:Samenkomsten op zondag om 14:00 uur in Gebouw De Regenboog. \nData en sprekers maand oktober 2019:  \n\n6  oktober     br. Theo van Heijdoorn + Avondmaal \n13 oktober   br. Theo van Heijdoorn\n20 oktober  br. Theo van Heijdoorn \n27 oktober  br. Hugo Bakboord \n\nVoor meer informatie zie ook het programma en de mededelingen. 
URL:https://www.ezechiel.org/agenda/zondagse-samenkomst-6/2019-10-27/
LOCATION:Gebouw De Regenboog\, Nathaliegang 263\, Zoetermeer\, Zuid-Holland\, 2719 CR\, Nederland
CATEGORIES:Zondagse dienst
ORGANIZER;CN="Gods Gemeente Ezechi%C3%ABl Zoetermeer":MAILTO:info@ezechiel.org
GEO:52.0435067;4.4796195
X-APPLE-STRUCTURED-LOCATION;VALUE=URI;X-ADDRESS=Gebouw De Regenboog Nathaliegang 263 Zoetermeer Zuid-Holland 2719 CR Nederland;X-APPLE-RADIUS=500;X-TITLE=Nathaliegang 263:geo:4.4796195,52.0435067
END:VEVENT
BEGIN:VEVENT
DTSTART;TZID=Europe/Amsterdam:20191028T200000
DTEND;TZID=Europe/Amsterdam:20191028T213000
DTSTAMP:20260425T134433
CREATED:20191001T140630Z
LAST-MODIFIED:20191001T140630Z
UID:10001055-1572292800-1572298200@www.ezechiel.org
SUMMARY:Vrouwensamenkomst Women to Women
DESCRIPTION:Voor alle zusters van Gods Gemeente Ezechiël wordt één keer per maand een speciale samenkomst georganiseerd o.l.v. pastora Diana van Heijdoorn. U bent van harte welkom en voel u vrij om een zuster (vriendin\, buurvrouw\, collega) mee te nemen! \nMaandagavond 28 oktober 2019 om 20:00 uur in de Regenboogkerk 
URL:https://www.ezechiel.org/agenda/vrouwensamenkomst-women-to-women-13/
LOCATION:Gebouw De Regenboog\, Nathaliegang 263\, Zoetermeer\, Zuid-Holland\, 2719 CR\, Nederland
CATEGORIES:Vrouwenavond
ORGANIZER;CN="Gods Gemeente Ezechi%C3%ABl Zoetermeer":MAILTO:info@ezechiel.org
GEO:52.0435067;4.4796195
X-APPLE-STRUCTURED-LOCATION;VALUE=URI;X-ADDRESS=Gebouw De Regenboog Nathaliegang 263 Zoetermeer Zuid-Holland 2719 CR Nederland;X-APPLE-RADIUS=500;X-TITLE=Nathaliegang 263:geo:4.4796195,52.0435067
END:VEVENT
END:VCALENDAR