BEGIN:VCALENDAR
VERSION:2.0
PRODID:-//Gods Gemeente Ezechiël Zoetermeer - ECPv6.12.0.1//NONSGML v1.0//EN
CALSCALE:GREGORIAN
METHOD:PUBLISH
X-WR-CALNAME:Gods Gemeente Ezechiël Zoetermeer
X-ORIGINAL-URL:https://www.ezechiel.org
X-WR-CALDESC:Evenementen voor Gods Gemeente Ezechiël Zoetermeer
REFRESH-INTERVAL;VALUE=DURATION:PT1H
X-Robots-Tag:noindex
X-PUBLISHED-TTL:PT1H
BEGIN:VTIMEZONE
TZID:Europe/Amsterdam
BEGIN:DAYLIGHT
TZOFFSETFROM:+0100
TZOFFSETTO:+0200
TZNAME:CEST
DTSTART:20190331T010000
END:DAYLIGHT
BEGIN:STANDARD
TZOFFSETFROM:+0200
TZOFFSETTO:+0100
TZNAME:CET
DTSTART:20191027T010000
END:STANDARD
END:VTIMEZONE
BEGIN:VEVENT
DTSTART;TZID=Europe/Amsterdam:20190901T140000
DTEND;TZID=Europe/Amsterdam:20190901T160000
DTSTAMP:20260425T210433
CREATED:20190806T144519Z
LAST-MODIFIED:20190806T145245Z
UID:10000362-1567346400-1567353600@www.ezechiel.org
SUMMARY:Zondagse dienst
DESCRIPTION:Samenkomst op zondag om 14:00 uur in De Regenboog. \nData en sprekers maand augustus 2019:  \n\n4 augustus:  br. Theo van Heijdoorn + avondmaal\n11 augustus: br. Theo van Heijdoorn\n18 augustus: br. Albert den Dekker\n 25 augustus: br. Guus Liqui Lung\n\nVoor meer informatie zie ook het programma en de mededelingen. 
URL:https://www.ezechiel.org/agenda/zondagse-dienst-21/2019-09-01/
LOCATION:Gebouw De Regenboog\, Nathaliegang 263\, Zoetermeer\, Zuid-Holland\, 2719 CR\, Nederland
CATEGORIES:Zondagse dienst
ORGANIZER;CN="Gods Gemeente Ezechi%C3%ABl Zoetermeer":MAILTO:info@ezechiel.org
GEO:52.0435067;4.4796195
X-APPLE-STRUCTURED-LOCATION;VALUE=URI;X-ADDRESS=Gebouw De Regenboog Nathaliegang 263 Zoetermeer Zuid-Holland 2719 CR Nederland;X-APPLE-RADIUS=500;X-TITLE=Nathaliegang 263:geo:4.4796195,52.0435067
END:VEVENT
BEGIN:VEVENT
DTSTART;TZID=Europe/Amsterdam:20190905T200000
DTEND;TZID=Europe/Amsterdam:20190905T213000
DTSTAMP:20260425T210433
CREATED:20190806T145453Z
LAST-MODIFIED:20190806T155702Z
UID:10000363-1567713600-1567719000@www.ezechiel.org
SUMMARY:Bijbelstudies en gebedsavond
DESCRIPTION:Deze avonden zullen voor een deel bestaan uit studies\, met verschillende thema’s en onderwerpen. Wij hopen broeders en zusters op deze manier bijbels toe te mogen rusten zodat zij kracht en wijsheid zullen hebben om te kunnen blijven doorgaan in deze vaak lastige en moeilijke tijden. \nHierna zal dan iedere keer genoeg tijd beschikbaar zijn om met elkaar te bidden en te danken voor alle noden die men zal aangegeven en ook voor onze broeders en zusters en alle anderen in de rest van de wereld. \nDe Bijbelstudies en gebedavonden vinden ook op locatie De Regenboogkerk\, Nathaliegang 263\, 2719 CR Zoetermeer plaats.
URL:https://www.ezechiel.org/agenda/bijbelstudie-en-gebedsavond-16/2019-09-05/
LOCATION:Gebouw De Regenboog\, Nathaliegang 263\, Zoetermeer\, Zuid-Holland\, 2719 CR\, Nederland
CATEGORIES:Bijbelstudie en gebedsavond
ORGANIZER;CN="Gods Gemeente Ezechi%C3%ABl Zoetermeer":MAILTO:info@ezechiel.org
GEO:52.0435067;4.4796195
X-APPLE-STRUCTURED-LOCATION;VALUE=URI;X-ADDRESS=Gebouw De Regenboog Nathaliegang 263 Zoetermeer Zuid-Holland 2719 CR Nederland;X-APPLE-RADIUS=500;X-TITLE=Nathaliegang 263:geo:4.4796195,52.0435067
END:VEVENT
BEGIN:VEVENT
DTSTART;TZID=Europe/Amsterdam:20190912T200000
DTEND;TZID=Europe/Amsterdam:20190912T213000
DTSTAMP:20260425T210433
CREATED:20190806T145453Z
LAST-MODIFIED:20190806T155702Z
UID:10000364-1568318400-1568323800@www.ezechiel.org
SUMMARY:Bijbelstudies en gebedsavond
DESCRIPTION:Deze avonden zullen voor een deel bestaan uit studies\, met verschillende thema’s en onderwerpen. Wij hopen broeders en zusters op deze manier bijbels toe te mogen rusten zodat zij kracht en wijsheid zullen hebben om te kunnen blijven doorgaan in deze vaak lastige en moeilijke tijden. \nHierna zal dan iedere keer genoeg tijd beschikbaar zijn om met elkaar te bidden en te danken voor alle noden die men zal aangegeven en ook voor onze broeders en zusters en alle anderen in de rest van de wereld. \nDe Bijbelstudies en gebedavonden vinden ook op locatie De Regenboogkerk\, Nathaliegang 263\, 2719 CR Zoetermeer plaats.
URL:https://www.ezechiel.org/agenda/bijbelstudie-en-gebedsavond-16/2019-09-12/
LOCATION:Gebouw De Regenboog\, Nathaliegang 263\, Zoetermeer\, Zuid-Holland\, 2719 CR\, Nederland
CATEGORIES:Bijbelstudie en gebedsavond
ORGANIZER;CN="Gods Gemeente Ezechi%C3%ABl Zoetermeer":MAILTO:info@ezechiel.org
GEO:52.0435067;4.4796195
X-APPLE-STRUCTURED-LOCATION;VALUE=URI;X-ADDRESS=Gebouw De Regenboog Nathaliegang 263 Zoetermeer Zuid-Holland 2719 CR Nederland;X-APPLE-RADIUS=500;X-TITLE=Nathaliegang 263:geo:4.4796195,52.0435067
END:VEVENT
BEGIN:VEVENT
DTSTART;TZID=Europe/Amsterdam:20190919T200000
DTEND;TZID=Europe/Amsterdam:20190919T213000
DTSTAMP:20260425T210433
CREATED:20190806T145453Z
LAST-MODIFIED:20190806T155702Z
UID:10000365-1568923200-1568928600@www.ezechiel.org
SUMMARY:Bijbelstudies en gebedsavond
DESCRIPTION:Deze avonden zullen voor een deel bestaan uit studies\, met verschillende thema’s en onderwerpen. Wij hopen broeders en zusters op deze manier bijbels toe te mogen rusten zodat zij kracht en wijsheid zullen hebben om te kunnen blijven doorgaan in deze vaak lastige en moeilijke tijden. \nHierna zal dan iedere keer genoeg tijd beschikbaar zijn om met elkaar te bidden en te danken voor alle noden die men zal aangegeven en ook voor onze broeders en zusters en alle anderen in de rest van de wereld. \nDe Bijbelstudies en gebedavonden vinden ook op locatie De Regenboogkerk\, Nathaliegang 263\, 2719 CR Zoetermeer plaats.
URL:https://www.ezechiel.org/agenda/bijbelstudie-en-gebedsavond-16/2019-09-19/
LOCATION:Gebouw De Regenboog\, Nathaliegang 263\, Zoetermeer\, Zuid-Holland\, 2719 CR\, Nederland
CATEGORIES:Bijbelstudie en gebedsavond
ORGANIZER;CN="Gods Gemeente Ezechi%C3%ABl Zoetermeer":MAILTO:info@ezechiel.org
GEO:52.0435067;4.4796195
X-APPLE-STRUCTURED-LOCATION;VALUE=URI;X-ADDRESS=Gebouw De Regenboog Nathaliegang 263 Zoetermeer Zuid-Holland 2719 CR Nederland;X-APPLE-RADIUS=500;X-TITLE=Nathaliegang 263:geo:4.4796195,52.0435067
END:VEVENT
BEGIN:VEVENT
DTSTART;TZID=Europe/Amsterdam:20190923T190000
DTEND;TZID=Europe/Amsterdam:20190928T200000
DTSTAMP:20260425T210433
CREATED:20190923T180522Z
LAST-MODIFIED:20190923T180522Z
UID:10000998-1569265200-1569700800@www.ezechiel.org
SUMMARY:Gebedsweek voor de vrede van Christus Zoetermeer
DESCRIPTION:Bidden om vrede heeft dat nog zin om dat te doen in een gebroken wereld\, waar “vrede” zo kwetsbaar is.\nEn de verkilling is zo merkbaar\, ook in het dagelijks leven.\nWij geloven dat juist daarom elk gebed om vrede noodzakelijk is\nEen roep om hulp\, maar niet zo maar in het wilde weg.\nWij vragen om wereldwijde vrede\, maar niet om wereldse vrede.\nWij bidden om een vrede die de wereld niet kent\, een vrede dat eeuwig is.\nDeze vrede komt alleen van Christus\, want Hij is de Vredevorst.\nDaarom bidden we om vrede\, heel gericht tot onze Vredevorst\, de Heere Jezus Christus.\nDoet u mee? Weet u van harte welkom! \nzie ook de mededelingen!
URL:https://www.ezechiel.org/agenda/gebedsweek-vrede-christus-zoetermeer/
LOCATION:Zoetermeer\, Zuid-Holland\, Nederland
CATEGORIES:Bijbelstudie en gebedsavond
ORGANIZER;CN="Gods Gemeente Ezechi%C3%ABl Zoetermeer":MAILTO:info@ezechiel.org
END:VEVENT
BEGIN:VEVENT
DTSTART;TZID=Europe/Amsterdam:20190926T200000
DTEND;TZID=Europe/Amsterdam:20190926T213000
DTSTAMP:20260425T210433
CREATED:20190806T145453Z
LAST-MODIFIED:20190806T155702Z
UID:10000366-1569528000-1569533400@www.ezechiel.org
SUMMARY:Bijbelstudies en gebedsavond
DESCRIPTION:Deze avonden zullen voor een deel bestaan uit studies\, met verschillende thema’s en onderwerpen. Wij hopen broeders en zusters op deze manier bijbels toe te mogen rusten zodat zij kracht en wijsheid zullen hebben om te kunnen blijven doorgaan in deze vaak lastige en moeilijke tijden. \nHierna zal dan iedere keer genoeg tijd beschikbaar zijn om met elkaar te bidden en te danken voor alle noden die men zal aangegeven en ook voor onze broeders en zusters en alle anderen in de rest van de wereld. \nDe Bijbelstudies en gebedavonden vinden ook op locatie De Regenboogkerk\, Nathaliegang 263\, 2719 CR Zoetermeer plaats.
URL:https://www.ezechiel.org/agenda/bijbelstudie-en-gebedsavond-16/2019-09-26/
LOCATION:Gebouw De Regenboog\, Nathaliegang 263\, Zoetermeer\, Zuid-Holland\, 2719 CR\, Nederland
CATEGORIES:Bijbelstudie en gebedsavond
ORGANIZER;CN="Gods Gemeente Ezechi%C3%ABl Zoetermeer":MAILTO:info@ezechiel.org
GEO:52.0435067;4.4796195
X-APPLE-STRUCTURED-LOCATION;VALUE=URI;X-ADDRESS=Gebouw De Regenboog Nathaliegang 263 Zoetermeer Zuid-Holland 2719 CR Nederland;X-APPLE-RADIUS=500;X-TITLE=Nathaliegang 263:geo:4.4796195,52.0435067
END:VEVENT
BEGIN:VEVENT
DTSTART;TZID=Europe/Amsterdam:20190930T200000
DTEND;TZID=Europe/Amsterdam:20190930T213000
DTSTAMP:20260425T210433
CREATED:20190911T155751Z
LAST-MODIFIED:20190911T155751Z
UID:10000368-1569873600-1569879000@www.ezechiel.org
SUMMARY:Vrouwensamenkomst
DESCRIPTION:Voor alle zusters van Gods Gemeente Ezechiël wordt één keer per maand een speciale samenkomst georganiseerd o.l.v. pastora Diana van Heijdoorn. U bent van harte welkom en voel u vrij om een zuster (vriendin\, buurvrouw\, collega) mee te nemen! \nMaandagavond 30 september 2019 om 20:00 uur in de Regenboogkerk \n 
URL:https://www.ezechiel.org/agenda/vrouwensamenkomst/
LOCATION:Gebouw De Regenboog\, Nathaliegang 263\, Zoetermeer\, Zuid-Holland\, 2719 CR\, Nederland
CATEGORIES:Vrouwenavond
ORGANIZER;CN="Gods Gemeente Ezechi%C3%ABl Zoetermeer":MAILTO:info@ezechiel.org
GEO:52.0435067;4.4796195
X-APPLE-STRUCTURED-LOCATION;VALUE=URI;X-ADDRESS=Gebouw De Regenboog Nathaliegang 263 Zoetermeer Zuid-Holland 2719 CR Nederland;X-APPLE-RADIUS=500;X-TITLE=Nathaliegang 263:geo:4.4796195,52.0435067
END:VEVENT
END:VCALENDAR