BEGIN:VCALENDAR
VERSION:2.0
PRODID:-//Gods Gemeente Ezechiël Zoetermeer - ECPv6.12.0.1//NONSGML v1.0//EN
CALSCALE:GREGORIAN
METHOD:PUBLISH
X-WR-CALNAME:Gods Gemeente Ezechiël Zoetermeer
X-ORIGINAL-URL:https://www.ezechiel.org
X-WR-CALDESC:Evenementen voor Gods Gemeente Ezechiël Zoetermeer
REFRESH-INTERVAL;VALUE=DURATION:PT1H
X-Robots-Tag:noindex
X-PUBLISHED-TTL:PT1H
BEGIN:VTIMEZONE
TZID:Europe/Amsterdam
BEGIN:DAYLIGHT
TZOFFSETFROM:+0100
TZOFFSETTO:+0200
TZNAME:CEST
DTSTART:20190331T010000
END:DAYLIGHT
BEGIN:STANDARD
TZOFFSETFROM:+0200
TZOFFSETTO:+0100
TZNAME:CET
DTSTART:20191027T010000
END:STANDARD
END:VTIMEZONE
BEGIN:VEVENT
DTSTART;TZID=Europe/Amsterdam:20190704T200000
DTEND;TZID=Europe/Amsterdam:20190704T220000
DTSTAMP:20260426T002322
CREATED:20190205T200255Z
LAST-MODIFIED:20190721T114032Z
UID:10000805-1562270400-1562277600@www.ezechiel.org
SUMMARY:Bijbelstudie en gebedsavond
DESCRIPTION:Deze avonden zullen voor een deel bestaan uit studies\, met verschillende thema’s en onderwerpen. Wij hopen broeders en zusters op deze manier bijbels toe te mogen rusten zodat zij kracht en wijsheid zullen hebben om te kunnen blijven doorgaan in deze vaak lastige en moeilijke tijden. \nHierna zal dan iedere keer genoeg tijd beschikbaar zijn om met elkaar te bidden en te danken voor alle noden die men zal aangegeven en ook voor onze broeders en zusters en alle anderen in de rest van de wereld. \nDe bijbelstudies vinden ook op locatie De Regenboogkerk\, Nathaliegang 263\, 2719 CR Zoetermeer plaats.
URL:https://www.ezechiel.org/agenda/bijbelstudie-en-gebedsavond-15/2019-07-04/
LOCATION:Gebouw De Regenboog\, Nathaliegang 263\, Zoetermeer\, Zuid-Holland\, 2719 CR\, Nederland
CATEGORIES:Bijbelstudie en gebedsavond
ORGANIZER;CN="Gods Gemeente Ezechi%C3%ABl Zoetermeer":MAILTO:info@ezechiel.org
GEO:52.0435067;4.4796195
X-APPLE-STRUCTURED-LOCATION;VALUE=URI;X-ADDRESS=Gebouw De Regenboog Nathaliegang 263 Zoetermeer Zuid-Holland 2719 CR Nederland;X-APPLE-RADIUS=500;X-TITLE=Nathaliegang 263:geo:4.4796195,52.0435067
END:VEVENT
BEGIN:VEVENT
DTSTART;TZID=Europe/Amsterdam:20190707T140000
DTEND;TZID=Europe/Amsterdam:20190707T160000
DTSTAMP:20260426T002322
CREATED:20190704T121705Z
LAST-MODIFIED:20190704T121705Z
UID:10000353-1562508000-1562515200@www.ezechiel.org
SUMMARY:Zondagse dienst
DESCRIPTION:Samenkomst op zondag om 14:00 uur in De Regenboog. \nData en sprekers maand juli:  \n\n7 juli:  br. Theo van Heijdoorn + avondmaal\n14 juli: br. Albert den Dekker\n21 juli: br. Hugo Bakboord\n28 juli: br. Theo van Heijdoorn\n\nVoor meer informatie zie ook het programma en de mededelingen. 
URL:https://www.ezechiel.org/agenda/zondagse-dienst-20/2019-07-07/
LOCATION:Gebouw De Regenboog\, Nathaliegang 263\, Zoetermeer\, Zuid-Holland\, 2719 CR\, Nederland
CATEGORIES:Zondagse dienst
ORGANIZER;CN="Gods Gemeente Ezechi%C3%ABl Zoetermeer":MAILTO:info@ezechiel.org
GEO:52.0435067;4.4796195
X-APPLE-STRUCTURED-LOCATION;VALUE=URI;X-ADDRESS=Gebouw De Regenboog Nathaliegang 263 Zoetermeer Zuid-Holland 2719 CR Nederland;X-APPLE-RADIUS=500;X-TITLE=Nathaliegang 263:geo:4.4796195,52.0435067
END:VEVENT
BEGIN:VEVENT
DTSTART;TZID=Europe/Amsterdam:20190707T140000
DTEND;TZID=Europe/Amsterdam:20190707T170000
DTSTAMP:20260426T002322
CREATED:20190205T195402Z
LAST-MODIFIED:20190603T193155Z
UID:10000991-1562508000-1562518800@www.ezechiel.org
SUMMARY:Zondagse dienst
DESCRIPTION:De samenkomst op zondag wordt om 14:00 uur gehouden in het kerkelijk centrum De Regenboogkerk.  \nAdres: Nathaliegang 263\, 2719 CR Zoetermeer (wijk: Rokkeveen) \nSpreker: zie programma en mededelingen. \n 
URL:https://www.ezechiel.org/agenda/zondagse-dienst-18/2019-07-07/
LOCATION:Gebouw De Regenboog\, Nathaliegang 263\, Zoetermeer\, Zuid-Holland\, 2719 CR\, Nederland
CATEGORIES:Zondagse dienst
ORGANIZER;CN="Gods Gemeente Ezechi%C3%ABl Zoetermeer":MAILTO:info@ezechiel.org
GEO:52.0435067;4.4796195
X-APPLE-STRUCTURED-LOCATION;VALUE=URI;X-ADDRESS=Gebouw De Regenboog Nathaliegang 263 Zoetermeer Zuid-Holland 2719 CR Nederland;X-APPLE-RADIUS=500;X-TITLE=Nathaliegang 263:geo:4.4796195,52.0435067
END:VEVENT
BEGIN:VEVENT
DTSTART;TZID=Europe/Amsterdam:20190711T200000
DTEND;TZID=Europe/Amsterdam:20190711T220000
DTSTAMP:20260426T002322
CREATED:20190205T200255Z
LAST-MODIFIED:20190721T114032Z
UID:10000806-1562875200-1562882400@www.ezechiel.org
SUMMARY:Bijbelstudie en gebedsavond
DESCRIPTION:Deze avonden zullen voor een deel bestaan uit studies\, met verschillende thema’s en onderwerpen. Wij hopen broeders en zusters op deze manier bijbels toe te mogen rusten zodat zij kracht en wijsheid zullen hebben om te kunnen blijven doorgaan in deze vaak lastige en moeilijke tijden. \nHierna zal dan iedere keer genoeg tijd beschikbaar zijn om met elkaar te bidden en te danken voor alle noden die men zal aangegeven en ook voor onze broeders en zusters en alle anderen in de rest van de wereld. \nDe bijbelstudies vinden ook op locatie De Regenboogkerk\, Nathaliegang 263\, 2719 CR Zoetermeer plaats.
URL:https://www.ezechiel.org/agenda/bijbelstudie-en-gebedsavond-15/2019-07-11/
LOCATION:Gebouw De Regenboog\, Nathaliegang 263\, Zoetermeer\, Zuid-Holland\, 2719 CR\, Nederland
CATEGORIES:Bijbelstudie en gebedsavond
ORGANIZER;CN="Gods Gemeente Ezechi%C3%ABl Zoetermeer":MAILTO:info@ezechiel.org
GEO:52.0435067;4.4796195
X-APPLE-STRUCTURED-LOCATION;VALUE=URI;X-ADDRESS=Gebouw De Regenboog Nathaliegang 263 Zoetermeer Zuid-Holland 2719 CR Nederland;X-APPLE-RADIUS=500;X-TITLE=Nathaliegang 263:geo:4.4796195,52.0435067
END:VEVENT
BEGIN:VEVENT
DTSTART;TZID=Europe/Amsterdam:20190714T140000
DTEND;TZID=Europe/Amsterdam:20190714T160000
DTSTAMP:20260426T002322
CREATED:20190704T121705Z
LAST-MODIFIED:20190704T121705Z
UID:10000354-1563112800-1563120000@www.ezechiel.org
SUMMARY:Zondagse dienst
DESCRIPTION:Samenkomst op zondag om 14:00 uur in De Regenboog. \nData en sprekers maand juli:  \n\n7 juli:  br. Theo van Heijdoorn + avondmaal\n14 juli: br. Albert den Dekker\n21 juli: br. Hugo Bakboord\n28 juli: br. Theo van Heijdoorn\n\nVoor meer informatie zie ook het programma en de mededelingen. 
URL:https://www.ezechiel.org/agenda/zondagse-dienst-20/2019-07-14/
LOCATION:Gebouw De Regenboog\, Nathaliegang 263\, Zoetermeer\, Zuid-Holland\, 2719 CR\, Nederland
CATEGORIES:Zondagse dienst
ORGANIZER;CN="Gods Gemeente Ezechi%C3%ABl Zoetermeer":MAILTO:info@ezechiel.org
GEO:52.0435067;4.4796195
X-APPLE-STRUCTURED-LOCATION;VALUE=URI;X-ADDRESS=Gebouw De Regenboog Nathaliegang 263 Zoetermeer Zuid-Holland 2719 CR Nederland;X-APPLE-RADIUS=500;X-TITLE=Nathaliegang 263:geo:4.4796195,52.0435067
END:VEVENT
BEGIN:VEVENT
DTSTART;TZID=Europe/Amsterdam:20190718T200000
DTEND;TZID=Europe/Amsterdam:20190718T220000
DTSTAMP:20260426T002322
CREATED:20190205T200255Z
LAST-MODIFIED:20190721T114032Z
UID:10000807-1563480000-1563487200@www.ezechiel.org
SUMMARY:Bijbelstudie en gebedsavond
DESCRIPTION:Deze avonden zullen voor een deel bestaan uit studies\, met verschillende thema’s en onderwerpen. Wij hopen broeders en zusters op deze manier bijbels toe te mogen rusten zodat zij kracht en wijsheid zullen hebben om te kunnen blijven doorgaan in deze vaak lastige en moeilijke tijden. \nHierna zal dan iedere keer genoeg tijd beschikbaar zijn om met elkaar te bidden en te danken voor alle noden die men zal aangegeven en ook voor onze broeders en zusters en alle anderen in de rest van de wereld. \nDe bijbelstudies vinden ook op locatie De Regenboogkerk\, Nathaliegang 263\, 2719 CR Zoetermeer plaats.
URL:https://www.ezechiel.org/agenda/bijbelstudie-en-gebedsavond-15/2019-07-18/
LOCATION:Gebouw De Regenboog\, Nathaliegang 263\, Zoetermeer\, Zuid-Holland\, 2719 CR\, Nederland
CATEGORIES:Bijbelstudie en gebedsavond
ORGANIZER;CN="Gods Gemeente Ezechi%C3%ABl Zoetermeer":MAILTO:info@ezechiel.org
GEO:52.0435067;4.4796195
X-APPLE-STRUCTURED-LOCATION;VALUE=URI;X-ADDRESS=Gebouw De Regenboog Nathaliegang 263 Zoetermeer Zuid-Holland 2719 CR Nederland;X-APPLE-RADIUS=500;X-TITLE=Nathaliegang 263:geo:4.4796195,52.0435067
END:VEVENT
BEGIN:VEVENT
DTSTART;TZID=Europe/Amsterdam:20190721T140000
DTEND;TZID=Europe/Amsterdam:20190721T160000
DTSTAMP:20260426T002322
CREATED:20190704T121705Z
LAST-MODIFIED:20190704T121705Z
UID:10000355-1563717600-1563724800@www.ezechiel.org
SUMMARY:Zondagse dienst
DESCRIPTION:Samenkomst op zondag om 14:00 uur in De Regenboog. \nData en sprekers maand juli:  \n\n7 juli:  br. Theo van Heijdoorn + avondmaal\n14 juli: br. Albert den Dekker\n21 juli: br. Hugo Bakboord\n28 juli: br. Theo van Heijdoorn\n\nVoor meer informatie zie ook het programma en de mededelingen. 
URL:https://www.ezechiel.org/agenda/zondagse-dienst-20/2019-07-21/
LOCATION:Gebouw De Regenboog\, Nathaliegang 263\, Zoetermeer\, Zuid-Holland\, 2719 CR\, Nederland
CATEGORIES:Zondagse dienst
ORGANIZER;CN="Gods Gemeente Ezechi%C3%ABl Zoetermeer":MAILTO:info@ezechiel.org
GEO:52.0435067;4.4796195
X-APPLE-STRUCTURED-LOCATION;VALUE=URI;X-ADDRESS=Gebouw De Regenboog Nathaliegang 263 Zoetermeer Zuid-Holland 2719 CR Nederland;X-APPLE-RADIUS=500;X-TITLE=Nathaliegang 263:geo:4.4796195,52.0435067
END:VEVENT
BEGIN:VEVENT
DTSTART;TZID=Europe/Amsterdam:20190728T140000
DTEND;TZID=Europe/Amsterdam:20190728T160000
DTSTAMP:20260426T002322
CREATED:20190704T121705Z
LAST-MODIFIED:20190704T121705Z
UID:10000356-1564322400-1564329600@www.ezechiel.org
SUMMARY:Zondagse dienst
DESCRIPTION:Samenkomst op zondag om 14:00 uur in De Regenboog. \nData en sprekers maand juli:  \n\n7 juli:  br. Theo van Heijdoorn + avondmaal\n14 juli: br. Albert den Dekker\n21 juli: br. Hugo Bakboord\n28 juli: br. Theo van Heijdoorn\n\nVoor meer informatie zie ook het programma en de mededelingen. 
URL:https://www.ezechiel.org/agenda/zondagse-dienst-20/2019-07-28/
LOCATION:Gebouw De Regenboog\, Nathaliegang 263\, Zoetermeer\, Zuid-Holland\, 2719 CR\, Nederland
CATEGORIES:Zondagse dienst
ORGANIZER;CN="Gods Gemeente Ezechi%C3%ABl Zoetermeer":MAILTO:info@ezechiel.org
GEO:52.0435067;4.4796195
X-APPLE-STRUCTURED-LOCATION;VALUE=URI;X-ADDRESS=Gebouw De Regenboog Nathaliegang 263 Zoetermeer Zuid-Holland 2719 CR Nederland;X-APPLE-RADIUS=500;X-TITLE=Nathaliegang 263:geo:4.4796195,52.0435067
END:VEVENT
END:VCALENDAR