BEGIN:VCALENDAR
VERSION:2.0
PRODID:-//Gods Gemeente Ezechiël Zoetermeer - ECPv6.12.0.1//NONSGML v1.0//EN
CALSCALE:GREGORIAN
METHOD:PUBLISH
X-ORIGINAL-URL:https://www.ezechiel.org
X-WR-CALDESC:Evenementen voor Gods Gemeente Ezechiël Zoetermeer
REFRESH-INTERVAL;VALUE=DURATION:PT1H
X-Robots-Tag:noindex
X-PUBLISHED-TTL:PT1H
BEGIN:VTIMEZONE
TZID:Europe/Amsterdam
BEGIN:DAYLIGHT
TZOFFSETFROM:+0100
TZOFFSETTO:+0200
TZNAME:CEST
DTSTART:20190331T010000
END:DAYLIGHT
BEGIN:STANDARD
TZOFFSETFROM:+0200
TZOFFSETTO:+0100
TZNAME:CET
DTSTART:20191027T010000
END:STANDARD
END:VTIMEZONE
BEGIN:VEVENT
DTSTART;TZID=Europe/Amsterdam:20190602T140000
DTEND;TZID=Europe/Amsterdam:20190602T170000
DTSTAMP:20260426T040335
CREATED:20190205T195402Z
LAST-MODIFIED:20190603T193155Z
UID:10000986-1559484000-1559494800@www.ezechiel.org
SUMMARY:Zondagse dienst
DESCRIPTION:De samenkomst op zondag wordt om 14:00 uur gehouden in het kerkelijk centrum De Regenboogkerk.  \nAdres: Nathaliegang 263\, 2719 CR Zoetermeer (wijk: Rokkeveen) \nSpreker: zie programma en mededelingen. \n 
URL:https://www.ezechiel.org/agenda/zondagse-dienst-18/2019-06-02/
LOCATION:Gebouw De Regenboog\, Nathaliegang 263\, Zoetermeer\, Zuid-Holland\, 2719 CR\, Nederland
CATEGORIES:Zondagse dienst
ORGANIZER;CN="Gods Gemeente Ezechi%C3%ABl Zoetermeer":MAILTO:info@ezechiel.org
GEO:52.0435067;4.4796195
X-APPLE-STRUCTURED-LOCATION;VALUE=URI;X-ADDRESS=Gebouw De Regenboog Nathaliegang 263 Zoetermeer Zuid-Holland 2719 CR Nederland;X-APPLE-RADIUS=500;X-TITLE=Nathaliegang 263:geo:4.4796195,52.0435067
END:VEVENT
BEGIN:VEVENT
DTSTART;TZID=Europe/Amsterdam:20190606T200000
DTEND;TZID=Europe/Amsterdam:20190606T220000
DTSTAMP:20260426T040335
CREATED:20190205T200255Z
LAST-MODIFIED:20190721T114032Z
UID:10000801-1559851200-1559858400@www.ezechiel.org
SUMMARY:Bijbelstudie en gebedsavond
DESCRIPTION:Deze avonden zullen voor een deel bestaan uit studies\, met verschillende thema’s en onderwerpen. Wij hopen broeders en zusters op deze manier bijbels toe te mogen rusten zodat zij kracht en wijsheid zullen hebben om te kunnen blijven doorgaan in deze vaak lastige en moeilijke tijden. \nHierna zal dan iedere keer genoeg tijd beschikbaar zijn om met elkaar te bidden en te danken voor alle noden die men zal aangegeven en ook voor onze broeders en zusters en alle anderen in de rest van de wereld. \nDe bijbelstudies vinden ook op locatie De Regenboogkerk\, Nathaliegang 263\, 2719 CR Zoetermeer plaats.
URL:https://www.ezechiel.org/agenda/bijbelstudie-en-gebedsavond-15/2019-06-06/
LOCATION:Gebouw De Regenboog\, Nathaliegang 263\, Zoetermeer\, Zuid-Holland\, 2719 CR\, Nederland
CATEGORIES:Bijbelstudie en gebedsavond
ORGANIZER;CN="Gods Gemeente Ezechi%C3%ABl Zoetermeer":MAILTO:info@ezechiel.org
GEO:52.0435067;4.4796195
X-APPLE-STRUCTURED-LOCATION;VALUE=URI;X-ADDRESS=Gebouw De Regenboog Nathaliegang 263 Zoetermeer Zuid-Holland 2719 CR Nederland;X-APPLE-RADIUS=500;X-TITLE=Nathaliegang 263:geo:4.4796195,52.0435067
END:VEVENT
BEGIN:VEVENT
DTSTART;TZID=Europe/Amsterdam:20190609T140000
DTEND;TZID=Europe/Amsterdam:20190609T170000
DTSTAMP:20260426T040335
CREATED:20190205T195402Z
LAST-MODIFIED:20190603T193155Z
UID:10000987-1560088800-1560099600@www.ezechiel.org
SUMMARY:Zondagse dienst
DESCRIPTION:De samenkomst op zondag wordt om 14:00 uur gehouden in het kerkelijk centrum De Regenboogkerk.  \nAdres: Nathaliegang 263\, 2719 CR Zoetermeer (wijk: Rokkeveen) \nSpreker: zie programma en mededelingen. \n 
URL:https://www.ezechiel.org/agenda/zondagse-dienst-18/2019-06-09/
LOCATION:Gebouw De Regenboog\, Nathaliegang 263\, Zoetermeer\, Zuid-Holland\, 2719 CR\, Nederland
CATEGORIES:Zondagse dienst
ORGANIZER;CN="Gods Gemeente Ezechi%C3%ABl Zoetermeer":MAILTO:info@ezechiel.org
GEO:52.0435067;4.4796195
X-APPLE-STRUCTURED-LOCATION;VALUE=URI;X-ADDRESS=Gebouw De Regenboog Nathaliegang 263 Zoetermeer Zuid-Holland 2719 CR Nederland;X-APPLE-RADIUS=500;X-TITLE=Nathaliegang 263:geo:4.4796195,52.0435067
END:VEVENT
BEGIN:VEVENT
DTSTART;TZID=Europe/Amsterdam:20190613T200000
DTEND;TZID=Europe/Amsterdam:20190613T220000
DTSTAMP:20260426T040335
CREATED:20190205T200255Z
LAST-MODIFIED:20190721T114032Z
UID:10000802-1560456000-1560463200@www.ezechiel.org
SUMMARY:Bijbelstudie en gebedsavond
DESCRIPTION:Deze avonden zullen voor een deel bestaan uit studies\, met verschillende thema’s en onderwerpen. Wij hopen broeders en zusters op deze manier bijbels toe te mogen rusten zodat zij kracht en wijsheid zullen hebben om te kunnen blijven doorgaan in deze vaak lastige en moeilijke tijden. \nHierna zal dan iedere keer genoeg tijd beschikbaar zijn om met elkaar te bidden en te danken voor alle noden die men zal aangegeven en ook voor onze broeders en zusters en alle anderen in de rest van de wereld. \nDe bijbelstudies vinden ook op locatie De Regenboogkerk\, Nathaliegang 263\, 2719 CR Zoetermeer plaats.
URL:https://www.ezechiel.org/agenda/bijbelstudie-en-gebedsavond-15/2019-06-13/
LOCATION:Gebouw De Regenboog\, Nathaliegang 263\, Zoetermeer\, Zuid-Holland\, 2719 CR\, Nederland
CATEGORIES:Bijbelstudie en gebedsavond
ORGANIZER;CN="Gods Gemeente Ezechi%C3%ABl Zoetermeer":MAILTO:info@ezechiel.org
GEO:52.0435067;4.4796195
X-APPLE-STRUCTURED-LOCATION;VALUE=URI;X-ADDRESS=Gebouw De Regenboog Nathaliegang 263 Zoetermeer Zuid-Holland 2719 CR Nederland;X-APPLE-RADIUS=500;X-TITLE=Nathaliegang 263:geo:4.4796195,52.0435067
END:VEVENT
BEGIN:VEVENT
DTSTART;TZID=Europe/Amsterdam:20190616T140000
DTEND;TZID=Europe/Amsterdam:20190616T170000
DTSTAMP:20260426T040335
CREATED:20190205T195402Z
LAST-MODIFIED:20190603T193155Z
UID:10000988-1560693600-1560704400@www.ezechiel.org
SUMMARY:Zondagse dienst
DESCRIPTION:De samenkomst op zondag wordt om 14:00 uur gehouden in het kerkelijk centrum De Regenboogkerk.  \nAdres: Nathaliegang 263\, 2719 CR Zoetermeer (wijk: Rokkeveen) \nSpreker: zie programma en mededelingen. \n 
URL:https://www.ezechiel.org/agenda/zondagse-dienst-18/2019-06-16/
LOCATION:Gebouw De Regenboog\, Nathaliegang 263\, Zoetermeer\, Zuid-Holland\, 2719 CR\, Nederland
CATEGORIES:Zondagse dienst
ORGANIZER;CN="Gods Gemeente Ezechi%C3%ABl Zoetermeer":MAILTO:info@ezechiel.org
GEO:52.0435067;4.4796195
X-APPLE-STRUCTURED-LOCATION;VALUE=URI;X-ADDRESS=Gebouw De Regenboog Nathaliegang 263 Zoetermeer Zuid-Holland 2719 CR Nederland;X-APPLE-RADIUS=500;X-TITLE=Nathaliegang 263:geo:4.4796195,52.0435067
END:VEVENT
BEGIN:VEVENT
DTSTART;TZID=Europe/Amsterdam:20190620T200000
DTEND;TZID=Europe/Amsterdam:20190620T220000
DTSTAMP:20260426T040335
CREATED:20190205T200255Z
LAST-MODIFIED:20190721T114032Z
UID:10000803-1561060800-1561068000@www.ezechiel.org
SUMMARY:Bijbelstudie en gebedsavond
DESCRIPTION:Deze avonden zullen voor een deel bestaan uit studies\, met verschillende thema’s en onderwerpen. Wij hopen broeders en zusters op deze manier bijbels toe te mogen rusten zodat zij kracht en wijsheid zullen hebben om te kunnen blijven doorgaan in deze vaak lastige en moeilijke tijden. \nHierna zal dan iedere keer genoeg tijd beschikbaar zijn om met elkaar te bidden en te danken voor alle noden die men zal aangegeven en ook voor onze broeders en zusters en alle anderen in de rest van de wereld. \nDe bijbelstudies vinden ook op locatie De Regenboogkerk\, Nathaliegang 263\, 2719 CR Zoetermeer plaats.
URL:https://www.ezechiel.org/agenda/bijbelstudie-en-gebedsavond-15/2019-06-20/
LOCATION:Gebouw De Regenboog\, Nathaliegang 263\, Zoetermeer\, Zuid-Holland\, 2719 CR\, Nederland
CATEGORIES:Bijbelstudie en gebedsavond
ORGANIZER;CN="Gods Gemeente Ezechi%C3%ABl Zoetermeer":MAILTO:info@ezechiel.org
GEO:52.0435067;4.4796195
X-APPLE-STRUCTURED-LOCATION;VALUE=URI;X-ADDRESS=Gebouw De Regenboog Nathaliegang 263 Zoetermeer Zuid-Holland 2719 CR Nederland;X-APPLE-RADIUS=500;X-TITLE=Nathaliegang 263:geo:4.4796195,52.0435067
END:VEVENT
BEGIN:VEVENT
DTSTART;TZID=Europe/Amsterdam:20190621T220000
DTEND;TZID=Europe/Amsterdam:20190622T060000
DTSTAMP:20260426T040335
CREATED:20190603T194242Z
LAST-MODIFIED:20190603T194850Z
UID:10000352-1561154400-1561183200@www.ezechiel.org
SUMMARY:Nacht van Gebed
DESCRIPTION:Samen bidden voor onze verdrukte broeders en zusters in de hele wereld.Iedereen is welkom om mee te bidden. U kunt uw eigen tijd bepalen en binnenkomen en weer vertrekken wanneer het u uitkomt. \n Wij komen samen in de “Uitkijk” – Wattstraat 64 – Zoetermeer. (Gebouw van de Parousiagemeente). Hoop u daar te zullen ontmoeten!! \n 
URL:https://www.ezechiel.org/agenda/nacht-van-gebed/
LOCATION:De Uitkijk (Parousia gemeente)\, Wattstraat 64\, Zoetermeer\, Zuid-Holland\, 2718 KZ\, Nederland
CATEGORIES:Special Event
ORGANIZER;CN="Gods Gemeente Ezechi%C3%ABl Zoetermeer":MAILTO:info@ezechiel.org
END:VEVENT
BEGIN:VEVENT
DTSTART;TZID=Europe/Amsterdam:20190623T140000
DTEND;TZID=Europe/Amsterdam:20190623T170000
DTSTAMP:20260426T040335
CREATED:20190205T195402Z
LAST-MODIFIED:20190603T193155Z
UID:10000989-1561298400-1561309200@www.ezechiel.org
SUMMARY:Zondagse dienst
DESCRIPTION:De samenkomst op zondag wordt om 14:00 uur gehouden in het kerkelijk centrum De Regenboogkerk.  \nAdres: Nathaliegang 263\, 2719 CR Zoetermeer (wijk: Rokkeveen) \nSpreker: zie programma en mededelingen. \n 
URL:https://www.ezechiel.org/agenda/zondagse-dienst-18/2019-06-23/
LOCATION:Gebouw De Regenboog\, Nathaliegang 263\, Zoetermeer\, Zuid-Holland\, 2719 CR\, Nederland
CATEGORIES:Zondagse dienst
ORGANIZER;CN="Gods Gemeente Ezechi%C3%ABl Zoetermeer":MAILTO:info@ezechiel.org
GEO:52.0435067;4.4796195
X-APPLE-STRUCTURED-LOCATION;VALUE=URI;X-ADDRESS=Gebouw De Regenboog Nathaliegang 263 Zoetermeer Zuid-Holland 2719 CR Nederland;X-APPLE-RADIUS=500;X-TITLE=Nathaliegang 263:geo:4.4796195,52.0435067
END:VEVENT
BEGIN:VEVENT
DTSTART;TZID=Europe/Amsterdam:20190624T200000
DTEND;TZID=Europe/Amsterdam:20190624T220000
DTSTAMP:20260426T040335
CREATED:20190603T193841Z
LAST-MODIFIED:20190603T193841Z
UID:10000351-1561406400-1561413600@www.ezechiel.org
SUMMARY:Vrouwensamenkomst Women to Women
DESCRIPTION:Voor alle zusters van Gods Gemeente Ezechiël wordt één keer per maand een speciale samenkomst georganiseerd o.l.v. pastora Diana van Heijdoorn. U bent van harte welkom en voel u vrij om een zuster (vriendin\, buurvrouw\, collega) mee te nemen! \nDatum: maandagavond 24 juni om 20:00 uur  \nLocatie: De Regenboogkerk\, Nathaliegang 263\, 2719 CR Zoetermeer (Rokkeveen)
URL:https://www.ezechiel.org/agenda/vrouwensamenkomst-women-to-women-12/
LOCATION:Gebouw De Regenboog\, Nathaliegang 263\, Zoetermeer\, Zuid-Holland\, 2719 CR\, Nederland
CATEGORIES:Vrouwenavond
ORGANIZER;CN="Gods Gemeente Ezechi%C3%ABl Zoetermeer":MAILTO:info@ezechiel.org
GEO:52.0435067;4.4796195
X-APPLE-STRUCTURED-LOCATION;VALUE=URI;X-ADDRESS=Gebouw De Regenboog Nathaliegang 263 Zoetermeer Zuid-Holland 2719 CR Nederland;X-APPLE-RADIUS=500;X-TITLE=Nathaliegang 263:geo:4.4796195,52.0435067
END:VEVENT
BEGIN:VEVENT
DTSTART;TZID=Europe/Amsterdam:20190627T200000
DTEND;TZID=Europe/Amsterdam:20190627T220000
DTSTAMP:20260426T040335
CREATED:20190205T200255Z
LAST-MODIFIED:20190721T114032Z
UID:10000804-1561665600-1561672800@www.ezechiel.org
SUMMARY:Bijbelstudie en gebedsavond
DESCRIPTION:Deze avonden zullen voor een deel bestaan uit studies\, met verschillende thema’s en onderwerpen. Wij hopen broeders en zusters op deze manier bijbels toe te mogen rusten zodat zij kracht en wijsheid zullen hebben om te kunnen blijven doorgaan in deze vaak lastige en moeilijke tijden. \nHierna zal dan iedere keer genoeg tijd beschikbaar zijn om met elkaar te bidden en te danken voor alle noden die men zal aangegeven en ook voor onze broeders en zusters en alle anderen in de rest van de wereld. \nDe bijbelstudies vinden ook op locatie De Regenboogkerk\, Nathaliegang 263\, 2719 CR Zoetermeer plaats.
URL:https://www.ezechiel.org/agenda/bijbelstudie-en-gebedsavond-15/2019-06-27/
LOCATION:Gebouw De Regenboog\, Nathaliegang 263\, Zoetermeer\, Zuid-Holland\, 2719 CR\, Nederland
CATEGORIES:Bijbelstudie en gebedsavond
ORGANIZER;CN="Gods Gemeente Ezechi%C3%ABl Zoetermeer":MAILTO:info@ezechiel.org
GEO:52.0435067;4.4796195
X-APPLE-STRUCTURED-LOCATION;VALUE=URI;X-ADDRESS=Gebouw De Regenboog Nathaliegang 263 Zoetermeer Zuid-Holland 2719 CR Nederland;X-APPLE-RADIUS=500;X-TITLE=Nathaliegang 263:geo:4.4796195,52.0435067
END:VEVENT
BEGIN:VEVENT
DTSTART;TZID=Europe/Amsterdam:20190630T140000
DTEND;TZID=Europe/Amsterdam:20190630T170000
DTSTAMP:20260426T040335
CREATED:20190205T195402Z
LAST-MODIFIED:20190603T193155Z
UID:10000990-1561903200-1561914000@www.ezechiel.org
SUMMARY:Zondagse dienst
DESCRIPTION:De samenkomst op zondag wordt om 14:00 uur gehouden in het kerkelijk centrum De Regenboogkerk.  \nAdres: Nathaliegang 263\, 2719 CR Zoetermeer (wijk: Rokkeveen) \nSpreker: zie programma en mededelingen. \n 
URL:https://www.ezechiel.org/agenda/zondagse-dienst-18/2019-06-30/
LOCATION:Gebouw De Regenboog\, Nathaliegang 263\, Zoetermeer\, Zuid-Holland\, 2719 CR\, Nederland
CATEGORIES:Zondagse dienst
ORGANIZER;CN="Gods Gemeente Ezechi%C3%ABl Zoetermeer":MAILTO:info@ezechiel.org
GEO:52.0435067;4.4796195
X-APPLE-STRUCTURED-LOCATION;VALUE=URI;X-ADDRESS=Gebouw De Regenboog Nathaliegang 263 Zoetermeer Zuid-Holland 2719 CR Nederland;X-APPLE-RADIUS=500;X-TITLE=Nathaliegang 263:geo:4.4796195,52.0435067
END:VEVENT
END:VCALENDAR