BEGIN:VCALENDAR
VERSION:2.0
PRODID:-//Gods Gemeente Ezechiël Zoetermeer - ECPv6.12.0.1//NONSGML v1.0//EN
CALSCALE:GREGORIAN
METHOD:PUBLISH
X-ORIGINAL-URL:https://www.ezechiel.org
X-WR-CALDESC:Evenementen voor Gods Gemeente Ezechiël Zoetermeer
REFRESH-INTERVAL;VALUE=DURATION:PT1H
X-Robots-Tag:noindex
X-PUBLISHED-TTL:PT1H
BEGIN:VTIMEZONE
TZID:Europe/Amsterdam
BEGIN:DAYLIGHT
TZOFFSETFROM:+0100
TZOFFSETTO:+0200
TZNAME:CEST
DTSTART:20190331T010000
END:DAYLIGHT
BEGIN:STANDARD
TZOFFSETFROM:+0200
TZOFFSETTO:+0100
TZNAME:CET
DTSTART:20191027T010000
END:STANDARD
END:VTIMEZONE
BEGIN:VEVENT
DTSTART;TZID=Europe/Amsterdam:20190502T200000
DTEND;TZID=Europe/Amsterdam:20190502T220000
DTSTAMP:20260426T040335
CREATED:20190205T200115Z
LAST-MODIFIED:20190510T195905Z
UID:10001021-1556827200-1556834400@www.ezechiel.org
SUMMARY:Bijbelstudie en gebedsavond
DESCRIPTION:Deze avonden zullen voor een deel bestaan uit studies\, met verschillende thema’s en onderwerpen. Wij hopen broeders en zusters op deze manier bijbels toe te mogen rusten zodat zij kracht en wijsheid zullen hebben om te kunnen blijven doorgaan in deze vaak lastige en moeilijke tijden. \nHierna zal dan iedere keer genoeg tijd beschikbaar zijn om met elkaar te bidden en te danken voor alle noden die men zal aangegeven en ook voor onze broeders en zusters en alle anderen in de rest van de wereld. \nDe bijbelstudies vinden met ingang van december 2018 ook op locatie De Regenboogkerk\, Nathaliegang 263\, 2719 CR Zoetermeer plaats.
URL:https://www.ezechiel.org/agenda/bijbelstudie-en-gebedsavond-14/2019-05-02/
LOCATION:Gebouw De Regenboog\, Nathaliegang 263\, Zoetermeer\, Zuid-Holland\, 2719 CR\, Nederland
CATEGORIES:Bijbelstudie en gebedsavond
ORGANIZER;CN="Gods Gemeente Ezechi%C3%ABl Zoetermeer":MAILTO:info@ezechiel.org
GEO:52.0435067;4.4796195
X-APPLE-STRUCTURED-LOCATION;VALUE=URI;X-ADDRESS=Gebouw De Regenboog Nathaliegang 263 Zoetermeer Zuid-Holland 2719 CR Nederland;X-APPLE-RADIUS=500;X-TITLE=Nathaliegang 263:geo:4.4796195,52.0435067
END:VEVENT
BEGIN:VEVENT
DTSTART;TZID=Europe/Amsterdam:20190502T200000
DTEND;TZID=Europe/Amsterdam:20190502T220000
DTSTAMP:20260426T040335
CREATED:20190205T200255Z
LAST-MODIFIED:20190721T114032Z
UID:10000796-1556827200-1556834400@www.ezechiel.org
SUMMARY:Bijbelstudie en gebedsavond
DESCRIPTION:Deze avonden zullen voor een deel bestaan uit studies\, met verschillende thema’s en onderwerpen. Wij hopen broeders en zusters op deze manier bijbels toe te mogen rusten zodat zij kracht en wijsheid zullen hebben om te kunnen blijven doorgaan in deze vaak lastige en moeilijke tijden. \nHierna zal dan iedere keer genoeg tijd beschikbaar zijn om met elkaar te bidden en te danken voor alle noden die men zal aangegeven en ook voor onze broeders en zusters en alle anderen in de rest van de wereld. \nDe bijbelstudies vinden ook op locatie De Regenboogkerk\, Nathaliegang 263\, 2719 CR Zoetermeer plaats.
URL:https://www.ezechiel.org/agenda/bijbelstudie-en-gebedsavond-15/2019-05-02/
LOCATION:Gebouw De Regenboog\, Nathaliegang 263\, Zoetermeer\, Zuid-Holland\, 2719 CR\, Nederland
CATEGORIES:Bijbelstudie en gebedsavond
ORGANIZER;CN="Gods Gemeente Ezechi%C3%ABl Zoetermeer":MAILTO:info@ezechiel.org
GEO:52.0435067;4.4796195
X-APPLE-STRUCTURED-LOCATION;VALUE=URI;X-ADDRESS=Gebouw De Regenboog Nathaliegang 263 Zoetermeer Zuid-Holland 2719 CR Nederland;X-APPLE-RADIUS=500;X-TITLE=Nathaliegang 263:geo:4.4796195,52.0435067
END:VEVENT
BEGIN:VEVENT
DTSTART;TZID=Europe/Amsterdam:20190505T140000
DTEND;TZID=Europe/Amsterdam:20190505T170000
DTSTAMP:20260426T040335
CREATED:20190205T195402Z
LAST-MODIFIED:20190603T193155Z
UID:10000982-1557064800-1557075600@www.ezechiel.org
SUMMARY:Zondagse dienst
DESCRIPTION:De samenkomst op zondag wordt om 14:00 uur gehouden in het kerkelijk centrum De Regenboogkerk.  \nAdres: Nathaliegang 263\, 2719 CR Zoetermeer (wijk: Rokkeveen) \nSpreker: zie programma en mededelingen. \n 
URL:https://www.ezechiel.org/agenda/zondagse-dienst-18/2019-05-05/
LOCATION:Gebouw De Regenboog\, Nathaliegang 263\, Zoetermeer\, Zuid-Holland\, 2719 CR\, Nederland
CATEGORIES:Zondagse dienst
ORGANIZER;CN="Gods Gemeente Ezechi%C3%ABl Zoetermeer":MAILTO:info@ezechiel.org
GEO:52.0435067;4.4796195
X-APPLE-STRUCTURED-LOCATION;VALUE=URI;X-ADDRESS=Gebouw De Regenboog Nathaliegang 263 Zoetermeer Zuid-Holland 2719 CR Nederland;X-APPLE-RADIUS=500;X-TITLE=Nathaliegang 263:geo:4.4796195,52.0435067
END:VEVENT
BEGIN:VEVENT
DTSTART;TZID=Europe/Amsterdam:20190509T200000
DTEND;TZID=Europe/Amsterdam:20190509T220000
DTSTAMP:20260426T040335
CREATED:20190205T200115Z
LAST-MODIFIED:20190510T195905Z
UID:10001022-1557432000-1557439200@www.ezechiel.org
SUMMARY:Bijbelstudie en gebedsavond
DESCRIPTION:Deze avonden zullen voor een deel bestaan uit studies\, met verschillende thema’s en onderwerpen. Wij hopen broeders en zusters op deze manier bijbels toe te mogen rusten zodat zij kracht en wijsheid zullen hebben om te kunnen blijven doorgaan in deze vaak lastige en moeilijke tijden. \nHierna zal dan iedere keer genoeg tijd beschikbaar zijn om met elkaar te bidden en te danken voor alle noden die men zal aangegeven en ook voor onze broeders en zusters en alle anderen in de rest van de wereld. \nDe bijbelstudies vinden met ingang van december 2018 ook op locatie De Regenboogkerk\, Nathaliegang 263\, 2719 CR Zoetermeer plaats.
URL:https://www.ezechiel.org/agenda/bijbelstudie-en-gebedsavond-14/2019-05-09/
LOCATION:Gebouw De Regenboog\, Nathaliegang 263\, Zoetermeer\, Zuid-Holland\, 2719 CR\, Nederland
CATEGORIES:Bijbelstudie en gebedsavond
ORGANIZER;CN="Gods Gemeente Ezechi%C3%ABl Zoetermeer":MAILTO:info@ezechiel.org
GEO:52.0435067;4.4796195
X-APPLE-STRUCTURED-LOCATION;VALUE=URI;X-ADDRESS=Gebouw De Regenboog Nathaliegang 263 Zoetermeer Zuid-Holland 2719 CR Nederland;X-APPLE-RADIUS=500;X-TITLE=Nathaliegang 263:geo:4.4796195,52.0435067
END:VEVENT
BEGIN:VEVENT
DTSTART;TZID=Europe/Amsterdam:20190509T200000
DTEND;TZID=Europe/Amsterdam:20190509T220000
DTSTAMP:20260426T040335
CREATED:20190205T200255Z
LAST-MODIFIED:20190721T114032Z
UID:10000797-1557432000-1557439200@www.ezechiel.org
SUMMARY:Bijbelstudie en gebedsavond
DESCRIPTION:Deze avonden zullen voor een deel bestaan uit studies\, met verschillende thema’s en onderwerpen. Wij hopen broeders en zusters op deze manier bijbels toe te mogen rusten zodat zij kracht en wijsheid zullen hebben om te kunnen blijven doorgaan in deze vaak lastige en moeilijke tijden. \nHierna zal dan iedere keer genoeg tijd beschikbaar zijn om met elkaar te bidden en te danken voor alle noden die men zal aangegeven en ook voor onze broeders en zusters en alle anderen in de rest van de wereld. \nDe bijbelstudies vinden ook op locatie De Regenboogkerk\, Nathaliegang 263\, 2719 CR Zoetermeer plaats.
URL:https://www.ezechiel.org/agenda/bijbelstudie-en-gebedsavond-15/2019-05-09/
LOCATION:Gebouw De Regenboog\, Nathaliegang 263\, Zoetermeer\, Zuid-Holland\, 2719 CR\, Nederland
CATEGORIES:Bijbelstudie en gebedsavond
ORGANIZER;CN="Gods Gemeente Ezechi%C3%ABl Zoetermeer":MAILTO:info@ezechiel.org
GEO:52.0435067;4.4796195
X-APPLE-STRUCTURED-LOCATION;VALUE=URI;X-ADDRESS=Gebouw De Regenboog Nathaliegang 263 Zoetermeer Zuid-Holland 2719 CR Nederland;X-APPLE-RADIUS=500;X-TITLE=Nathaliegang 263:geo:4.4796195,52.0435067
END:VEVENT
BEGIN:VEVENT
DTSTART;TZID=Europe/Amsterdam:20190512T140000
DTEND;TZID=Europe/Amsterdam:20190512T170000
DTSTAMP:20260426T040335
CREATED:20190205T195402Z
LAST-MODIFIED:20190603T193155Z
UID:10000983-1557669600-1557680400@www.ezechiel.org
SUMMARY:Zondagse dienst
DESCRIPTION:De samenkomst op zondag wordt om 14:00 uur gehouden in het kerkelijk centrum De Regenboogkerk.  \nAdres: Nathaliegang 263\, 2719 CR Zoetermeer (wijk: Rokkeveen) \nSpreker: zie programma en mededelingen. \n 
URL:https://www.ezechiel.org/agenda/zondagse-dienst-18/2019-05-12/
LOCATION:Gebouw De Regenboog\, Nathaliegang 263\, Zoetermeer\, Zuid-Holland\, 2719 CR\, Nederland
CATEGORIES:Zondagse dienst
ORGANIZER;CN="Gods Gemeente Ezechi%C3%ABl Zoetermeer":MAILTO:info@ezechiel.org
GEO:52.0435067;4.4796195
X-APPLE-STRUCTURED-LOCATION;VALUE=URI;X-ADDRESS=Gebouw De Regenboog Nathaliegang 263 Zoetermeer Zuid-Holland 2719 CR Nederland;X-APPLE-RADIUS=500;X-TITLE=Nathaliegang 263:geo:4.4796195,52.0435067
END:VEVENT
BEGIN:VEVENT
DTSTART;TZID=Europe/Amsterdam:20190516T200000
DTEND;TZID=Europe/Amsterdam:20190516T220000
DTSTAMP:20260426T040335
CREATED:20190205T200115Z
LAST-MODIFIED:20190510T195905Z
UID:10001023-1558036800-1558044000@www.ezechiel.org
SUMMARY:Bijbelstudie en gebedsavond
DESCRIPTION:Deze avonden zullen voor een deel bestaan uit studies\, met verschillende thema’s en onderwerpen. Wij hopen broeders en zusters op deze manier bijbels toe te mogen rusten zodat zij kracht en wijsheid zullen hebben om te kunnen blijven doorgaan in deze vaak lastige en moeilijke tijden. \nHierna zal dan iedere keer genoeg tijd beschikbaar zijn om met elkaar te bidden en te danken voor alle noden die men zal aangegeven en ook voor onze broeders en zusters en alle anderen in de rest van de wereld. \nDe bijbelstudies vinden met ingang van december 2018 ook op locatie De Regenboogkerk\, Nathaliegang 263\, 2719 CR Zoetermeer plaats.
URL:https://www.ezechiel.org/agenda/bijbelstudie-en-gebedsavond-14/2019-05-16/
LOCATION:Gebouw De Regenboog\, Nathaliegang 263\, Zoetermeer\, Zuid-Holland\, 2719 CR\, Nederland
CATEGORIES:Bijbelstudie en gebedsavond
ORGANIZER;CN="Gods Gemeente Ezechi%C3%ABl Zoetermeer":MAILTO:info@ezechiel.org
GEO:52.0435067;4.4796195
X-APPLE-STRUCTURED-LOCATION;VALUE=URI;X-ADDRESS=Gebouw De Regenboog Nathaliegang 263 Zoetermeer Zuid-Holland 2719 CR Nederland;X-APPLE-RADIUS=500;X-TITLE=Nathaliegang 263:geo:4.4796195,52.0435067
END:VEVENT
BEGIN:VEVENT
DTSTART;TZID=Europe/Amsterdam:20190516T200000
DTEND;TZID=Europe/Amsterdam:20190516T220000
DTSTAMP:20260426T040335
CREATED:20190205T200255Z
LAST-MODIFIED:20190721T114032Z
UID:10000798-1558036800-1558044000@www.ezechiel.org
SUMMARY:Bijbelstudie en gebedsavond
DESCRIPTION:Deze avonden zullen voor een deel bestaan uit studies\, met verschillende thema’s en onderwerpen. Wij hopen broeders en zusters op deze manier bijbels toe te mogen rusten zodat zij kracht en wijsheid zullen hebben om te kunnen blijven doorgaan in deze vaak lastige en moeilijke tijden. \nHierna zal dan iedere keer genoeg tijd beschikbaar zijn om met elkaar te bidden en te danken voor alle noden die men zal aangegeven en ook voor onze broeders en zusters en alle anderen in de rest van de wereld. \nDe bijbelstudies vinden ook op locatie De Regenboogkerk\, Nathaliegang 263\, 2719 CR Zoetermeer plaats.
URL:https://www.ezechiel.org/agenda/bijbelstudie-en-gebedsavond-15/2019-05-16/
LOCATION:Gebouw De Regenboog\, Nathaliegang 263\, Zoetermeer\, Zuid-Holland\, 2719 CR\, Nederland
CATEGORIES:Bijbelstudie en gebedsavond
ORGANIZER;CN="Gods Gemeente Ezechi%C3%ABl Zoetermeer":MAILTO:info@ezechiel.org
GEO:52.0435067;4.4796195
X-APPLE-STRUCTURED-LOCATION;VALUE=URI;X-ADDRESS=Gebouw De Regenboog Nathaliegang 263 Zoetermeer Zuid-Holland 2719 CR Nederland;X-APPLE-RADIUS=500;X-TITLE=Nathaliegang 263:geo:4.4796195,52.0435067
END:VEVENT
BEGIN:VEVENT
DTSTART;TZID=Europe/Amsterdam:20190519T140000
DTEND;TZID=Europe/Amsterdam:20190519T170000
DTSTAMP:20260426T040335
CREATED:20190205T195402Z
LAST-MODIFIED:20190603T193155Z
UID:10000984-1558274400-1558285200@www.ezechiel.org
SUMMARY:Zondagse dienst
DESCRIPTION:De samenkomst op zondag wordt om 14:00 uur gehouden in het kerkelijk centrum De Regenboogkerk.  \nAdres: Nathaliegang 263\, 2719 CR Zoetermeer (wijk: Rokkeveen) \nSpreker: zie programma en mededelingen. \n 
URL:https://www.ezechiel.org/agenda/zondagse-dienst-18/2019-05-19/
LOCATION:Gebouw De Regenboog\, Nathaliegang 263\, Zoetermeer\, Zuid-Holland\, 2719 CR\, Nederland
CATEGORIES:Zondagse dienst
ORGANIZER;CN="Gods Gemeente Ezechi%C3%ABl Zoetermeer":MAILTO:info@ezechiel.org
GEO:52.0435067;4.4796195
X-APPLE-STRUCTURED-LOCATION;VALUE=URI;X-ADDRESS=Gebouw De Regenboog Nathaliegang 263 Zoetermeer Zuid-Holland 2719 CR Nederland;X-APPLE-RADIUS=500;X-TITLE=Nathaliegang 263:geo:4.4796195,52.0435067
END:VEVENT
BEGIN:VEVENT
DTSTART;TZID=Europe/Amsterdam:20190523T200000
DTEND;TZID=Europe/Amsterdam:20190523T220000
DTSTAMP:20260426T040335
CREATED:20190205T200115Z
LAST-MODIFIED:20190510T195905Z
UID:10001024-1558641600-1558648800@www.ezechiel.org
SUMMARY:Bijbelstudie en gebedsavond
DESCRIPTION:Deze avonden zullen voor een deel bestaan uit studies\, met verschillende thema’s en onderwerpen. Wij hopen broeders en zusters op deze manier bijbels toe te mogen rusten zodat zij kracht en wijsheid zullen hebben om te kunnen blijven doorgaan in deze vaak lastige en moeilijke tijden. \nHierna zal dan iedere keer genoeg tijd beschikbaar zijn om met elkaar te bidden en te danken voor alle noden die men zal aangegeven en ook voor onze broeders en zusters en alle anderen in de rest van de wereld. \nDe bijbelstudies vinden met ingang van december 2018 ook op locatie De Regenboogkerk\, Nathaliegang 263\, 2719 CR Zoetermeer plaats.
URL:https://www.ezechiel.org/agenda/bijbelstudie-en-gebedsavond-14/2019-05-23/
LOCATION:Gebouw De Regenboog\, Nathaliegang 263\, Zoetermeer\, Zuid-Holland\, 2719 CR\, Nederland
CATEGORIES:Bijbelstudie en gebedsavond
ORGANIZER;CN="Gods Gemeente Ezechi%C3%ABl Zoetermeer":MAILTO:info@ezechiel.org
GEO:52.0435067;4.4796195
X-APPLE-STRUCTURED-LOCATION;VALUE=URI;X-ADDRESS=Gebouw De Regenboog Nathaliegang 263 Zoetermeer Zuid-Holland 2719 CR Nederland;X-APPLE-RADIUS=500;X-TITLE=Nathaliegang 263:geo:4.4796195,52.0435067
END:VEVENT
BEGIN:VEVENT
DTSTART;TZID=Europe/Amsterdam:20190523T200000
DTEND;TZID=Europe/Amsterdam:20190523T220000
DTSTAMP:20260426T040335
CREATED:20190205T200255Z
LAST-MODIFIED:20190721T114032Z
UID:10000799-1558641600-1558648800@www.ezechiel.org
SUMMARY:Bijbelstudie en gebedsavond
DESCRIPTION:Deze avonden zullen voor een deel bestaan uit studies\, met verschillende thema’s en onderwerpen. Wij hopen broeders en zusters op deze manier bijbels toe te mogen rusten zodat zij kracht en wijsheid zullen hebben om te kunnen blijven doorgaan in deze vaak lastige en moeilijke tijden. \nHierna zal dan iedere keer genoeg tijd beschikbaar zijn om met elkaar te bidden en te danken voor alle noden die men zal aangegeven en ook voor onze broeders en zusters en alle anderen in de rest van de wereld. \nDe bijbelstudies vinden ook op locatie De Regenboogkerk\, Nathaliegang 263\, 2719 CR Zoetermeer plaats.
URL:https://www.ezechiel.org/agenda/bijbelstudie-en-gebedsavond-15/2019-05-23/
LOCATION:Gebouw De Regenboog\, Nathaliegang 263\, Zoetermeer\, Zuid-Holland\, 2719 CR\, Nederland
CATEGORIES:Bijbelstudie en gebedsavond
ORGANIZER;CN="Gods Gemeente Ezechi%C3%ABl Zoetermeer":MAILTO:info@ezechiel.org
GEO:52.0435067;4.4796195
X-APPLE-STRUCTURED-LOCATION;VALUE=URI;X-ADDRESS=Gebouw De Regenboog Nathaliegang 263 Zoetermeer Zuid-Holland 2719 CR Nederland;X-APPLE-RADIUS=500;X-TITLE=Nathaliegang 263:geo:4.4796195,52.0435067
END:VEVENT
BEGIN:VEVENT
DTSTART;TZID=Europe/Amsterdam:20190526T140000
DTEND;TZID=Europe/Amsterdam:20190526T170000
DTSTAMP:20260426T040335
CREATED:20190205T195402Z
LAST-MODIFIED:20190603T193155Z
UID:10000985-1558879200-1558890000@www.ezechiel.org
SUMMARY:Zondagse dienst
DESCRIPTION:De samenkomst op zondag wordt om 14:00 uur gehouden in het kerkelijk centrum De Regenboogkerk.  \nAdres: Nathaliegang 263\, 2719 CR Zoetermeer (wijk: Rokkeveen) \nSpreker: zie programma en mededelingen. \n 
URL:https://www.ezechiel.org/agenda/zondagse-dienst-18/2019-05-26/
LOCATION:Gebouw De Regenboog\, Nathaliegang 263\, Zoetermeer\, Zuid-Holland\, 2719 CR\, Nederland
CATEGORIES:Zondagse dienst
ORGANIZER;CN="Gods Gemeente Ezechi%C3%ABl Zoetermeer":MAILTO:info@ezechiel.org
GEO:52.0435067;4.4796195
X-APPLE-STRUCTURED-LOCATION;VALUE=URI;X-ADDRESS=Gebouw De Regenboog Nathaliegang 263 Zoetermeer Zuid-Holland 2719 CR Nederland;X-APPLE-RADIUS=500;X-TITLE=Nathaliegang 263:geo:4.4796195,52.0435067
END:VEVENT
BEGIN:VEVENT
DTSTART;TZID=Europe/Amsterdam:20190527T200000
DTEND;TZID=Europe/Amsterdam:20190527T220000
DTSTAMP:20260426T040335
CREATED:20190410T150133Z
LAST-MODIFIED:20190510T201918Z
UID:10000349-1558987200-1558994400@www.ezechiel.org
SUMMARY:Vrouwensamenkomst Women to Women
DESCRIPTION:Voor alle zusters van Gods Gemeente Ezechiël wordt één keer per maand een speciale samenkomst georganiseerd o.l.v. pastora Diana van Heijdoorn. U bent van harte welkom en voel u vrij om een zuster (vriendin\, buurvrouw\, collega) mee te nemen! \nDatum: maandagavond 27 mei om 20:00 uur  \nLocatie: De Regenboogkerk
URL:https://www.ezechiel.org/agenda/vrouwensamenkomst-women-to-women-11/
LOCATION:Gebouw De Regenboog\, Nathaliegang 263\, Zoetermeer\, Zuid-Holland\, 2719 CR\, Nederland
CATEGORIES:Vrouwenavond
ORGANIZER;CN="Gods Gemeente Ezechi%C3%ABl Zoetermeer":MAILTO:info@ezechiel.org
GEO:52.0435067;4.4796195
X-APPLE-STRUCTURED-LOCATION;VALUE=URI;X-ADDRESS=Gebouw De Regenboog Nathaliegang 263 Zoetermeer Zuid-Holland 2719 CR Nederland;X-APPLE-RADIUS=500;X-TITLE=Nathaliegang 263:geo:4.4796195,52.0435067
END:VEVENT
BEGIN:VEVENT
DTSTART;TZID=Europe/Amsterdam:20190530T103000
DTEND;TZID=Europe/Amsterdam:20190530T120000
DTSTAMP:20260426T040335
CREATED:20190510T200435Z
LAST-MODIFIED:20190510T200458Z
UID:10000350-1559212200-1559217600@www.ezechiel.org
SUMMARY:Hemelvaartsviering (BEGZ)
DESCRIPTION:Gezamenlijke viering van de Evangelie Gemeenten Zoetermeer BEGZ. \nGastspreker Christian Tan \nDatum: donderdag 30 mei om 10:30-12:00 uur\nLocatie: De Uitkijk (Parousia gemeente)\nWattstraat 64\, 2718 KZ\, Zoetermeer \nLet op!: De Studie en Gebedsavond om 20:00 u komt hierdoor te vervallen!!
URL:https://www.ezechiel.org/agenda/hemelvaartsviering-begz/
LOCATION:De Uitkijk (Parousia gemeente)\, Wattstraat 64\, Zoetermeer\, Zuid-Holland\, 2718 KZ\, Nederland
CATEGORIES:Special Event
ORGANIZER;CN="Gods Gemeente Ezechi%C3%ABl Zoetermeer":MAILTO:info@ezechiel.org
END:VEVENT
BEGIN:VEVENT
DTSTART;TZID=Europe/Amsterdam:20190530T200000
DTEND;TZID=Europe/Amsterdam:20190530T220000
DTSTAMP:20260426T040335
CREATED:20190205T200255Z
LAST-MODIFIED:20190721T114032Z
UID:10000800-1559246400-1559253600@www.ezechiel.org
SUMMARY:Bijbelstudie en gebedsavond
DESCRIPTION:Deze avonden zullen voor een deel bestaan uit studies\, met verschillende thema’s en onderwerpen. Wij hopen broeders en zusters op deze manier bijbels toe te mogen rusten zodat zij kracht en wijsheid zullen hebben om te kunnen blijven doorgaan in deze vaak lastige en moeilijke tijden. \nHierna zal dan iedere keer genoeg tijd beschikbaar zijn om met elkaar te bidden en te danken voor alle noden die men zal aangegeven en ook voor onze broeders en zusters en alle anderen in de rest van de wereld. \nDe bijbelstudies vinden ook op locatie De Regenboogkerk\, Nathaliegang 263\, 2719 CR Zoetermeer plaats.
URL:https://www.ezechiel.org/agenda/bijbelstudie-en-gebedsavond-15/2019-05-30/
LOCATION:Gebouw De Regenboog\, Nathaliegang 263\, Zoetermeer\, Zuid-Holland\, 2719 CR\, Nederland
CATEGORIES:Bijbelstudie en gebedsavond
ORGANIZER;CN="Gods Gemeente Ezechi%C3%ABl Zoetermeer":MAILTO:info@ezechiel.org
GEO:52.0435067;4.4796195
X-APPLE-STRUCTURED-LOCATION;VALUE=URI;X-ADDRESS=Gebouw De Regenboog Nathaliegang 263 Zoetermeer Zuid-Holland 2719 CR Nederland;X-APPLE-RADIUS=500;X-TITLE=Nathaliegang 263:geo:4.4796195,52.0435067
END:VEVENT
END:VCALENDAR