BEGIN:VCALENDAR
VERSION:2.0
PRODID:-//Gods Gemeente Ezechiël Zoetermeer - ECPv6.12.0.1//NONSGML v1.0//EN
CALSCALE:GREGORIAN
METHOD:PUBLISH
X-WR-CALNAME:Gods Gemeente Ezechiël Zoetermeer
X-ORIGINAL-URL:https://www.ezechiel.org
X-WR-CALDESC:Evenementen voor Gods Gemeente Ezechiël Zoetermeer
REFRESH-INTERVAL;VALUE=DURATION:PT1H
X-Robots-Tag:noindex
X-PUBLISHED-TTL:PT1H
BEGIN:VTIMEZONE
TZID:Europe/Amsterdam
BEGIN:DAYLIGHT
TZOFFSETFROM:+0100
TZOFFSETTO:+0200
TZNAME:CEST
DTSTART:20190331T010000
END:DAYLIGHT
BEGIN:STANDARD
TZOFFSETFROM:+0200
TZOFFSETTO:+0100
TZNAME:CET
DTSTART:20191027T010000
END:STANDARD
END:VTIMEZONE
BEGIN:VEVENT
DTSTART;TZID=Europe/Amsterdam:20190404T200000
DTEND;TZID=Europe/Amsterdam:20190404T220000
DTSTAMP:20260426T054948
CREATED:20190205T200115Z
LAST-MODIFIED:20190510T195905Z
UID:10001017-1554408000-1554415200@www.ezechiel.org
SUMMARY:Bijbelstudie en gebedsavond
DESCRIPTION:Deze avonden zullen voor een deel bestaan uit studies\, met verschillende thema’s en onderwerpen. Wij hopen broeders en zusters op deze manier bijbels toe te mogen rusten zodat zij kracht en wijsheid zullen hebben om te kunnen blijven doorgaan in deze vaak lastige en moeilijke tijden. \nHierna zal dan iedere keer genoeg tijd beschikbaar zijn om met elkaar te bidden en te danken voor alle noden die men zal aangegeven en ook voor onze broeders en zusters en alle anderen in de rest van de wereld. \nDe bijbelstudies vinden met ingang van december 2018 ook op locatie De Regenboogkerk\, Nathaliegang 263\, 2719 CR Zoetermeer plaats.
URL:https://www.ezechiel.org/agenda/bijbelstudie-en-gebedsavond-14/2019-04-04/
LOCATION:Gebouw De Regenboog\, Nathaliegang 263\, Zoetermeer\, Zuid-Holland\, 2719 CR\, Nederland
CATEGORIES:Bijbelstudie en gebedsavond
ORGANIZER;CN="Gods Gemeente Ezechi%C3%ABl Zoetermeer":MAILTO:info@ezechiel.org
GEO:52.0435067;4.4796195
X-APPLE-STRUCTURED-LOCATION;VALUE=URI;X-ADDRESS=Gebouw De Regenboog Nathaliegang 263 Zoetermeer Zuid-Holland 2719 CR Nederland;X-APPLE-RADIUS=500;X-TITLE=Nathaliegang 263:geo:4.4796195,52.0435067
END:VEVENT
BEGIN:VEVENT
DTSTART;TZID=Europe/Amsterdam:20190404T200000
DTEND;TZID=Europe/Amsterdam:20190404T220000
DTSTAMP:20260426T054948
CREATED:20190205T200255Z
LAST-MODIFIED:20190721T114032Z
UID:10000792-1554408000-1554415200@www.ezechiel.org
SUMMARY:Bijbelstudie en gebedsavond
DESCRIPTION:Deze avonden zullen voor een deel bestaan uit studies\, met verschillende thema’s en onderwerpen. Wij hopen broeders en zusters op deze manier bijbels toe te mogen rusten zodat zij kracht en wijsheid zullen hebben om te kunnen blijven doorgaan in deze vaak lastige en moeilijke tijden. \nHierna zal dan iedere keer genoeg tijd beschikbaar zijn om met elkaar te bidden en te danken voor alle noden die men zal aangegeven en ook voor onze broeders en zusters en alle anderen in de rest van de wereld. \nDe bijbelstudies vinden ook op locatie De Regenboogkerk\, Nathaliegang 263\, 2719 CR Zoetermeer plaats.
URL:https://www.ezechiel.org/agenda/bijbelstudie-en-gebedsavond-15/2019-04-04/
LOCATION:Gebouw De Regenboog\, Nathaliegang 263\, Zoetermeer\, Zuid-Holland\, 2719 CR\, Nederland
CATEGORIES:Bijbelstudie en gebedsavond
ORGANIZER;CN="Gods Gemeente Ezechi%C3%ABl Zoetermeer":MAILTO:info@ezechiel.org
GEO:52.0435067;4.4796195
X-APPLE-STRUCTURED-LOCATION;VALUE=URI;X-ADDRESS=Gebouw De Regenboog Nathaliegang 263 Zoetermeer Zuid-Holland 2719 CR Nederland;X-APPLE-RADIUS=500;X-TITLE=Nathaliegang 263:geo:4.4796195,52.0435067
END:VEVENT
BEGIN:VEVENT
DTSTART;TZID=Europe/Amsterdam:20190407T140000
DTEND;TZID=Europe/Amsterdam:20190407T170000
DTSTAMP:20260426T054948
CREATED:20190205T195402Z
LAST-MODIFIED:20190603T193155Z
UID:10000978-1554645600-1554656400@www.ezechiel.org
SUMMARY:Zondagse dienst
DESCRIPTION:De samenkomst op zondag wordt om 14:00 uur gehouden in het kerkelijk centrum De Regenboogkerk.  \nAdres: Nathaliegang 263\, 2719 CR Zoetermeer (wijk: Rokkeveen) \nSpreker: zie programma en mededelingen. \n 
URL:https://www.ezechiel.org/agenda/zondagse-dienst-18/2019-04-07/
LOCATION:Gebouw De Regenboog\, Nathaliegang 263\, Zoetermeer\, Zuid-Holland\, 2719 CR\, Nederland
CATEGORIES:Zondagse dienst
ORGANIZER;CN="Gods Gemeente Ezechi%C3%ABl Zoetermeer":MAILTO:info@ezechiel.org
GEO:52.0435067;4.4796195
X-APPLE-STRUCTURED-LOCATION;VALUE=URI;X-ADDRESS=Gebouw De Regenboog Nathaliegang 263 Zoetermeer Zuid-Holland 2719 CR Nederland;X-APPLE-RADIUS=500;X-TITLE=Nathaliegang 263:geo:4.4796195,52.0435067
END:VEVENT
BEGIN:VEVENT
DTSTART;TZID=Europe/Amsterdam:20190411T200000
DTEND;TZID=Europe/Amsterdam:20190411T220000
DTSTAMP:20260426T054948
CREATED:20190205T200115Z
LAST-MODIFIED:20190510T195905Z
UID:10001018-1555012800-1555020000@www.ezechiel.org
SUMMARY:Bijbelstudie en gebedsavond
DESCRIPTION:Deze avonden zullen voor een deel bestaan uit studies\, met verschillende thema’s en onderwerpen. Wij hopen broeders en zusters op deze manier bijbels toe te mogen rusten zodat zij kracht en wijsheid zullen hebben om te kunnen blijven doorgaan in deze vaak lastige en moeilijke tijden. \nHierna zal dan iedere keer genoeg tijd beschikbaar zijn om met elkaar te bidden en te danken voor alle noden die men zal aangegeven en ook voor onze broeders en zusters en alle anderen in de rest van de wereld. \nDe bijbelstudies vinden met ingang van december 2018 ook op locatie De Regenboogkerk\, Nathaliegang 263\, 2719 CR Zoetermeer plaats.
URL:https://www.ezechiel.org/agenda/bijbelstudie-en-gebedsavond-14/2019-04-11/
LOCATION:Gebouw De Regenboog\, Nathaliegang 263\, Zoetermeer\, Zuid-Holland\, 2719 CR\, Nederland
CATEGORIES:Bijbelstudie en gebedsavond
ORGANIZER;CN="Gods Gemeente Ezechi%C3%ABl Zoetermeer":MAILTO:info@ezechiel.org
GEO:52.0435067;4.4796195
X-APPLE-STRUCTURED-LOCATION;VALUE=URI;X-ADDRESS=Gebouw De Regenboog Nathaliegang 263 Zoetermeer Zuid-Holland 2719 CR Nederland;X-APPLE-RADIUS=500;X-TITLE=Nathaliegang 263:geo:4.4796195,52.0435067
END:VEVENT
BEGIN:VEVENT
DTSTART;TZID=Europe/Amsterdam:20190411T200000
DTEND;TZID=Europe/Amsterdam:20190411T220000
DTSTAMP:20260426T054948
CREATED:20190205T200255Z
LAST-MODIFIED:20190721T114032Z
UID:10000793-1555012800-1555020000@www.ezechiel.org
SUMMARY:Bijbelstudie en gebedsavond
DESCRIPTION:Deze avonden zullen voor een deel bestaan uit studies\, met verschillende thema’s en onderwerpen. Wij hopen broeders en zusters op deze manier bijbels toe te mogen rusten zodat zij kracht en wijsheid zullen hebben om te kunnen blijven doorgaan in deze vaak lastige en moeilijke tijden. \nHierna zal dan iedere keer genoeg tijd beschikbaar zijn om met elkaar te bidden en te danken voor alle noden die men zal aangegeven en ook voor onze broeders en zusters en alle anderen in de rest van de wereld. \nDe bijbelstudies vinden ook op locatie De Regenboogkerk\, Nathaliegang 263\, 2719 CR Zoetermeer plaats.
URL:https://www.ezechiel.org/agenda/bijbelstudie-en-gebedsavond-15/2019-04-11/
LOCATION:Gebouw De Regenboog\, Nathaliegang 263\, Zoetermeer\, Zuid-Holland\, 2719 CR\, Nederland
CATEGORIES:Bijbelstudie en gebedsavond
ORGANIZER;CN="Gods Gemeente Ezechi%C3%ABl Zoetermeer":MAILTO:info@ezechiel.org
GEO:52.0435067;4.4796195
X-APPLE-STRUCTURED-LOCATION;VALUE=URI;X-ADDRESS=Gebouw De Regenboog Nathaliegang 263 Zoetermeer Zuid-Holland 2719 CR Nederland;X-APPLE-RADIUS=500;X-TITLE=Nathaliegang 263:geo:4.4796195,52.0435067
END:VEVENT
BEGIN:VEVENT
DTSTART;VALUE=DATE:20190414
DTEND;VALUE=DATE:20190415
DTSTAMP:20260426T054948
CREATED:20190409T213316Z
LAST-MODIFIED:20190409T213743Z
UID:10000810-1555200000-1555286399@www.ezechiel.org
SUMMARY:Palmzondag
DESCRIPTION:
URL:https://www.ezechiel.org/agenda/palmzondag/
LOCATION:Zoetermeer\, Zuid-Holland\, Nederland
CATEGORIES:Zondagse dienst
ORGANIZER;CN="Gods Gemeente Ezechi%C3%ABl Zoetermeer":MAILTO:info@ezechiel.org
END:VEVENT
BEGIN:VEVENT
DTSTART;TZID=Europe/Amsterdam:20190414T140000
DTEND;TZID=Europe/Amsterdam:20190414T170000
DTSTAMP:20260426T054948
CREATED:20190205T195402Z
LAST-MODIFIED:20190603T193155Z
UID:10000979-1555250400-1555261200@www.ezechiel.org
SUMMARY:Zondagse dienst
DESCRIPTION:De samenkomst op zondag wordt om 14:00 uur gehouden in het kerkelijk centrum De Regenboogkerk.  \nAdres: Nathaliegang 263\, 2719 CR Zoetermeer (wijk: Rokkeveen) \nSpreker: zie programma en mededelingen. \n 
URL:https://www.ezechiel.org/agenda/zondagse-dienst-18/2019-04-14/
LOCATION:Gebouw De Regenboog\, Nathaliegang 263\, Zoetermeer\, Zuid-Holland\, 2719 CR\, Nederland
CATEGORIES:Zondagse dienst
ORGANIZER;CN="Gods Gemeente Ezechi%C3%ABl Zoetermeer":MAILTO:info@ezechiel.org
GEO:52.0435067;4.4796195
X-APPLE-STRUCTURED-LOCATION;VALUE=URI;X-ADDRESS=Gebouw De Regenboog Nathaliegang 263 Zoetermeer Zuid-Holland 2719 CR Nederland;X-APPLE-RADIUS=500;X-TITLE=Nathaliegang 263:geo:4.4796195,52.0435067
END:VEVENT
BEGIN:VEVENT
DTSTART;TZID=Europe/Amsterdam:20190418T200000
DTEND;TZID=Europe/Amsterdam:20190418T220000
DTSTAMP:20260426T054948
CREATED:20190205T200115Z
LAST-MODIFIED:20190510T195905Z
UID:10001019-1555617600-1555624800@www.ezechiel.org
SUMMARY:Bijbelstudie en gebedsavond
DESCRIPTION:Deze avonden zullen voor een deel bestaan uit studies\, met verschillende thema’s en onderwerpen. Wij hopen broeders en zusters op deze manier bijbels toe te mogen rusten zodat zij kracht en wijsheid zullen hebben om te kunnen blijven doorgaan in deze vaak lastige en moeilijke tijden. \nHierna zal dan iedere keer genoeg tijd beschikbaar zijn om met elkaar te bidden en te danken voor alle noden die men zal aangegeven en ook voor onze broeders en zusters en alle anderen in de rest van de wereld. \nDe bijbelstudies vinden met ingang van december 2018 ook op locatie De Regenboogkerk\, Nathaliegang 263\, 2719 CR Zoetermeer plaats.
URL:https://www.ezechiel.org/agenda/bijbelstudie-en-gebedsavond-14/2019-04-18/
LOCATION:Gebouw De Regenboog\, Nathaliegang 263\, Zoetermeer\, Zuid-Holland\, 2719 CR\, Nederland
CATEGORIES:Bijbelstudie en gebedsavond
ORGANIZER;CN="Gods Gemeente Ezechi%C3%ABl Zoetermeer":MAILTO:info@ezechiel.org
GEO:52.0435067;4.4796195
X-APPLE-STRUCTURED-LOCATION;VALUE=URI;X-ADDRESS=Gebouw De Regenboog Nathaliegang 263 Zoetermeer Zuid-Holland 2719 CR Nederland;X-APPLE-RADIUS=500;X-TITLE=Nathaliegang 263:geo:4.4796195,52.0435067
END:VEVENT
BEGIN:VEVENT
DTSTART;TZID=Europe/Amsterdam:20190418T200000
DTEND;TZID=Europe/Amsterdam:20190418T220000
DTSTAMP:20260426T054948
CREATED:20190205T200255Z
LAST-MODIFIED:20190721T114032Z
UID:10000794-1555617600-1555624800@www.ezechiel.org
SUMMARY:Bijbelstudie en gebedsavond
DESCRIPTION:Deze avonden zullen voor een deel bestaan uit studies\, met verschillende thema’s en onderwerpen. Wij hopen broeders en zusters op deze manier bijbels toe te mogen rusten zodat zij kracht en wijsheid zullen hebben om te kunnen blijven doorgaan in deze vaak lastige en moeilijke tijden. \nHierna zal dan iedere keer genoeg tijd beschikbaar zijn om met elkaar te bidden en te danken voor alle noden die men zal aangegeven en ook voor onze broeders en zusters en alle anderen in de rest van de wereld. \nDe bijbelstudies vinden ook op locatie De Regenboogkerk\, Nathaliegang 263\, 2719 CR Zoetermeer plaats.
URL:https://www.ezechiel.org/agenda/bijbelstudie-en-gebedsavond-15/2019-04-18/
LOCATION:Gebouw De Regenboog\, Nathaliegang 263\, Zoetermeer\, Zuid-Holland\, 2719 CR\, Nederland
CATEGORIES:Bijbelstudie en gebedsavond
ORGANIZER;CN="Gods Gemeente Ezechi%C3%ABl Zoetermeer":MAILTO:info@ezechiel.org
GEO:52.0435067;4.4796195
X-APPLE-STRUCTURED-LOCATION;VALUE=URI;X-ADDRESS=Gebouw De Regenboog Nathaliegang 263 Zoetermeer Zuid-Holland 2719 CR Nederland;X-APPLE-RADIUS=500;X-TITLE=Nathaliegang 263:geo:4.4796195,52.0435067
END:VEVENT
BEGIN:VEVENT
DTSTART;TZID=Europe/Amsterdam:20190418T200000
DTEND;TZID=Europe/Amsterdam:20190418T220000
DTSTAMP:20260426T054948
CREATED:20190409T213534Z
LAST-MODIFIED:20190409T213534Z
UID:10000347-1555617600-1555624800@www.ezechiel.org
SUMMARY:Witte Donderdag
DESCRIPTION:Op deze donderdag komen wij bij elkaar en herdenken wij het Laatste Avondmaal dat Jezus met Zijn discipelen nuttigde\, een dag voordat hij op Golgotha zou worden gekruisigd. Het is goed hierbij een vasten aan vooraf te laten gaan. \nTijdstip: 20:00 uur in de Regenboogkerk
URL:https://www.ezechiel.org/agenda/witte-donderdag/
LOCATION:Zoetermeer\, Zuid-Holland\, Nederland
CATEGORIES:Special Event
ORGANIZER;CN="Gods Gemeente Ezechi%C3%ABl Zoetermeer":MAILTO:info@ezechiel.org
END:VEVENT
BEGIN:VEVENT
DTSTART;TZID=Europe/Amsterdam:20190421T140000
DTEND;TZID=Europe/Amsterdam:20190421T160000
DTSTAMP:20260426T054948
CREATED:20190409T213852Z
LAST-MODIFIED:20190409T214837Z
UID:10000348-1555855200-1555862400@www.ezechiel.org
SUMMARY:Eerste Paasdag
DESCRIPTION:
URL:https://www.ezechiel.org/agenda/eerste-paasdag/
LOCATION:Zoetermeer\, Zuid-Holland\, Nederland
CATEGORIES:Special Event,Zondagse dienst
ORGANIZER;CN="Gods Gemeente Ezechi%C3%ABl Zoetermeer":MAILTO:info@ezechiel.org
END:VEVENT
BEGIN:VEVENT
DTSTART;TZID=Europe/Amsterdam:20190421T140000
DTEND;TZID=Europe/Amsterdam:20190421T170000
DTSTAMP:20260426T054948
CREATED:20190205T195402Z
LAST-MODIFIED:20190603T193155Z
UID:10000980-1555855200-1555866000@www.ezechiel.org
SUMMARY:Zondagse dienst
DESCRIPTION:De samenkomst op zondag wordt om 14:00 uur gehouden in het kerkelijk centrum De Regenboogkerk.  \nAdres: Nathaliegang 263\, 2719 CR Zoetermeer (wijk: Rokkeveen) \nSpreker: zie programma en mededelingen. \n 
URL:https://www.ezechiel.org/agenda/zondagse-dienst-18/2019-04-21/
LOCATION:Gebouw De Regenboog\, Nathaliegang 263\, Zoetermeer\, Zuid-Holland\, 2719 CR\, Nederland
CATEGORIES:Zondagse dienst
ORGANIZER;CN="Gods Gemeente Ezechi%C3%ABl Zoetermeer":MAILTO:info@ezechiel.org
GEO:52.0435067;4.4796195
X-APPLE-STRUCTURED-LOCATION;VALUE=URI;X-ADDRESS=Gebouw De Regenboog Nathaliegang 263 Zoetermeer Zuid-Holland 2719 CR Nederland;X-APPLE-RADIUS=500;X-TITLE=Nathaliegang 263:geo:4.4796195,52.0435067
END:VEVENT
BEGIN:VEVENT
DTSTART;TZID=Europe/Amsterdam:20190425T200000
DTEND;TZID=Europe/Amsterdam:20190425T220000
DTSTAMP:20260426T054948
CREATED:20190205T200115Z
LAST-MODIFIED:20190510T195905Z
UID:10001020-1556222400-1556229600@www.ezechiel.org
SUMMARY:Bijbelstudie en gebedsavond
DESCRIPTION:Deze avonden zullen voor een deel bestaan uit studies\, met verschillende thema’s en onderwerpen. Wij hopen broeders en zusters op deze manier bijbels toe te mogen rusten zodat zij kracht en wijsheid zullen hebben om te kunnen blijven doorgaan in deze vaak lastige en moeilijke tijden. \nHierna zal dan iedere keer genoeg tijd beschikbaar zijn om met elkaar te bidden en te danken voor alle noden die men zal aangegeven en ook voor onze broeders en zusters en alle anderen in de rest van de wereld. \nDe bijbelstudies vinden met ingang van december 2018 ook op locatie De Regenboogkerk\, Nathaliegang 263\, 2719 CR Zoetermeer plaats.
URL:https://www.ezechiel.org/agenda/bijbelstudie-en-gebedsavond-14/2019-04-25/
LOCATION:Gebouw De Regenboog\, Nathaliegang 263\, Zoetermeer\, Zuid-Holland\, 2719 CR\, Nederland
CATEGORIES:Bijbelstudie en gebedsavond
ORGANIZER;CN="Gods Gemeente Ezechi%C3%ABl Zoetermeer":MAILTO:info@ezechiel.org
GEO:52.0435067;4.4796195
X-APPLE-STRUCTURED-LOCATION;VALUE=URI;X-ADDRESS=Gebouw De Regenboog Nathaliegang 263 Zoetermeer Zuid-Holland 2719 CR Nederland;X-APPLE-RADIUS=500;X-TITLE=Nathaliegang 263:geo:4.4796195,52.0435067
END:VEVENT
BEGIN:VEVENT
DTSTART;TZID=Europe/Amsterdam:20190425T200000
DTEND;TZID=Europe/Amsterdam:20190425T220000
DTSTAMP:20260426T054948
CREATED:20190205T200255Z
LAST-MODIFIED:20190721T114032Z
UID:10000795-1556222400-1556229600@www.ezechiel.org
SUMMARY:Bijbelstudie en gebedsavond
DESCRIPTION:Deze avonden zullen voor een deel bestaan uit studies\, met verschillende thema’s en onderwerpen. Wij hopen broeders en zusters op deze manier bijbels toe te mogen rusten zodat zij kracht en wijsheid zullen hebben om te kunnen blijven doorgaan in deze vaak lastige en moeilijke tijden. \nHierna zal dan iedere keer genoeg tijd beschikbaar zijn om met elkaar te bidden en te danken voor alle noden die men zal aangegeven en ook voor onze broeders en zusters en alle anderen in de rest van de wereld. \nDe bijbelstudies vinden ook op locatie De Regenboogkerk\, Nathaliegang 263\, 2719 CR Zoetermeer plaats.
URL:https://www.ezechiel.org/agenda/bijbelstudie-en-gebedsavond-15/2019-04-25/
LOCATION:Gebouw De Regenboog\, Nathaliegang 263\, Zoetermeer\, Zuid-Holland\, 2719 CR\, Nederland
CATEGORIES:Bijbelstudie en gebedsavond
ORGANIZER;CN="Gods Gemeente Ezechi%C3%ABl Zoetermeer":MAILTO:info@ezechiel.org
GEO:52.0435067;4.4796195
X-APPLE-STRUCTURED-LOCATION;VALUE=URI;X-ADDRESS=Gebouw De Regenboog Nathaliegang 263 Zoetermeer Zuid-Holland 2719 CR Nederland;X-APPLE-RADIUS=500;X-TITLE=Nathaliegang 263:geo:4.4796195,52.0435067
END:VEVENT
BEGIN:VEVENT
DTSTART;TZID=Europe/Amsterdam:20190428T140000
DTEND;TZID=Europe/Amsterdam:20190428T170000
DTSTAMP:20260426T054948
CREATED:20190205T195402Z
LAST-MODIFIED:20190603T193155Z
UID:10000981-1556460000-1556470800@www.ezechiel.org
SUMMARY:Zondagse dienst
DESCRIPTION:De samenkomst op zondag wordt om 14:00 uur gehouden in het kerkelijk centrum De Regenboogkerk.  \nAdres: Nathaliegang 263\, 2719 CR Zoetermeer (wijk: Rokkeveen) \nSpreker: zie programma en mededelingen. \n 
URL:https://www.ezechiel.org/agenda/zondagse-dienst-18/2019-04-28/
LOCATION:Gebouw De Regenboog\, Nathaliegang 263\, Zoetermeer\, Zuid-Holland\, 2719 CR\, Nederland
CATEGORIES:Zondagse dienst
ORGANIZER;CN="Gods Gemeente Ezechi%C3%ABl Zoetermeer":MAILTO:info@ezechiel.org
GEO:52.0435067;4.4796195
X-APPLE-STRUCTURED-LOCATION;VALUE=URI;X-ADDRESS=Gebouw De Regenboog Nathaliegang 263 Zoetermeer Zuid-Holland 2719 CR Nederland;X-APPLE-RADIUS=500;X-TITLE=Nathaliegang 263:geo:4.4796195,52.0435067
END:VEVENT
END:VCALENDAR