BEGIN:VCALENDAR
VERSION:2.0
PRODID:-//Gods Gemeente Ezechiël Zoetermeer - ECPv6.12.0.1//NONSGML v1.0//EN
CALSCALE:GREGORIAN
METHOD:PUBLISH
X-ORIGINAL-URL:https://www.ezechiel.org
X-WR-CALDESC:Evenementen voor Gods Gemeente Ezechiël Zoetermeer
REFRESH-INTERVAL;VALUE=DURATION:PT1H
X-Robots-Tag:noindex
X-PUBLISHED-TTL:PT1H
BEGIN:VTIMEZONE
TZID:Europe/Amsterdam
BEGIN:DAYLIGHT
TZOFFSETFROM:+0100
TZOFFSETTO:+0200
TZNAME:CEST
DTSTART:20170326T010000
END:DAYLIGHT
BEGIN:STANDARD
TZOFFSETFROM:+0200
TZOFFSETTO:+0100
TZNAME:CET
DTSTART:20171029T010000
END:STANDARD
BEGIN:DAYLIGHT
TZOFFSETFROM:+0100
TZOFFSETTO:+0200
TZNAME:CEST
DTSTART:20180325T010000
END:DAYLIGHT
BEGIN:STANDARD
TZOFFSETFROM:+0200
TZOFFSETTO:+0100
TZNAME:CET
DTSTART:20181028T010000
END:STANDARD
END:VTIMEZONE
BEGIN:VEVENT
DTSTART;TZID=Europe/Amsterdam:20180322T200000
DTEND;TZID=Europe/Amsterdam:20180322T220000
DTSTAMP:20260420T065439
CREATED:20180304T215307Z
LAST-MODIFIED:20180306T165757Z
UID:10000921-1521748800-1521756000@www.ezechiel.org
SUMMARY:Bijbelstudie en gebedsavond
DESCRIPTION:Deze avonden zullen voor een deel bestaan uit studies\, met verschillende thema’s en onderwerpen. Wij hopen broeders en zusters op deze manier bijbels toe te mogen rusten zodat zij kracht en wijsheid zullen hebben om te kunnen blijven doorgaan in deze vaak lastige en moeilijke tijden. \nHierna zal dan iedere keer genoeg tijd beschikbaar zijn om met elkaar te bidden en te danken voor alle noden die men zal aangegeven en ook voor onze broeders en zusters en alle anderen in de rest van de wereld.
URL:https://www.ezechiel.org/agenda/bijbelstudie-en-gebedsavond-8/
LOCATION:Gebouw Leger des Heils\, Van Lierepad 13\, Zoetermeer\, Zuid-Holland\, 2722 CK\, Nederland
CATEGORIES:Bijbelstudie en gebedsavond
ORGANIZER;CN="Gods Gemeente Ezechi%C3%ABl Zoetermeer":MAILTO:info@ezechiel.org
END:VEVENT
BEGIN:VEVENT
DTSTART;TZID=Europe/Amsterdam:20180318T140000
DTEND;TZID=Europe/Amsterdam:20180318T170000
DTSTAMP:20260420T065439
CREATED:20180304T211711Z
LAST-MODIFIED:20180304T213820Z
UID:10000916-1521381600-1521392400@www.ezechiel.org
SUMMARY:Zondagse dienst: Ferry Kotadiny
DESCRIPTION:De zondagse diensten worden gehouden in kerkelijk centrum “De Regenboog”.  Het adres is: Nathaliegang 263\, 2719 CR Zoetermeer (wijk: Rokkeveen). \n\nGastspreker: br. Ferry Kotadiny
URL:https://www.ezechiel.org/agenda/zondagse-dienst-ferry-kotadiny/
LOCATION:Gebouw De Regenboog\, Nathaliegang 263\, Zoetermeer\, Zuid-Holland\, 2719 CR\, Nederland
CATEGORIES:Zondagse dienst
ORGANIZER;CN="Gods Gemeente Ezechi%C3%ABl Zoetermeer":MAILTO:info@ezechiel.org
GEO:52.0435067;4.4796195
X-APPLE-STRUCTURED-LOCATION;VALUE=URI;X-ADDRESS=Gebouw De Regenboog Nathaliegang 263 Zoetermeer Zuid-Holland 2719 CR Nederland;X-APPLE-RADIUS=500;X-TITLE=Nathaliegang 263:geo:4.4796195,52.0435067
END:VEVENT
BEGIN:VEVENT
DTSTART;TZID=Europe/Amsterdam:20180315T200000
DTEND;TZID=Europe/Amsterdam:20180315T220000
DTSTAMP:20260420T065439
CREATED:20180304T215209Z
LAST-MODIFIED:20180306T165824Z
UID:10000920-1521144000-1521151200@www.ezechiel.org
SUMMARY:Bijbelstudie en gebedsavond
DESCRIPTION:Deze avonden zullen voor een deel bestaan uit studies\, met verschillende thema’s en onderwerpen. Wij hopen broeders en zusters op deze manier bijbels toe te mogen rusten zodat zij kracht en wijsheid zullen hebben om te kunnen blijven doorgaan in deze vaak lastige en moeilijke tijden. \nHierna zal dan iedere keer genoeg tijd beschikbaar zijn om met elkaar te bidden en te danken voor alle noden die men zal aangegeven en ook voor onze broeders en zusters en alle anderen in de rest van de wereld.
URL:https://www.ezechiel.org/agenda/bijbelstudie-en-gebedsavond-7/
LOCATION:Gebouw Leger des Heils\, Van Lierepad 13\, Zoetermeer\, Zuid-Holland\, 2722 CK\, Nederland
CATEGORIES:Bijbelstudie en gebedsavond
ORGANIZER;CN="Gods Gemeente Ezechi%C3%ABl Zoetermeer":MAILTO:info@ezechiel.org
END:VEVENT
BEGIN:VEVENT
DTSTART;TZID=Europe/Amsterdam:20180311T140000
DTEND;TZID=Europe/Amsterdam:20180311T170000
DTSTAMP:20260420T065439
CREATED:20180304T211443Z
LAST-MODIFIED:20180304T214139Z
UID:10000915-1520776800-1520787600@www.ezechiel.org
SUMMARY:Zondagse dienst
DESCRIPTION:De zondagse diensten worden gehouden in kerkelijk centrum “De Regenboog”.  Het adres is: Nathaliegang 263\, 2719 CR Zoetermeer (wijk: Rokkeveen). \n\nSpreker: pastor Theo van Heijdoorn
URL:https://www.ezechiel.org/agenda/zondagse-dienst-7/
LOCATION:Gebouw De Regenboog\, Nathaliegang 263\, Zoetermeer\, Zuid-Holland\, 2719 CR\, Nederland
CATEGORIES:Zondagse dienst
ORGANIZER;CN="Gods Gemeente Ezechi%C3%ABl Zoetermeer":MAILTO:info@ezechiel.org
GEO:52.0435067;4.4796195
X-APPLE-STRUCTURED-LOCATION;VALUE=URI;X-ADDRESS=Gebouw De Regenboog Nathaliegang 263 Zoetermeer Zuid-Holland 2719 CR Nederland;X-APPLE-RADIUS=500;X-TITLE=Nathaliegang 263:geo:4.4796195,52.0435067
END:VEVENT
BEGIN:VEVENT
DTSTART;TZID=Europe/Amsterdam:20180308T200000
DTEND;TZID=Europe/Amsterdam:20180308T220000
DTSTAMP:20260420T065439
CREATED:20180304T213549Z
LAST-MODIFIED:20180306T165858Z
UID:10000919-1520539200-1520546400@www.ezechiel.org
SUMMARY:Bijbelstudie & Gebedsavond
DESCRIPTION:Deze avonden zullen voor een deel bestaan uit studies\, met verschillende thema’s en onderwerpen. Wij hopen broeders en zusters op deze manier bijbels toe te mogen rusten zodat zij kracht en wijsheid zullen hebben om te kunnen blijven doorgaan in deze vaak lastige en moeilijke tijden. \nHierna zal dan iedere keer genoeg tijd beschikbaar zijn om met elkaar te bidden en te danken voor alle noden die men zal aangegeven en ook voor onze broeders en zusters en alle anderen in de rest van de wereld.
URL:https://www.ezechiel.org/agenda/bijbelstudie-gebedsavond-2/
LOCATION:Gebouw Leger des Heils\, Van Lierepad 13\, Zoetermeer\, Zuid-Holland\, 2722 CK\, Nederland
CATEGORIES:Bijbelstudie en gebedsavond
ORGANIZER;CN="Gods Gemeente Ezechi%C3%ABl Zoetermeer":MAILTO:info@ezechiel.org
END:VEVENT
BEGIN:VEVENT
DTSTART;TZID=Europe/Amsterdam:20180304T140000
DTEND;TZID=Europe/Amsterdam:20180304T170000
DTSTAMP:20260420T065439
CREATED:20180304T213341Z
LAST-MODIFIED:20180304T213341Z
UID:10000918-1520172000-1520182800@www.ezechiel.org
SUMMARY:Zondagse dienst: Avondmaal
DESCRIPTION:De zondagse diensten worden gehouden in kerkelijk centrum “De Regenboog”.  Het adres is: Nathaliegang 263\, 2719 CR Zoetermeer (wijk: Rokkeveen). \n\nSpreker: pastor Theo van Heijdoorn\nThema: Avondmaal
URL:https://www.ezechiel.org/agenda/zondagse-dienst-avondmaal/
LOCATION:Zuid-Holland
CATEGORIES:Zondagse dienst
ORGANIZER;CN="Gods Gemeente Ezechi%C3%ABl Zoetermeer":MAILTO:info@ezechiel.org
END:VEVENT
BEGIN:VEVENT
DTSTART;VALUE=DATE:20180228
DTEND;VALUE=DATE:20180301
DTSTAMP:20260420T065439
CREATED:20180202T210458Z
LAST-MODIFIED:20180202T210458Z
UID:10000914-1519776000-1519862399@www.ezechiel.org
SUMMARY:Men to Men
DESCRIPTION:Voor alle mannen van Gods Gemeente Ezechiël wordt één keer per maand een speciale bijeenkomst gehouden.                         U bent van harte welkom en voel u vrij om een broeder (vriend\, buurman\, of collega mee te nemen! \n\nDatum: 28 februari 2018\nLocatie: N.N.B.\nHet exacte tijdstip zal in de loop van de maand worden toegevoegd!
URL:https://www.ezechiel.org/agenda/men-to-men/
LOCATION:Zuid-Holland
CATEGORIES:Mannenavond
ORGANIZER;CN="Gods Gemeente Ezechi%C3%ABl Zoetermeer":MAILTO:info@ezechiel.org
END:VEVENT
BEGIN:VEVENT
DTSTART;TZID=Europe/Amsterdam:20180226T200000
DTEND;TZID=Europe/Amsterdam:20180226T213000
DTSTAMP:20260420T065439
CREATED:20180202T210127Z
LAST-MODIFIED:20180202T210127Z
UID:10000913-1519675200-1519680600@www.ezechiel.org
SUMMARY:Women to Women
DESCRIPTION:Voor alle zusters van Gods Gemeente Ezechiël wordt één keer per maand een speciale samenkomst georganiseerd o.l.v. pastora Diana van Heijdoorn. U bent van harte welkom en voel u vrij om een zuster (vriendin\, buurvrouw\, collega) mee te nemen! \n\nAanvang: 20:00 uur\nLocatie: Gebouw Leger des Heils\, Van Lierepad 13\, Zoetermeer (wijk Palenstein)\n\n 
URL:https://www.ezechiel.org/agenda/women-to-women/
LOCATION:Gebouw Leger des Heils\, Van Lierepad 13\, Zoetermeer\, Zuid-Holland\, 2722 CK\, Nederland
CATEGORIES:Vrouwenavond
ORGANIZER;CN="Gods Gemeente Ezechi%C3%ABl Zoetermeer":MAILTO:info@ezechiel.org
END:VEVENT
BEGIN:VEVENT
DTSTART;TZID=Europe/Amsterdam:20180225T140000
DTEND;TZID=Europe/Amsterdam:20180225T170000
DTSTAMP:20260420T065439
CREATED:20180202T202633Z
LAST-MODIFIED:20180213T195023Z
UID:10000909-1519567200-1519578000@www.ezechiel.org
SUMMARY:Zondagse dienst
DESCRIPTION:De zondagse diensten worden gehouden in kerkelijk centrum “De Regenboog”.  Het adres is: Nathaliegang 263\, 2719 CR Zoetermeer (wijk: Rokkeveen). \n\nGastspreker: br. Ray de Lima
URL:https://www.ezechiel.org/agenda/zondagse-dienst-6/
LOCATION:Gebouw De Regenboog\, Nathaliegang 263\, Zoetermeer\, Zuid-Holland\, 2719 CR\, Nederland
CATEGORIES:Zondagse dienst
ORGANIZER;CN="Gods Gemeente Ezechi%C3%ABl Zoetermeer":MAILTO:info@ezechiel.org
GEO:52.0435067;4.4796195
X-APPLE-STRUCTURED-LOCATION;VALUE=URI;X-ADDRESS=Gebouw De Regenboog Nathaliegang 263 Zoetermeer Zuid-Holland 2719 CR Nederland;X-APPLE-RADIUS=500;X-TITLE=Nathaliegang 263:geo:4.4796195,52.0435067
END:VEVENT
BEGIN:VEVENT
DTSTART;TZID=Europe/Amsterdam:20180222T200000
DTEND;TZID=Europe/Amsterdam:20180222T213000
DTSTAMP:20260420T065439
CREATED:20180202T203641Z
LAST-MODIFIED:20180202T203641Z
UID:10000912-1519329600-1519335000@www.ezechiel.org
SUMMARY:Bijbelstudie en gebedsavond
DESCRIPTION:Deze avonden zullen voor een deel bestaan uit studies\, met verschillende thema’s en onderwerpen. Wij hopen broeders en zusters op deze manier bijbels toe te mogen rusten zodat zij kracht en wijsheid zullen hebben om te kunnen blijven doorgaan in deze vaak lastige en moeilijke tijden. \nHierna zal dan iedere keer genoeg tijd beschikbaar zijn om met elkaar te bidden en te danken voor alle noden die men zal aangegeven en ook voor onze broeders en zusters en alle anderen in de rest van de wereld. \n  \n 
URL:https://www.ezechiel.org/agenda/bijbelstudie-en-gebedsavond-6/
LOCATION:Gebouw Leger des Heils\, Van Lierepad 13\, Zoetermeer\, Zuid-Holland\, 2722 CK\, Nederland
CATEGORIES:Bijbelstudie en gebedsavond
ORGANIZER;CN="Gods Gemeente Ezechi%C3%ABl Zoetermeer":MAILTO:info@ezechiel.org
END:VEVENT
BEGIN:VEVENT
DTSTART;TZID=Europe/Amsterdam:20180218T140000
DTEND;TZID=Europe/Amsterdam:20180218T170000
DTSTAMP:20260420T065439
CREATED:20180202T202243Z
LAST-MODIFIED:20180212T220549Z
UID:10000908-1518962400-1518973200@www.ezechiel.org
SUMMARY:Zondagse dienst "Als het om de liefde gaat"
DESCRIPTION:De zondagse diensten worden gehouden in kerkelijk centrum “De Regenboog”.  Het adres is: Nathaliegang 263\, 2719 CR Zoetermeer (wijk: Rokkeveen). \n\nSpreker: pastora  Diana van Heijdoorn\nThema: Als het om de liefde gaat
URL:https://www.ezechiel.org/agenda/zondagse-dienst-5/
LOCATION:Gebouw De Regenboog\, Nathaliegang 263\, Zoetermeer\, Zuid-Holland\, 2719 CR\, Nederland
CATEGORIES:Zondagse dienst
ORGANIZER;CN="Gods Gemeente Ezechi%C3%ABl Zoetermeer":MAILTO:info@ezechiel.org
GEO:52.0435067;4.4796195
X-APPLE-STRUCTURED-LOCATION;VALUE=URI;X-ADDRESS=Gebouw De Regenboog Nathaliegang 263 Zoetermeer Zuid-Holland 2719 CR Nederland;X-APPLE-RADIUS=500;X-TITLE=Nathaliegang 263:geo:4.4796195,52.0435067
END:VEVENT
BEGIN:VEVENT
DTSTART;TZID=Europe/Amsterdam:20180215T200000
DTEND;TZID=Europe/Amsterdam:20180215T213000
DTSTAMP:20260420T065439
CREATED:20180202T203408Z
LAST-MODIFIED:20180202T203408Z
UID:10000911-1518724800-1518730200@www.ezechiel.org
SUMMARY:Bijbelstudie en gebedsavond
DESCRIPTION:Deze avonden zullen voor een deel bestaan uit studies\, met verschillende thema’s en onderwerpen. Wij hopen broeders en zusters op deze manier bijbels toe te mogen rusten zodat zij kracht en wijsheid zullen hebben om te kunnen blijven doorgaan in deze vaak lastige en moeilijke tijden. \nHierna zal dan iedere keer genoeg tijd beschikbaar zijn om met elkaar te bidden en te danken voor alle noden die men zal aangegeven en ook voor onze broeders en zusters en alle anderen in de rest van de wereld. \n  \n 
URL:https://www.ezechiel.org/agenda/bijbelstudie-en-gebedsavond-5/
LOCATION:Gebouw Leger des Heils\, Van Lierepad 13\, Zoetermeer\, Zuid-Holland\, 2722 CK\, Nederland
CATEGORIES:Bijbelstudie en gebedsavond
ORGANIZER;CN="Gods Gemeente Ezechi%C3%ABl Zoetermeer":MAILTO:info@ezechiel.org
END:VEVENT
BEGIN:VEVENT
DTSTART;TZID=Europe/Amsterdam:20180211T140000
DTEND;TZID=Europe/Amsterdam:20180211T170000
DTSTAMP:20260420T065440
CREATED:20180202T201923Z
LAST-MODIFIED:20180202T201923Z
UID:10000907-1518357600-1518368400@www.ezechiel.org
SUMMARY:Zondagse dienst
DESCRIPTION:De zondagse diensten worden gehouden in kerkelijk centrum “De Regenboog”.  Het adres is: Nathaliegang 263\, 2719 CR Zoetermeer (wijk: Rokkeveen). \n\nSpreker: pastor Theo van Heijdoorn
URL:https://www.ezechiel.org/agenda/zondagse-dienst-4/
LOCATION:Gebouw De Regenboog\, Nathaliegang 263\, Zoetermeer\, Zuid-Holland\, 2719 CR\, Nederland
CATEGORIES:Zondagse dienst
ORGANIZER;CN="Gods Gemeente Ezechi%C3%ABl Zoetermeer":MAILTO:info@ezechiel.org
GEO:52.0435067;4.4796195
X-APPLE-STRUCTURED-LOCATION;VALUE=URI;X-ADDRESS=Gebouw De Regenboog Nathaliegang 263 Zoetermeer Zuid-Holland 2719 CR Nederland;X-APPLE-RADIUS=500;X-TITLE=Nathaliegang 263:geo:4.4796195,52.0435067
END:VEVENT
BEGIN:VEVENT
DTSTART;TZID=Europe/Amsterdam:20180208T200000
DTEND;TZID=Europe/Amsterdam:20180208T213000
DTSTAMP:20260420T065440
CREATED:20180202T203252Z
LAST-MODIFIED:20180202T203252Z
UID:10000910-1518120000-1518125400@www.ezechiel.org
SUMMARY:Bijbelstudie en gebedsavond
DESCRIPTION:Deze avonden zullen voor een deel bestaan uit studies\, met verschillende thema’s en onderwerpen. Wij hopen broeders en zusters op deze manier bijbels toe te mogen rusten zodat zij kracht en wijsheid zullen hebben om te kunnen blijven doorgaan in deze vaak lastige en moeilijke tijden. \nHierna zal dan iedere keer genoeg tijd beschikbaar zijn om met elkaar te bidden en te danken voor alle noden die men zal aangegeven en ook voor onze broeders en zusters en alle anderen in de rest van de wereld. \n  \n 
URL:https://www.ezechiel.org/agenda/bijbelstudie-en-gebedsavond-4/
LOCATION:Gebouw Leger des Heils\, Van Lierepad 13\, Zoetermeer\, Zuid-Holland\, 2722 CK\, Nederland
CATEGORIES:Bijbelstudie en gebedsavond
ORGANIZER;CN="Gods Gemeente Ezechi%C3%ABl Zoetermeer":MAILTO:info@ezechiel.org
END:VEVENT
BEGIN:VEVENT
DTSTART;TZID=Europe/Amsterdam:20180204T140000
DTEND;TZID=Europe/Amsterdam:20180204T170000
DTSTAMP:20260420T065440
CREATED:20180202T194456Z
LAST-MODIFIED:20180202T194805Z
UID:10000906-1517752800-1517763600@www.ezechiel.org
SUMMARY:Zondagse dienst
DESCRIPTION:De zondagse diensten worden gehouden in kerkelijk centrum “De Regenboog”.  Het adres is: Nathaliegang 263\, 2719 CR Zoetermeer (wijk: Rokkeveen). \n\nSpreker: pastor Theo van Heijdoorn\nThema: Avondmaal
URL:https://www.ezechiel.org/agenda/zondagse-dienst-3/
LOCATION:Gebouw De Regenboog\, Nathaliegang 263\, Zoetermeer\, Zuid-Holland\, 2719 CR\, Nederland
CATEGORIES:Zondagse dienst
ORGANIZER;CN="Gods Gemeente Ezechi%C3%ABl Zoetermeer":MAILTO:info@ezechiel.org
GEO:52.0435067;4.4796195
X-APPLE-STRUCTURED-LOCATION;VALUE=URI;X-ADDRESS=Gebouw De Regenboog Nathaliegang 263 Zoetermeer Zuid-Holland 2719 CR Nederland;X-APPLE-RADIUS=500;X-TITLE=Nathaliegang 263:geo:4.4796195,52.0435067
END:VEVENT
BEGIN:VEVENT
DTSTART;TZID=Europe/Amsterdam:20171231T140000
DTEND;TZID=Europe/Amsterdam:20171231T170000
DTSTAMP:20260420T065440
CREATED:20171206T015237Z
LAST-MODIFIED:20180115T174342Z
UID:10000905-1514728800-1514739600@www.ezechiel.org
SUMMARY:Zondagse dienst: Eindjaarsbijeenkomst
DESCRIPTION:Locatie: Gebouw De Regenboog \n31 december 2017 14:00 uur \nDe zondagse diensten worden gehouden in het kerkelijk centrum “De Regenboog” \nAdres: Nathaliegang 263\, 2719 CR Zoetermeer (wijk: Rokkeveen). \nAanvang dienst: 14:00 uur \nSpreker: Pastor Theo van Heijdoorn \nKorte eindjaarsbijeenkomst
URL:https://www.ezechiel.org/agenda/zondagse-dienst-eindjaarsbijeenkomst/
LOCATION:Gebouw De Regenboog\, Nathaliegang 263\, Zoetermeer\, Zuid-Holland\, 2719 CR\, Nederland
CATEGORIES:Zondagse dienst
ORGANIZER;CN="Gods Gemeente Ezechi%C3%ABl Zoetermeer":MAILTO:info@ezechiel.org
GEO:52.0435067;4.4796195
X-APPLE-STRUCTURED-LOCATION;VALUE=URI;X-ADDRESS=Gebouw De Regenboog Nathaliegang 263 Zoetermeer Zuid-Holland 2719 CR Nederland;X-APPLE-RADIUS=500;X-TITLE=Nathaliegang 263:geo:4.4796195,52.0435067
END:VEVENT
BEGIN:VEVENT
DTSTART;TZID=Europe/Amsterdam:20171228T200000
DTEND;TZID=Europe/Amsterdam:20171228T200000
DTSTAMP:20260420T065440
CREATED:20171206T015203Z
LAST-MODIFIED:20171206T015203Z
UID:10000904-1514491200-1514491200@www.ezechiel.org
SUMMARY:Bijbelstudie & Gebedsavond
DESCRIPTION:Locatie: Gebouw Leger des Heils \n28 december 2017 20:00 uur \nDeze avonden zullen voor een deel bestaan uit studies met verschillende thema’s en onderwerpen. Wij hopen broeders en zusters op deze manier bijbels toe te mogen rusten zodat zij kracht en wijsheid zullen hebben om te kunnen blijven doorgaan in deze vaak lastige en moeilijke tijden. \nHierna zal dan iedere keer genoeg tijd beschikbaar zijn om met elkaar te bidden en te danken voor alle noden die men zal aangeven en ook voor onze broeders en zusters en alle anderen in de rest van de wereld. \nIedere donderdagavond om 20.00 uur  \nLocatie: Gebouw Leger des Heils\, \nVan Lierepad 13\, 2722 CK Zoetermeer (wijk: Palenstein). \nU bent van harte welkom!
URL:https://www.ezechiel.org/agenda/bijbelstudie-gebedsavond/
LOCATION:Gebouw Leger des Heils\, Van Lierepad 13\, Zoetermeer\, Zuid-Holland\, 2722 CK\, Nederland
CATEGORIES:Bijbelstudie en gebedsavond
ORGANIZER;CN="Gods Gemeente Ezechi%C3%ABl Zoetermeer":MAILTO:info@ezechiel.org
END:VEVENT
BEGIN:VEVENT
DTSTART;TZID=Europe/Amsterdam:20171221T200000
DTEND;TZID=Europe/Amsterdam:20171221T200000
DTSTAMP:20260420T065440
CREATED:20171206T015032Z
LAST-MODIFIED:20171206T015032Z
UID:10000902-1513886400-1513886400@www.ezechiel.org
SUMMARY:Bijbelstudie en gebedsavond
DESCRIPTION:Locatie: Gebouw Leger des Heils \n21 december 2017 20:00 uur \nDeze avonden zullen voor een deel bestaan uit studies met verschillende thema’s en onderwerpen. Wij hopen broeders en zusters op deze manier bijbels toe te mogen rusten zodat zij kracht en wijsheid zullen hebben om te kunnen blijven doorgaan in deze vaak lastige en moeilijke tijden. \nHierna zal dan iedere keer genoeg tijd beschikbaar zijn om met elkaar te bidden en te danken voor alle noden die men zal aangeven en ook voor onze broeders en zusters en alle anderen in de rest van de wereld. \nOnder de pagina “Wat wij geloven” vindt u tevens de gebedsverzoeken en bijbeltekst van de maand. \nTijdstip: Iedere donderdagavond om 20.00 uur  \nLocatie: Gebouw Leger des Heils\, \nVan Lierepad 13\, 2722 CK Zoetermeer (wijk: Palenstein). \nU bent van harte welkom!
URL:https://www.ezechiel.org/agenda/bijbelstudie-en-gebedsavond-3/
LOCATION:Gebouw Leger des Heils\, Van Lierepad 13\, Zoetermeer\, Zuid-Holland\, 2722 CK\, Nederland
CATEGORIES:Bijbelstudie en gebedsavond
ORGANIZER;CN="Gods Gemeente Ezechi%C3%ABl Zoetermeer":MAILTO:info@ezechiel.org
END:VEVENT
BEGIN:VEVENT
DTSTART;TZID=Europe/Amsterdam:20171218T200000
DTEND;TZID=Europe/Amsterdam:20171218T200000
DTSTAMP:20260420T065440
CREATED:20171206T014929Z
LAST-MODIFIED:20171206T014953Z
UID:10000888-1513627200-1513627200@www.ezechiel.org
SUMMARY:Brothers & Sisters Fellowship Meeting
DESCRIPTION:Locatie: Gebouw Leger des Heils \n18 december 2017 20:00 uur \nVoor alle broeders en zusters van Gods Gemeente Ezechiël wordt één keer per jaar een speciale samenkomst georganiseerd o.l.v. pastors Theo en Diana van Heijdoorn. \nU bent van harte welkom en voel u vrij om een broeder en zuster (vriend(in)\, buur(man)vrouw\, collega) mee te nemen! \nDatum: 18 december 2017 \nTijd: 20:00 uur \nLocatie: Gebouw Leger des Heils.
URL:https://www.ezechiel.org/agenda/brothers-sisters-fellowship-meeting/
LOCATION:Gebouw Leger des Heils\, Van Lierepad 13\, Zoetermeer\, Zuid-Holland\, 2722 CK\, Nederland
CATEGORIES:Brothers & Sisters Fellowship Meeting
ORGANIZER;CN="Gods Gemeente Ezechi%C3%ABl Zoetermeer":MAILTO:info@ezechiel.org
END:VEVENT
BEGIN:VEVENT
DTSTART;TZID=Europe/Amsterdam:20171217T140000
DTEND;TZID=Europe/Amsterdam:20171217T170000
DTSTAMP:20260420T065440
CREATED:20171206T014851Z
LAST-MODIFIED:20171206T014851Z
UID:10000889-1513519200-1513530000@www.ezechiel.org
SUMMARY:Zondagse dienst
DESCRIPTION:Locatie: Gebouw De Regenboog \n17 december 2017 14:00 uur \nDe zondagse diensten worden gehouden in het kerkelijk centrum “De Regenboog” \nAdres: Nathaliegang 263\, 2719 CR Zoetermeer (wijk: Rokkeveen). \nAanvang dienst: 14:00 uur \nSpreker: br. Bennett Vasconcellos
URL:https://www.ezechiel.org/agenda/zondagse-dienst-2/
LOCATION:Gebouw De Regenboog\, Nathaliegang 263\, Zoetermeer\, Zuid-Holland\, 2719 CR\, Nederland
CATEGORIES:Zondagse dienst
ORGANIZER;CN="Gods Gemeente Ezechi%C3%ABl Zoetermeer":MAILTO:info@ezechiel.org
GEO:52.0435067;4.4796195
X-APPLE-STRUCTURED-LOCATION;VALUE=URI;X-ADDRESS=Gebouw De Regenboog Nathaliegang 263 Zoetermeer Zuid-Holland 2719 CR Nederland;X-APPLE-RADIUS=500;X-TITLE=Nathaliegang 263:geo:4.4796195,52.0435067
END:VEVENT
BEGIN:VEVENT
DTSTART;TZID=Europe/Amsterdam:20171214T200000
DTEND;TZID=Europe/Amsterdam:20171214T200000
DTSTAMP:20260420T065440
CREATED:20171206T014722Z
LAST-MODIFIED:20171206T014722Z
UID:10000891-1513281600-1513281600@www.ezechiel.org
SUMMARY:Bijbelstudie en gebedsavond
DESCRIPTION:Locatie: Gebouw Leger des Heils \n14 december 2017 20:00 uur \nDeze avonden zullen voor een deel bestaan uit studies met verschillende thema’s en onderwerpen. Wij hopen broeders en zusters op deze manier bijbels toe te mogen rusten zodat zij kracht en wijsheid zullen hebben om te kunnen blijven doorgaan in deze vaak lastige en moeilijke tijden. \nHierna zal dan iedere keer genoeg tijd beschikbaar zijn om met elkaar te bidden en te danken voor alle noden die men zal aangeven en ook voor onze broeders en zusters en alle anderen in de rest van de wereld. \nOnder de pagina “Wat wij geloven” vindt u tevens de gebedsverzoeken en bijbeltekst van de maand. \nIedere donderdagavond om 20.00 uur  \nLocatie: Gebouw Leger des Heils\, \nVan Lierepad 13\, 2722 CK Zoetermeer (wijk: Palenstein). \nU bent van harte welkom!
URL:https://www.ezechiel.org/agenda/bijbelstudie-en-gebedsavond-2/
LOCATION:Gebouw Leger des Heils\, Van Lierepad 13\, Zoetermeer\, Zuid-Holland\, 2722 CK\, Nederland
CATEGORIES:Bijbelstudie en gebedsavond
ORGANIZER;CN="Gods Gemeente Ezechi%C3%ABl Zoetermeer":MAILTO:info@ezechiel.org
END:VEVENT
BEGIN:VEVENT
DTSTART;TZID=Europe/Amsterdam:20171210T140000
DTEND;TZID=Europe/Amsterdam:20171210T170000
DTSTAMP:20260420T065440
CREATED:20171206T014526Z
LAST-MODIFIED:20171206T014526Z
UID:10000893-1512914400-1512925200@www.ezechiel.org
SUMMARY:Zondagse dienst
DESCRIPTION:Locatie: Gebouw De Regenboog \n10 december 2017 14:00 uur \nDe zondagse diensten worden gehouden in het kerkelijk centrum “De Regenboog” \nAdres: Nathaliegang 263\, 2719 CR Zoetermeer (wijk: Rokkeveen). \nAanvang dienst: 14:00 uur \nSpreker: br. Noes Lokollo
URL:https://www.ezechiel.org/agenda/zondagse-dienst/
LOCATION:Gebouw De Regenboog\, Nathaliegang 263\, Zoetermeer\, Zuid-Holland\, 2719 CR\, Nederland
CATEGORIES:Zondagse dienst
ORGANIZER;CN="Gods Gemeente Ezechi%C3%ABl Zoetermeer":MAILTO:info@ezechiel.org
GEO:52.0435067;4.4796195
X-APPLE-STRUCTURED-LOCATION;VALUE=URI;X-ADDRESS=Gebouw De Regenboog Nathaliegang 263 Zoetermeer Zuid-Holland 2719 CR Nederland;X-APPLE-RADIUS=500;X-TITLE=Nathaliegang 263:geo:4.4796195,52.0435067
END:VEVENT
BEGIN:VEVENT
DTSTART;TZID=Europe/Amsterdam:20171207T200000
DTEND;TZID=Europe/Amsterdam:20171207T200000
DTSTAMP:20260420T065440
CREATED:20171205T020656Z
LAST-MODIFIED:20171205T020848Z
UID:10000894-1512676800-1512676800@www.ezechiel.org
SUMMARY:Bijbelstudie en gebedsavond
DESCRIPTION:Locatie: Gebouw Leger des Heils \n7 december 2017 20:00 uur \nDeze avonden zullen voor een deel bestaan uit studies met verschillende thema’s en onderwerpen. Wij hopen broeders en zusters op deze manier bijbels toe te mogen rusten zodat zij kracht en wijsheid zullen hebben om te kunnen blijven doorgaan in deze vaak lastige en moeilijke tijden. \nHierna zal dan iedere keer genoeg tijd beschikbaar zijn om met elkaar te bidden en te danken voor alle noden die men zal aangeven en ook voor onze broeders en zusters en alle anderen in de rest van de wereld. \nOnder de pagina “Wat wij geloven” vindt u tevens de gebedsverzoeken en bijbeltekst van de maand. \nTijdstip: Iedere donderdagavond om 20.00 uur  \nLocatie: Gebouw Leger des Heils\, \nVan Lierepad 13\, 2722 CK Zoetermeer (wijk: Palenstein). \nU bent van harte welkom!
URL:https://www.ezechiel.org/agenda/bijbelstudie-en-gebedsavond/
LOCATION:Gebouw Leger des Heils\, Van Lierepad 13\, Zoetermeer\, Zuid-Holland\, 2722 CK\, Nederland
CATEGORIES:Bijbelstudie en gebedsavond
ORGANIZER;CN="Gods Gemeente Ezechi%C3%ABl Zoetermeer":MAILTO:info@ezechiel.org
END:VEVENT
END:VCALENDAR