BEGIN:VCALENDAR
VERSION:2.0
PRODID:-//Gods Gemeente Ezechiël Zoetermeer - ECPv6.12.0.1//NONSGML v1.0//EN
CALSCALE:GREGORIAN
METHOD:PUBLISH
X-WR-CALNAME:Gods Gemeente Ezechiël Zoetermeer
X-ORIGINAL-URL:https://www.ezechiel.org
X-WR-CALDESC:Evenementen voor Gods Gemeente Ezechiël Zoetermeer
REFRESH-INTERVAL;VALUE=DURATION:PT1H
X-Robots-Tag:noindex
X-PUBLISHED-TTL:PT1H
BEGIN:VTIMEZONE
TZID:Europe/Amsterdam
BEGIN:DAYLIGHT
TZOFFSETFROM:+0100
TZOFFSETTO:+0200
TZNAME:CEST
DTSTART:20250330T010000
END:DAYLIGHT
BEGIN:STANDARD
TZOFFSETFROM:+0200
TZOFFSETTO:+0100
TZNAME:CET
DTSTART:20251026T010000
END:STANDARD
END:VTIMEZONE
BEGIN:VEVENT
DTSTART;TZID=Europe/Amsterdam:20250420T103000
DTEND;TZID=Europe/Amsterdam:20250420T123000
DTSTAMP:20260422T105840
CREATED:20250416T193844Z
LAST-MODIFIED:20250416T194251Z
UID:10001319-1745145000-1745152200@www.ezechiel.org
SUMMARY:Paasviering 20 april 2025 in Wijkcentrum De Vlieger
DESCRIPTION:Hey\, kom je mee naar de kerk? \n\n\nOp zondag 20 april 2025 is het Pasen! Tijdens de Paasviering vieren wij dat Jezus is opgestaan!\nWil je iemand meenemen? Familie\, vrienden\, collega’s\, buren of die ene kennis? Leuk!\nIedereen is welkom \n  10:30 uur (inloop: 10:15 uur)\n Wijkcentrum De Vlieger\, Groen-Blauwlaan 133\, (Rokkeveen) Zoetermeer.
URL:https://www.ezechiel.org/agenda/paasviering-20-april-2025-wijkcentrum-vlieger/
LOCATION:Zuid-Holland
CATEGORIES:Special Event,Zondagse dienst
ORGANIZER;CN="Gods Gemeente Ezechi%C3%ABl Zoetermeer":MAILTO:info@ezechiel.org
END:VEVENT
END:VCALENDAR