BEGIN:VCALENDAR
VERSION:2.0
PRODID:-//Gods Gemeente Ezechiël Zoetermeer - ECPv6.12.0.1//NONSGML v1.0//EN
CALSCALE:GREGORIAN
METHOD:PUBLISH
X-ORIGINAL-URL:https://www.ezechiel.org
X-WR-CALDESC:Evenementen voor Gods Gemeente Ezechiël Zoetermeer
REFRESH-INTERVAL;VALUE=DURATION:PT1H
X-Robots-Tag:noindex
X-PUBLISHED-TTL:PT1H
BEGIN:VTIMEZONE
TZID:Europe/Amsterdam
BEGIN:DAYLIGHT
TZOFFSETFROM:+0100
TZOFFSETTO:+0200
TZNAME:CEST
DTSTART:20230326T010000
END:DAYLIGHT
BEGIN:STANDARD
TZOFFSETFROM:+0200
TZOFFSETTO:+0100
TZNAME:CET
DTSTART:20231029T010000
END:STANDARD
END:VTIMEZONE
BEGIN:VEVENT
DTSTART;TZID=Europe/Amsterdam:20231224T120000
DTEND;TZID=Europe/Amsterdam:20231224T160000
DTSTAMP:20260424T032831
CREATED:20231125T162921Z
LAST-MODIFIED:20231125T162935Z
UID:10000887-1703419200-1703433600@www.ezechiel.org
SUMMARY:Kerstviering 2023 Gods Gemeente Ezechiël
DESCRIPTION:Op 24 december 2023 viert Gods Gemeente Ezechiël Kerst!\n\n\nWij nodigen je graag uit om de komst van onze Here Jezus te herdenken en te vieren. Er is een gezellig en uitgebreid programma met kerstboodschap\, kerstliedjes\, kinderactiviteiten en nog veel meer. Bent je erbij? Geef je dan op via: info@ezechiel.org. Iedereen is welkom en toegang is gratis.\nWij kijken ernaar uit om jullie te verwelkomen.
URL:https://www.ezechiel.org/agenda/kerstviering-2023-gods-gemeente-ezechiel/
LOCATION:Wijkcentrum De Vlieger\, Groenblauwlaan 133\,\, Zoetermeer\, Zuid-Holland\, 2718 GH\, Nederland
CATEGORIES:Kerstviering,Special Event
ORGANIZER;CN="Gods Gemeente Ezechi%C3%ABl Zoetermeer":MAILTO:info@ezechiel.org
END:VEVENT
END:VCALENDAR