BEGIN:VCALENDAR
VERSION:2.0
PRODID:-//Gods Gemeente Ezechiël Zoetermeer - ECPv6.12.0.1//NONSGML v1.0//EN
CALSCALE:GREGORIAN
METHOD:PUBLISH
X-ORIGINAL-URL:https://www.ezechiel.org
X-WR-CALDESC:Evenementen voor Gods Gemeente Ezechiël Zoetermeer
REFRESH-INTERVAL;VALUE=DURATION:PT1H
X-Robots-Tag:noindex
X-PUBLISHED-TTL:PT1H
BEGIN:VTIMEZONE
TZID:Europe/Amsterdam
BEGIN:DAYLIGHT
TZOFFSETFROM:+0100
TZOFFSETTO:+0200
TZNAME:CEST
DTSTART:20170326T010000
END:DAYLIGHT
BEGIN:STANDARD
TZOFFSETFROM:+0200
TZOFFSETTO:+0100
TZNAME:CET
DTSTART:20171029T010000
END:STANDARD
BEGIN:DAYLIGHT
TZOFFSETFROM:+0100
TZOFFSETTO:+0200
TZNAME:CEST
DTSTART:20180325T010000
END:DAYLIGHT
BEGIN:STANDARD
TZOFFSETFROM:+0200
TZOFFSETTO:+0100
TZNAME:CET
DTSTART:20181028T010000
END:STANDARD
BEGIN:DAYLIGHT
TZOFFSETFROM:+0100
TZOFFSETTO:+0200
TZNAME:CEST
DTSTART:20190331T010000
END:DAYLIGHT
BEGIN:STANDARD
TZOFFSETFROM:+0200
TZOFFSETTO:+0100
TZNAME:CET
DTSTART:20191027T010000
END:STANDARD
BEGIN:DAYLIGHT
TZOFFSETFROM:+0100
TZOFFSETTO:+0200
TZNAME:CEST
DTSTART:20200329T010000
END:DAYLIGHT
BEGIN:STANDARD
TZOFFSETFROM:+0200
TZOFFSETTO:+0100
TZNAME:CET
DTSTART:20201025T010000
END:STANDARD
END:VTIMEZONE
BEGIN:VEVENT
DTSTART;TZID=Europe/Amsterdam:20200127T200000
DTEND;TZID=Europe/Amsterdam:20200127T220000
DTSTAMP:20260420T115052
CREATED:20200108T172954Z
LAST-MODIFIED:20200108T172954Z
UID:10000816-1580155200-1580162400@www.ezechiel.org
SUMMARY:Vrouwensamenkomst: Women to Women
DESCRIPTION:Voor alle zusters van Gods Gemeente Ezechiël wordt één keer per maand een speciale samenkomst georganiseerd o.l.v. pastora Diana van Heijdoorn. U bent van harte welkom en voel u vrij om een zuster (vriendin\, buurvrouw\, collega) mee te nemen! \nWaar en wanneer?: Maandagavond 27 januari om 20:00 uur in de Regenboogkerk
URL:https://www.ezechiel.org/agenda/vrouwensamenkomst-women-to-women-15/
LOCATION:Gebouw De Regenboog\, Nathaliegang 263\, Zoetermeer\, Zuid-Holland\, 2719 CR\, Nederland
CATEGORIES:Vrouwenavond
ORGANIZER;CN="Gods Gemeente Ezechi%C3%ABl Zoetermeer":MAILTO:info@ezechiel.org
GEO:52.0435067;4.4796195
X-APPLE-STRUCTURED-LOCATION;VALUE=URI;X-ADDRESS=Gebouw De Regenboog Nathaliegang 263 Zoetermeer Zuid-Holland 2719 CR Nederland;X-APPLE-RADIUS=500;X-TITLE=Nathaliegang 263:geo:4.4796195,52.0435067
END:VEVENT
BEGIN:VEVENT
DTSTART;TZID=Europe/Amsterdam:20191125T200000
DTEND;TZID=Europe/Amsterdam:20191125T213000
DTSTAMP:20260420T115052
CREATED:20191116T111521Z
LAST-MODIFIED:20191116T111521Z
UID:10001046-1574712000-1574717400@www.ezechiel.org
SUMMARY:Vrouwensamenkomst: Women to Women
DESCRIPTION:Voor alle zusters van Gods Gemeente Ezechiël wordt één keer per maand een speciale samenkomst  georganiseerd o.l.v. pastora Diana van Heijdoorn. U bent van harte welkom en voel u vrij om een zuster (vriendin\, buurvrouw\, collega) mee te nemen! \nDatum: maandag 25 november 2019 \nTijdstip: 20:00 uur in gebouw De Regenboog
URL:https://www.ezechiel.org/agenda/vrouwensamenkomst-women-to-women-14/
LOCATION:Gebouw De Regenboog\, Nathaliegang 263\, Zoetermeer\, Zuid-Holland\, 2719 CR\, Nederland
CATEGORIES:Vrouwenavond
ORGANIZER;CN="Gods Gemeente Ezechi%C3%ABl Zoetermeer":MAILTO:info@ezechiel.org
GEO:52.0435067;4.4796195
X-APPLE-STRUCTURED-LOCATION;VALUE=URI;X-ADDRESS=Gebouw De Regenboog Nathaliegang 263 Zoetermeer Zuid-Holland 2719 CR Nederland;X-APPLE-RADIUS=500;X-TITLE=Nathaliegang 263:geo:4.4796195,52.0435067
END:VEVENT
BEGIN:VEVENT
DTSTART;TZID=Europe/Amsterdam:20191028T200000
DTEND;TZID=Europe/Amsterdam:20191028T213000
DTSTAMP:20260420T115052
CREATED:20191001T140630Z
LAST-MODIFIED:20191001T140630Z
UID:10001055-1572292800-1572298200@www.ezechiel.org
SUMMARY:Vrouwensamenkomst Women to Women
DESCRIPTION:Voor alle zusters van Gods Gemeente Ezechiël wordt één keer per maand een speciale samenkomst georganiseerd o.l.v. pastora Diana van Heijdoorn. U bent van harte welkom en voel u vrij om een zuster (vriendin\, buurvrouw\, collega) mee te nemen! \nMaandagavond 28 oktober 2019 om 20:00 uur in de Regenboogkerk 
URL:https://www.ezechiel.org/agenda/vrouwensamenkomst-women-to-women-13/
LOCATION:Gebouw De Regenboog\, Nathaliegang 263\, Zoetermeer\, Zuid-Holland\, 2719 CR\, Nederland
CATEGORIES:Vrouwenavond
ORGANIZER;CN="Gods Gemeente Ezechi%C3%ABl Zoetermeer":MAILTO:info@ezechiel.org
GEO:52.0435067;4.4796195
X-APPLE-STRUCTURED-LOCATION;VALUE=URI;X-ADDRESS=Gebouw De Regenboog Nathaliegang 263 Zoetermeer Zuid-Holland 2719 CR Nederland;X-APPLE-RADIUS=500;X-TITLE=Nathaliegang 263:geo:4.4796195,52.0435067
END:VEVENT
BEGIN:VEVENT
DTSTART;TZID=Europe/Amsterdam:20190930T200000
DTEND;TZID=Europe/Amsterdam:20190930T213000
DTSTAMP:20260420T115052
CREATED:20190911T155751Z
LAST-MODIFIED:20190911T155751Z
UID:10000368-1569873600-1569879000@www.ezechiel.org
SUMMARY:Vrouwensamenkomst
DESCRIPTION:Voor alle zusters van Gods Gemeente Ezechiël wordt één keer per maand een speciale samenkomst georganiseerd o.l.v. pastora Diana van Heijdoorn. U bent van harte welkom en voel u vrij om een zuster (vriendin\, buurvrouw\, collega) mee te nemen! \nMaandagavond 30 september 2019 om 20:00 uur in de Regenboogkerk \n 
URL:https://www.ezechiel.org/agenda/vrouwensamenkomst/
LOCATION:Gebouw De Regenboog\, Nathaliegang 263\, Zoetermeer\, Zuid-Holland\, 2719 CR\, Nederland
CATEGORIES:Vrouwenavond
ORGANIZER;CN="Gods Gemeente Ezechi%C3%ABl Zoetermeer":MAILTO:info@ezechiel.org
GEO:52.0435067;4.4796195
X-APPLE-STRUCTURED-LOCATION;VALUE=URI;X-ADDRESS=Gebouw De Regenboog Nathaliegang 263 Zoetermeer Zuid-Holland 2719 CR Nederland;X-APPLE-RADIUS=500;X-TITLE=Nathaliegang 263:geo:4.4796195,52.0435067
END:VEVENT
BEGIN:VEVENT
DTSTART;TZID=Europe/Amsterdam:20190624T200000
DTEND;TZID=Europe/Amsterdam:20190624T220000
DTSTAMP:20260420T115052
CREATED:20190603T193841Z
LAST-MODIFIED:20190603T193841Z
UID:10000351-1561406400-1561413600@www.ezechiel.org
SUMMARY:Vrouwensamenkomst Women to Women
DESCRIPTION:Voor alle zusters van Gods Gemeente Ezechiël wordt één keer per maand een speciale samenkomst georganiseerd o.l.v. pastora Diana van Heijdoorn. U bent van harte welkom en voel u vrij om een zuster (vriendin\, buurvrouw\, collega) mee te nemen! \nDatum: maandagavond 24 juni om 20:00 uur  \nLocatie: De Regenboogkerk\, Nathaliegang 263\, 2719 CR Zoetermeer (Rokkeveen)
URL:https://www.ezechiel.org/agenda/vrouwensamenkomst-women-to-women-12/
LOCATION:Gebouw De Regenboog\, Nathaliegang 263\, Zoetermeer\, Zuid-Holland\, 2719 CR\, Nederland
CATEGORIES:Vrouwenavond
ORGANIZER;CN="Gods Gemeente Ezechi%C3%ABl Zoetermeer":MAILTO:info@ezechiel.org
GEO:52.0435067;4.4796195
X-APPLE-STRUCTURED-LOCATION;VALUE=URI;X-ADDRESS=Gebouw De Regenboog Nathaliegang 263 Zoetermeer Zuid-Holland 2719 CR Nederland;X-APPLE-RADIUS=500;X-TITLE=Nathaliegang 263:geo:4.4796195,52.0435067
END:VEVENT
BEGIN:VEVENT
DTSTART;TZID=Europe/Amsterdam:20190527T200000
DTEND;TZID=Europe/Amsterdam:20190527T220000
DTSTAMP:20260420T115052
CREATED:20190410T150133Z
LAST-MODIFIED:20190510T201918Z
UID:10000349-1558987200-1558994400@www.ezechiel.org
SUMMARY:Vrouwensamenkomst Women to Women
DESCRIPTION:Voor alle zusters van Gods Gemeente Ezechiël wordt één keer per maand een speciale samenkomst georganiseerd o.l.v. pastora Diana van Heijdoorn. U bent van harte welkom en voel u vrij om een zuster (vriendin\, buurvrouw\, collega) mee te nemen! \nDatum: maandagavond 27 mei om 20:00 uur  \nLocatie: De Regenboogkerk
URL:https://www.ezechiel.org/agenda/vrouwensamenkomst-women-to-women-11/
LOCATION:Gebouw De Regenboog\, Nathaliegang 263\, Zoetermeer\, Zuid-Holland\, 2719 CR\, Nederland
CATEGORIES:Vrouwenavond
ORGANIZER;CN="Gods Gemeente Ezechi%C3%ABl Zoetermeer":MAILTO:info@ezechiel.org
GEO:52.0435067;4.4796195
X-APPLE-STRUCTURED-LOCATION;VALUE=URI;X-ADDRESS=Gebouw De Regenboog Nathaliegang 263 Zoetermeer Zuid-Holland 2719 CR Nederland;X-APPLE-RADIUS=500;X-TITLE=Nathaliegang 263:geo:4.4796195,52.0435067
END:VEVENT
BEGIN:VEVENT
DTSTART;TZID=Europe/Amsterdam:20190325T200000
DTEND;TZID=Europe/Amsterdam:20190325T220000
DTSTAMP:20260420T115052
CREATED:20190313T181848Z
LAST-MODIFIED:20190313T181950Z
UID:10000809-1553544000-1553551200@www.ezechiel.org
SUMMARY:Vrouwensamenkomst Women to Women
DESCRIPTION:Voor alle zusters van Gods Gemeente Ezechiël wordt één keer per maand een speciale samenkomst georganiseerd o.l.v. pastora Diana van Heijdoorn. U bent van harte welkom en voel u vrij om een zuster\n(vriendin\, buurvrouw\, collega) mee te nemen! \nDatum: maandagavond 25 maart 2019 om 20:00 uur \nAdres: Regenboogkerk\, Nathaliegang 263\, 2719 CR Zoetermeer \n 
URL:https://www.ezechiel.org/agenda/vrouwensamenkomst-women-to-women-10/
LOCATION:Gebouw De Regenboog\, Nathaliegang 263\, Zoetermeer\, Zuid-Holland\, 2719 CR\, Nederland
CATEGORIES:Vrouwenavond
ORGANIZER;CN="Gods Gemeente Ezechi%C3%ABl Zoetermeer":MAILTO:info@ezechiel.org
GEO:52.0435067;4.4796195
X-APPLE-STRUCTURED-LOCATION;VALUE=URI;X-ADDRESS=Gebouw De Regenboog Nathaliegang 263 Zoetermeer Zuid-Holland 2719 CR Nederland;X-APPLE-RADIUS=500;X-TITLE=Nathaliegang 263:geo:4.4796195,52.0435067
END:VEVENT
BEGIN:VEVENT
DTSTART;TZID=Europe/Amsterdam:20190218T200000
DTEND;TZID=Europe/Amsterdam:20190218T220000
DTSTAMP:20260420T115052
CREATED:20190205T200556Z
LAST-MODIFIED:20190205T200556Z
UID:10000808-1550520000-1550527200@www.ezechiel.org
SUMMARY:Vrouwensamenkomst Women to Women
DESCRIPTION:Voor alle zusters van Gods Gemeente Ezechiël wordt één keer per maand een speciale samenkomst georganiseerd o.l.v. pastora Diana van Heijdoorn. U bent van harte welkom en voel u vrij om een zuster\n(vriendin\, buurvrouw\, collega) mee te nemen! \nDatum: maandagavond 18 februari om 20:00 uur \nAdres: Regenboogkerk\, Nathaliegang 263\, 2719 CR Zoetermeer \n 
URL:https://www.ezechiel.org/agenda/vrouwensamenkomst-women-to-women-9/
LOCATION:Gebouw De Regenboog\, Nathaliegang 263\, Zoetermeer\, Zuid-Holland\, 2719 CR\, Nederland
CATEGORIES:Vrouwenavond
ORGANIZER;CN="Gods Gemeente Ezechi%C3%ABl Zoetermeer":MAILTO:info@ezechiel.org
GEO:52.0435067;4.4796195
X-APPLE-STRUCTURED-LOCATION;VALUE=URI;X-ADDRESS=Gebouw De Regenboog Nathaliegang 263 Zoetermeer Zuid-Holland 2719 CR Nederland;X-APPLE-RADIUS=500;X-TITLE=Nathaliegang 263:geo:4.4796195,52.0435067
END:VEVENT
BEGIN:VEVENT
DTSTART;TZID=Europe/Amsterdam:20190128T200000
DTEND;TZID=Europe/Amsterdam:20190128T220000
DTSTAMP:20260420T115052
CREATED:20190123T154818Z
LAST-MODIFIED:20190123T154818Z
UID:10000346-1548705600-1548712800@www.ezechiel.org
SUMMARY:Vrouwensamenkomst Women to Women
DESCRIPTION:Voor alle zusters van Gods Gemeente Ezechiël wordt één keer per maand een speciale samenkomst georganiseerd o.l.v. pastora Diana van Heijdoorn. U bent van harte welkom en voel u vrij om een zuster\n(vriendin\, buurvrouw\, collega) mee te nemen! \nDatum: maandagavond  28 januari  2019 om 20:00 uur bij locatie de Regenboogkerk\, Nathaliegang 263\, 2719 CR Zoetermeer (Rokkeveen)
URL:https://www.ezechiel.org/agenda/vrouwensamenkomst-women-to-women-8/
LOCATION:Gebouw De Regenboog\, Nathaliegang 263\, Zoetermeer\, Zuid-Holland\, 2719 CR\, Nederland
CATEGORIES:Vrouwenavond
ORGANIZER;CN="Gods Gemeente Ezechi%C3%ABl Zoetermeer":MAILTO:info@ezechiel.org
GEO:52.0435067;4.4796195
X-APPLE-STRUCTURED-LOCATION;VALUE=URI;X-ADDRESS=Gebouw De Regenboog Nathaliegang 263 Zoetermeer Zuid-Holland 2719 CR Nederland;X-APPLE-RADIUS=500;X-TITLE=Nathaliegang 263:geo:4.4796195,52.0435067
END:VEVENT
BEGIN:VEVENT
DTSTART;TZID=Europe/Amsterdam:20181126T200000
DTEND;TZID=Europe/Amsterdam:20181126T220000
DTSTAMP:20260420T115052
CREATED:20181105T150216Z
LAST-MODIFIED:20181105T150216Z
UID:10000340-1543262400-1543269600@www.ezechiel.org
SUMMARY:Vrouwensamenkomst Women to Women
DESCRIPTION:Voor alle zusters van Gods Gemeente Ezechiël wordt één keer per maand een speciale samenkomst georganiseerd o.l.v. pastora Diana van Heijdoorn. U bent van harte welkom en voel u vrij om een zuster\n(vriendin\, buurvrouw\, collega) mee te nemen! \nDatum: maandag 26 november 2018 om 20:00 uur bij Gebouw Leger des Heils\, van Lierepad 13\, Zoetermeer (wijk: Palenstein)
URL:https://www.ezechiel.org/agenda/vrouwensamenkomst-women-to-women-7/
LOCATION:Gebouw Leger des Heils\, Van Lierepad 13\, Zoetermeer\, Zuid-Holland\, 2722 CK\, Nederland
CATEGORIES:Vrouwenavond
ORGANIZER;CN="Gods Gemeente Ezechi%C3%ABl Zoetermeer":MAILTO:info@ezechiel.org
END:VEVENT
BEGIN:VEVENT
DTSTART;TZID=Europe/Amsterdam:20181029T200000
DTEND;TZID=Europe/Amsterdam:20181029T213000
DTSTAMP:20260420T115052
CREATED:20181002T193508Z
LAST-MODIFIED:20181002T193523Z
UID:10000339-1540843200-1540848600@www.ezechiel.org
SUMMARY:Vrouwensamenkomst Women to Women
DESCRIPTION:Voor alle zusters van Gods Gemeente Ezechiël wordt één keer per maand een speciale bijeenkomst georganiseerd o.l.v. pastora Diana van Heijdoorn. U bent van harte welkom en voel u vrij om een zuster (vriendin\, buurvrouw\, collega) mee te nemen. \n\nDatum:  maandag 29 oktober 2018\nTijd:  20:00 uur\nLocatie: Gebouw Leger des Heils\, Van Lierepad 13\, Zoetermeer (wijk Palenstein)
URL:https://www.ezechiel.org/agenda/vrouwensamenkomst-women-to-women-6/
LOCATION:Gebouw Leger des Heils\, Van Lierepad 13\, Zoetermeer\, Zuid-Holland\, 2722 CK\, Nederland
CATEGORIES:Vrouwenavond
ORGANIZER;CN="Gods Gemeente Ezechi%C3%ABl Zoetermeer":MAILTO:info@ezechiel.org
END:VEVENT
BEGIN:VEVENT
DTSTART;TZID=Europe/Amsterdam:20180917T200000
DTEND;TZID=Europe/Amsterdam:20180917T213000
DTSTAMP:20260420T115052
CREATED:20180913T105709Z
LAST-MODIFIED:20180913T105709Z
UID:10000338-1537214400-1537219800@www.ezechiel.org
SUMMARY:Vrouwensamenkomst Women to Women
DESCRIPTION:Voor alle zusters van Gods Gemeente Ezechiël wordt één keer per maand een speciale bijeenkomst georganiseerd o.l.v. pastora Diana van Heijdoorn. U bent van harte welkom en voel u vrij om een zuster (vriendin\, buurvrouw\, collega) mee te nemen. \nDatum: maandag 17 september 2018\nTijd: 20:00 uur\nLocatie: Gebouw Leger des Heils\, van Lierepad 13\, Zoetermeer. (wijk: Palenstein).
URL:https://www.ezechiel.org/agenda/vrouwensamenkomst-women-to-women-5/
LOCATION:Gebouw Leger des Heils\, Van Lierepad 13\, Zoetermeer\, Zuid-Holland\, 2722 CK\, Nederland
CATEGORIES:Vrouwenavond
ORGANIZER;CN="Gods Gemeente Ezechi%C3%ABl Zoetermeer":MAILTO:info@ezechiel.org
END:VEVENT
BEGIN:VEVENT
DTSTART;TZID=Europe/Amsterdam:20180730T200000
DTEND;TZID=Europe/Amsterdam:20180730T220000
DTSTAMP:20260420T115052
CREATED:20180702T175437Z
LAST-MODIFIED:20180702T175437Z
UID:10000769-1532980800-1532988000@www.ezechiel.org
SUMMARY:Vrouwensamenkomst Women to Women
DESCRIPTION:Voor alle zusters van Gods Gemeente Ezechiël wordt één keer per maand een speciale bijeenkomst georganiseerd o.l.v. pastora Diana van Heijdoorn. U bent van harte welkom en voel u vrij om een zuster (vriendin\, buurvrouw\, collega) mee te nemen. \nDatum: maandag 30 juli 2018\nTijd: 20:00 uur\nLocatie: Gebouw Leger des Heils\, van Lierepad 13\, Zoetermeer. (wijk: Palenstein).
URL:https://www.ezechiel.org/agenda/vrouwensamenkomst-women-to-women-4/
LOCATION:Gebouw Leger des Heils\, Van Lierepad 13\, Zoetermeer\, Zuid-Holland\, 2722 CK\, Nederland
CATEGORIES:Vrouwenavond
ORGANIZER;CN="Gods Gemeente Ezechi%C3%ABl Zoetermeer":MAILTO:info@ezechiel.org
END:VEVENT
BEGIN:VEVENT
DTSTART;TZID=Europe/Amsterdam:20180625T200000
DTEND;TZID=Europe/Amsterdam:20180625T220000
DTSTAMP:20260420T115052
CREATED:20180504T192452Z
LAST-MODIFIED:20180602T205546Z
UID:10000962-1529956800-1529964000@www.ezechiel.org
SUMMARY:Vrouwensamenkomst Women to Women
DESCRIPTION:Voor alle zusters van Gods Gemeente Ezechiël wordt één keer per maand een speciale bijeenkomst georganiseerd o.l.v. pastora Diana van Heijdoorn. U bent van harte welkom en voel u vrij om een zuster (vriendin\, buurvrouw\, collega) mee te nemen. \n\nDatum: maandag 25 juni 2018\nTijd: 20:00 uur\nLocatie: Gebouw Leger des Heils\, van Lierepad 13\, Zoetermeer. (wijk: Palenstein).
URL:https://www.ezechiel.org/agenda/vrouwensamenkomst-women-to-women-3/
LOCATION:Zoetermeer\, Zuid-Holland\, Nederland
CATEGORIES:Vrouwenavond
ORGANIZER;CN="Gods Gemeente Ezechi%C3%ABl Zoetermeer":MAILTO:info@ezechiel.org
END:VEVENT
BEGIN:VEVENT
DTSTART;TZID=Europe/Amsterdam:20180430T200000
DTEND;TZID=Europe/Amsterdam:20180430T220000
DTSTAMP:20260420T115052
CREATED:20180330T172809Z
LAST-MODIFIED:20180330T172809Z
UID:10000956-1525118400-1525125600@www.ezechiel.org
SUMMARY:Vrouwensamenkomst Women to Women
DESCRIPTION:Voor alle zusters van Gods Gemeente Ezechiël wordt één keer per maand een speciale bijeenkomst georganiseerd o.l.v. pastora Diana van Heijdoorn. U bent van harte welkom en voel u vrij om een zuster (vriendin\, buurvrouw\, collega) mee te nemen. \n\nDatum: 30 april 2018\nTijd: 20:00 uur\nLocatie: Gebouw Leger des Heils\, van Lierepad 13\, Zoetermeer. (wijk: Palenstein).
URL:https://www.ezechiel.org/agenda/vrouwensamenkomst-women-to-women-2/
LOCATION:Gebouw Leger des Heils\, Van Lierepad 13\, Zoetermeer\, Zuid-Holland\, 2722 CK\, Nederland
CATEGORIES:Vrouwenavond
ORGANIZER;CN="Gods Gemeente Ezechi%C3%ABl Zoetermeer":MAILTO:info@ezechiel.org
END:VEVENT
BEGIN:VEVENT
DTSTART;TZID=Europe/Amsterdam:20180326T200000
DTEND;TZID=Europe/Amsterdam:20180326T220000
DTSTAMP:20260420T115052
CREATED:20180304T220251Z
LAST-MODIFIED:20180306T165519Z
UID:10000950-1522094400-1522101600@www.ezechiel.org
SUMMARY:Women to Women
DESCRIPTION:Vrouwensamenkomst: Voor alle zusters van Gods Gemeente Ezechiël wordt één keer per maand een speciale samenkomst georganiseerd o.l.v. pastora Diana van Heijdoorn. U bent van harte welkom en voel u vrij om een zuster (vriendin\, buurvrouw\, collega) mee te nemen!
URL:https://www.ezechiel.org/agenda/vrouwensamenkomst-women-to-women/
LOCATION:Gebouw Leger des Heils\, Van Lierepad 13\, Zoetermeer\, Zuid-Holland\, 2722 CK\, Nederland
CATEGORIES:Vrouwenavond
ORGANIZER;CN="Gods Gemeente Ezechi%C3%ABl Zoetermeer":MAILTO:info@ezechiel.org
END:VEVENT
BEGIN:VEVENT
DTSTART;VALUE=DATE:20180228
DTEND;VALUE=DATE:20180301
DTSTAMP:20260420T115052
CREATED:20180202T210458Z
LAST-MODIFIED:20180202T210458Z
UID:10000914-1519776000-1519862399@www.ezechiel.org
SUMMARY:Men to Men
DESCRIPTION:Voor alle mannen van Gods Gemeente Ezechiël wordt één keer per maand een speciale bijeenkomst gehouden.                         U bent van harte welkom en voel u vrij om een broeder (vriend\, buurman\, of collega mee te nemen! \n\nDatum: 28 februari 2018\nLocatie: N.N.B.\nHet exacte tijdstip zal in de loop van de maand worden toegevoegd!
URL:https://www.ezechiel.org/agenda/men-to-men/
LOCATION:Zuid-Holland
CATEGORIES:Mannenavond
ORGANIZER;CN="Gods Gemeente Ezechi%C3%ABl Zoetermeer":MAILTO:info@ezechiel.org
END:VEVENT
BEGIN:VEVENT
DTSTART;TZID=Europe/Amsterdam:20180226T200000
DTEND;TZID=Europe/Amsterdam:20180226T213000
DTSTAMP:20260420T115052
CREATED:20180202T210127Z
LAST-MODIFIED:20180202T210127Z
UID:10000913-1519675200-1519680600@www.ezechiel.org
SUMMARY:Women to Women
DESCRIPTION:Voor alle zusters van Gods Gemeente Ezechiël wordt één keer per maand een speciale samenkomst georganiseerd o.l.v. pastora Diana van Heijdoorn. U bent van harte welkom en voel u vrij om een zuster (vriendin\, buurvrouw\, collega) mee te nemen! \n\nAanvang: 20:00 uur\nLocatie: Gebouw Leger des Heils\, Van Lierepad 13\, Zoetermeer (wijk Palenstein)\n\n 
URL:https://www.ezechiel.org/agenda/women-to-women/
LOCATION:Gebouw Leger des Heils\, Van Lierepad 13\, Zoetermeer\, Zuid-Holland\, 2722 CK\, Nederland
CATEGORIES:Vrouwenavond
ORGANIZER;CN="Gods Gemeente Ezechi%C3%ABl Zoetermeer":MAILTO:info@ezechiel.org
END:VEVENT
BEGIN:VEVENT
DTSTART;TZID=Europe/Amsterdam:20171218T200000
DTEND;TZID=Europe/Amsterdam:20171218T200000
DTSTAMP:20260420T115052
CREATED:20171206T014929Z
LAST-MODIFIED:20171206T014953Z
UID:10000888-1513627200-1513627200@www.ezechiel.org
SUMMARY:Brothers & Sisters Fellowship Meeting
DESCRIPTION:Locatie: Gebouw Leger des Heils \n18 december 2017 20:00 uur \nVoor alle broeders en zusters van Gods Gemeente Ezechiël wordt één keer per jaar een speciale samenkomst georganiseerd o.l.v. pastors Theo en Diana van Heijdoorn. \nU bent van harte welkom en voel u vrij om een broeder en zuster (vriend(in)\, buur(man)vrouw\, collega) mee te nemen! \nDatum: 18 december 2017 \nTijd: 20:00 uur \nLocatie: Gebouw Leger des Heils.
URL:https://www.ezechiel.org/agenda/brothers-sisters-fellowship-meeting/
LOCATION:Gebouw Leger des Heils\, Van Lierepad 13\, Zoetermeer\, Zuid-Holland\, 2722 CK\, Nederland
CATEGORIES:Brothers & Sisters Fellowship Meeting
ORGANIZER;CN="Gods Gemeente Ezechi%C3%ABl Zoetermeer":MAILTO:info@ezechiel.org
END:VEVENT
END:VCALENDAR